BEGIN:VCALENDAR
VERSION:2.0
PRODID:-//Werbekreis Burlo und Borkenwirthe - ECPv6.15.18//NONSGML v1.0//EN
CALSCALE:GREGORIAN
METHOD:PUBLISH
X-ORIGINAL-URL:https://www.burlo-borkenwirthe.de
X-WR-CALDESC:Veranstaltungen für Werbekreis Burlo und Borkenwirthe
REFRESH-INTERVAL;VALUE=DURATION:PT1H
X-Robots-Tag:noindex
X-PUBLISHED-TTL:PT1H
BEGIN:VTIMEZONE
TZID:Europe/Berlin
BEGIN:DAYLIGHT
TZOFFSETFROM:+0100
TZOFFSETTO:+0200
TZNAME:CEST
DTSTART:20220327T010000
END:DAYLIGHT
BEGIN:STANDARD
TZOFFSETFROM:+0200
TZOFFSETTO:+0100
TZNAME:CET
DTSTART:20221030T010000
END:STANDARD
BEGIN:DAYLIGHT
TZOFFSETFROM:+0100
TZOFFSETTO:+0200
TZNAME:CEST
DTSTART:20230326T010000
END:DAYLIGHT
BEGIN:STANDARD
TZOFFSETFROM:+0200
TZOFFSETTO:+0100
TZNAME:CET
DTSTART:20231029T010000
END:STANDARD
BEGIN:DAYLIGHT
TZOFFSETFROM:+0100
TZOFFSETTO:+0200
TZNAME:CEST
DTSTART:20240331T010000
END:DAYLIGHT
BEGIN:STANDARD
TZOFFSETFROM:+0200
TZOFFSETTO:+0100
TZNAME:CET
DTSTART:20241027T010000
END:STANDARD
BEGIN:DAYLIGHT
TZOFFSETFROM:+0100
TZOFFSETTO:+0200
TZNAME:CEST
DTSTART:20250330T010000
END:DAYLIGHT
BEGIN:STANDARD
TZOFFSETFROM:+0200
TZOFFSETTO:+0100
TZNAME:CET
DTSTART:20251026T010000
END:STANDARD
END:VTIMEZONE
BEGIN:VEVENT
DTSTART;TZID=Europe/Berlin:20240630T110000
DTEND;TZID=Europe/Berlin:20240630T110000
DTSTAMP:20260419T172658
CREATED:20240615T140713Z
LAST-MODIFIED:20240615T140713Z
UID:10004711-1719745200-1719745200@www.burlo-borkenwirthe.de
SUMMARY:RSV - Sommerfest für Ehrenamtliche Helfer
DESCRIPTION:Wir würden euch und eure Familien daher zum diesjährigen Helfer-Trainer und Betreuer Fest einladen. Hiermit sind also alle Personen gemeint die Funktionsträger im Verein sind oder Aufgaben übernehmen die für die Vereinsarbeit nicht wegzudenken sind. Die jeweilige Abteilung entscheidet selber\, wen Sie dafür mit einladen möchte. An diesem Tag wollen wir gerne ein paar Stunden zusammen verbringen. Mit im Eintrittspreis enthalten ist auch folgendes: Je 4 Lose für die große Tombola an diesem Tag. Mit Preisen im Wert von mehren tausend Euro. Wenn das mal nichts ist ! \nTermin: 30.06.2024\nin der Zeit von 11 – 18 Uhr.\nKeine Angst\, wir schmeißen keine danach direkt raus. \nWo: Vereinsheim Burlo auf dem Michael Demming Platz\nWer: Helfer-Trainer und Betreuer + Anhang.\n(Kinder bis 14 Jahre haben freien Eintritt) \nAnmeldung:\nBis zum 22.06.2024 (spätester Anmeldetermin) über die Zahlung von 10 € / Person.\nDarin enthalten sind bereits 4 Lose für die Tombola. \nZusätzlich gerne über die RSV APP anmelden für das Event. \nBezahlung:\nBitte nutzt vorranging den Möglichkeit über PayPal zu zahlen.\nHierfür einfach den QR Code scannen\noder die Paypal Mailadresse events@rsv-borken.de verwenden. \nWer unbedingt überweisen möchte nutzt bitte folgendes Konto:\nDE 42 4286 1387 0200 3774 01\nVerwendungszweck:\nAnmeldung Helferfest + eure Namen \nZahlen könnt ihr mit am Besten über den QR Code.Anmeldeschluss \nTermin: So\, 30.06.2024 ab 11.00 Uhr /\nOrt: Sportanlage in Burlo \nWeitere Infos und Zahlmöglichkeit hier. \n 
URL:https://www.burlo-borkenwirthe.de/event/rsv-sommerfest-fuer-ehrenamtliche-helfer/
LOCATION:RSV Vereinsheim Burlo\, Vennebülten 3\, Borken-Burlo\, 46325\, Germany
ATTACH;FMTTYPE=image/jpeg:https://www.burlo-borkenwirthe.de/wp-content/uploads/2024/06/RSV_Sommerfest2024.jpg
END:VEVENT
BEGIN:VEVENT
DTSTART;TZID=Europe/Berlin:20231126T110000
DTEND;TZID=Europe/Berlin:20231126T110000
DTSTAMP:20260419T172658
CREATED:20231118T134654Z
LAST-MODIFIED:20231118T134715Z
UID:10004455-1700996400-1700996400@www.burlo-borkenwirthe.de
SUMMARY:Mitgliederversammlung RSV Borken 22 e. V.
DESCRIPTION:Am Sonntag\, dem 26. November 2023\, wollen wir uns um 11:00 Uhr im Vereinsheim Burlo zu einer Mitgliederversammlung treffen. \nTagesordnung: \n\nBegrüßung\nJahresberichte aus den Abteilungen\nRechnungsbericht der Kassiererinnen\nHaushaltsplan\nBericht der Kassenprüfer/innen\nEntlastung des Vorstands\nWahl der neuen Kassenprüfer/innen\nNeuwahlen gemäß Satzung § 11 Ziffer 3\n(zur Wahl stehen diesmal: Kassierer/innen\, stellv. Vorsitzende\, stellv. Geschäftsführer)\nAnträge\nVerschiedenes\n\nAnträge für die Mitgliederversammlung sind spätestens drei Wochen vor der Sitzung beim 1. Vorsitzenden oder den stellvertretenden Vorsitzenden schriftlich zu stellen und zu begründen. \nWir bitten um zahlreiches Erscheinen. \nMit sportlichen Grüßen für den RSV Borken 22 e. V. \nDer Vorstand \n 
URL:https://www.burlo-borkenwirthe.de/event/mitgliederversammlung-rsv-borken-22-e-v/
LOCATION:RSV Vereinsheim Burlo\, Vennebülten 3\, Borken-Burlo\, 46325\, Germany
CATEGORIES:Nicht öffentlich,Versammlungen
ATTACH;FMTTYPE=image/png:https://www.burlo-borkenwirthe.de/wp-content/uploads/2022/10/rsv-borken-22.png
END:VEVENT
END:VCALENDAR