BEGIN:VCALENDAR
VERSION:2.0
PRODID:-//Werbekreis Burlo und Borkenwirthe - ECPv6.15.18//NONSGML v1.0//EN
CALSCALE:GREGORIAN
METHOD:PUBLISH
X-ORIGINAL-URL:https://www.burlo-borkenwirthe.de
X-WR-CALDESC:Veranstaltungen für Werbekreis Burlo und Borkenwirthe
REFRESH-INTERVAL;VALUE=DURATION:PT1H
X-Robots-Tag:noindex
X-PUBLISHED-TTL:PT1H
BEGIN:VTIMEZONE
TZID:Europe/Berlin
BEGIN:DAYLIGHT
TZOFFSETFROM:+0100
TZOFFSETTO:+0200
TZNAME:CEST
DTSTART:20210328T010000
END:DAYLIGHT
BEGIN:STANDARD
TZOFFSETFROM:+0200
TZOFFSETTO:+0100
TZNAME:CET
DTSTART:20211031T010000
END:STANDARD
BEGIN:DAYLIGHT
TZOFFSETFROM:+0100
TZOFFSETTO:+0200
TZNAME:CEST
DTSTART:20220327T010000
END:DAYLIGHT
BEGIN:STANDARD
TZOFFSETFROM:+0200
TZOFFSETTO:+0100
TZNAME:CET
DTSTART:20221030T010000
END:STANDARD
BEGIN:DAYLIGHT
TZOFFSETFROM:+0100
TZOFFSETTO:+0200
TZNAME:CEST
DTSTART:20230326T010000
END:DAYLIGHT
BEGIN:STANDARD
TZOFFSETFROM:+0200
TZOFFSETTO:+0100
TZNAME:CET
DTSTART:20231029T010000
END:STANDARD
END:VTIMEZONE
BEGIN:VEVENT
DTSTART;TZID=Europe/Berlin:20220731T080000
DTEND;TZID=Europe/Berlin:20220731T080000
DTSTAMP:20260419T142522
CREATED:20220622T081907Z
LAST-MODIFIED:20220622T081907Z
UID:10002600-1659254400-1659254400@www.burlo-borkenwirthe.de
SUMMARY:Schützenfest - Oeding
DESCRIPTION:Teilnahme am Festumzug mit anschl. gemütlichen Beisammensein.\nAbordnung König\, Thronherren\, Offiziere\, Vorstand und Festausschuss \nAbfahrt am PGZ
URL:https://www.burlo-borkenwirthe.de/event/schuetzenfest-oeding/
LOCATION:Pfarrgemeindezentrum Burlo\, Borkener Straße 21\, 46325 Borken-Burlo
CATEGORIES:Fest
ORGANIZER;CN="B%C3%BCrgersch%C3%BCtzenverein Burlo e.V.":MAILTO:kontakt@buergerschuetzenverein-burlo.de
END:VEVENT
BEGIN:VEVENT
DTSTART;TZID=Europe/Berlin:20220723T123000
DTEND;TZID=Europe/Berlin:20220723T123000
DTSTAMP:20260419T142522
CREATED:20220622T081751Z
LAST-MODIFIED:20220622T081751Z
UID:10002599-1658579400-1658579400@www.burlo-borkenwirthe.de
SUMMARY:Kaiserschießen der  Stadt Borken - Schützenverein Waldesruh -
DESCRIPTION:Sternmarsch\, Kaiserschießen und Kaiserball Königspaar + Throngefolge\, Abordnung v. Offiziere\, Vorstand und Festausschuss \nAbfahrt am PGZ
URL:https://www.burlo-borkenwirthe.de/event/kaiserschiessen-der-stadt-borken-schuetzenverein-waldesruh/
LOCATION:Pfarrgemeindezentrum Burlo\, Borkener Straße 21\, 46325 Borken-Burlo
CATEGORIES:Fest
ORGANIZER;CN="B%C3%BCrgersch%C3%BCtzenverein Burlo e.V.":MAILTO:kontakt@buergerschuetzenverein-burlo.de
END:VEVENT
BEGIN:VEVENT
DTSTART;TZID=Europe/Berlin:20220622T190000
DTEND;TZID=Europe/Berlin:20220622T190000
DTSTAMP:20260419T142522
CREATED:20220621T145849Z
LAST-MODIFIED:20220621T151002Z
UID:10002597-1655924400-1655924400@www.burlo-borkenwirthe.de
SUMMARY:Werbekreis Mitgliederversammlung
DESCRIPTION:2022_05_09_Einladung_Mitgliederversammlung_INTERN
URL:https://www.burlo-borkenwirthe.de/event/mitgliederversammlung/
LOCATION:Pfarrgemeindezentrum Burlo\, Borkener Straße 21\, 46325 Borken-Burlo
CATEGORIES:Versammlungen
ORGANIZER;CN="Werbekreis Burlo-Borkenwirthe e.V.":MAILTO:info@burlo-borkenwirthe.de
END:VEVENT
END:VCALENDAR