BEGIN:VCALENDAR
VERSION:2.0
PRODID:-//Werbekreis Burlo und Borkenwirthe - ECPv6.15.18//NONSGML v1.0//EN
CALSCALE:GREGORIAN
METHOD:PUBLISH
X-ORIGINAL-URL:https://www.burlo-borkenwirthe.de
X-WR-CALDESC:Veranstaltungen für Werbekreis Burlo und Borkenwirthe
REFRESH-INTERVAL;VALUE=DURATION:PT1H
X-Robots-Tag:noindex
X-PUBLISHED-TTL:PT1H
BEGIN:VTIMEZONE
TZID:Europe/Berlin
BEGIN:DAYLIGHT
TZOFFSETFROM:+0100
TZOFFSETTO:+0200
TZNAME:CEST
DTSTART:20230326T010000
END:DAYLIGHT
BEGIN:STANDARD
TZOFFSETFROM:+0200
TZOFFSETTO:+0100
TZNAME:CET
DTSTART:20231029T010000
END:STANDARD
BEGIN:DAYLIGHT
TZOFFSETFROM:+0100
TZOFFSETTO:+0200
TZNAME:CEST
DTSTART:20240331T010000
END:DAYLIGHT
BEGIN:STANDARD
TZOFFSETFROM:+0200
TZOFFSETTO:+0100
TZNAME:CET
DTSTART:20241027T010000
END:STANDARD
BEGIN:DAYLIGHT
TZOFFSETFROM:+0100
TZOFFSETTO:+0200
TZNAME:CEST
DTSTART:20250330T010000
END:DAYLIGHT
BEGIN:STANDARD
TZOFFSETFROM:+0200
TZOFFSETTO:+0100
TZNAME:CET
DTSTART:20251026T010000
END:STANDARD
BEGIN:DAYLIGHT
TZOFFSETFROM:+0100
TZOFFSETTO:+0200
TZNAME:CEST
DTSTART:20260329T010000
END:DAYLIGHT
BEGIN:STANDARD
TZOFFSETFROM:+0200
TZOFFSETTO:+0100
TZNAME:CET
DTSTART:20261025T010000
END:STANDARD
END:VTIMEZONE
BEGIN:VEVENT
DTSTART;TZID=Europe/Berlin:20250115T190000
DTEND;TZID=Europe/Berlin:20250115T190000
DTSTAMP:20260420T180922
CREATED:20230614T172553Z
LAST-MODIFIED:20251202T165443Z
UID:10003326-1736967600-1736967600@www.burlo-borkenwirthe.de
SUMMARY:Nordic-Walking in Bowi - Landfrauen
DESCRIPTION:Unsere Walking-Gruppe ist super angelaufen… \nNun möchten wir uns jeden Mittwoch um 19.00 Uhr in Borkenwirthe an der Kirche treffen\, um dann ca. 5 km zu walken. Wer Zeit und Lust dazu hat\, ist herzlich eingeladen. \nInfos bei Ann-Christin Wesseling-Effing unter 0157/38311701 \n 
URL:https://www.burlo-borkenwirthe.de/event/nordic-walking-in-bowi-landfrauen/2025-01-15/
CATEGORIES:Sport,Wanderungen
ATTACH;FMTTYPE=image/png:https://www.burlo-borkenwirthe.de/wp-content/uploads/2023/05/Bild_2023-05-12_170018304.png
END:VEVENT
BEGIN:VEVENT
DTSTART;TZID=Europe/Berlin:20250113T184500
DTEND;TZID=Europe/Berlin:20250113T201500
DTSTAMP:20260420T180922
CREATED:20230925T083919Z
LAST-MODIFIED:20230925T084437Z
UID:10004371-1736793900-1736799300@www.burlo-borkenwirthe.de
SUMMARY:LandFrauen - ChiKung
DESCRIPTION:jeden Montag in der Turnhalle Borkenwirthe \n 
URL:https://www.burlo-borkenwirthe.de/event/landfrauen-chikung/2025-01-13/
LOCATION:Turnhalle Borkenwirthe\, Engeland Esch 35\, Borkenwirthe\, NRW\, 46325\, Germany
CATEGORIES:Sonstiges
ATTACH;FMTTYPE=image/png:https://www.burlo-borkenwirthe.de/wp-content/uploads/2023/05/Bild_2023-05-12_170018304.png
END:VEVENT
BEGIN:VEVENT
DTSTART;TZID=Europe/Berlin:20250108T190000
DTEND;TZID=Europe/Berlin:20250108T190000
DTSTAMP:20260420T180922
CREATED:20230614T172553Z
LAST-MODIFIED:20251202T165443Z
UID:10003325-1736362800-1736362800@www.burlo-borkenwirthe.de
SUMMARY:Nordic-Walking in Bowi - Landfrauen
DESCRIPTION:Unsere Walking-Gruppe ist super angelaufen… \nNun möchten wir uns jeden Mittwoch um 19.00 Uhr in Borkenwirthe an der Kirche treffen\, um dann ca. 5 km zu walken. Wer Zeit und Lust dazu hat\, ist herzlich eingeladen. \nInfos bei Ann-Christin Wesseling-Effing unter 0157/38311701 \n 
URL:https://www.burlo-borkenwirthe.de/event/nordic-walking-in-bowi-landfrauen/2025-01-08/
CATEGORIES:Sport,Wanderungen
ATTACH;FMTTYPE=image/png:https://www.burlo-borkenwirthe.de/wp-content/uploads/2023/05/Bild_2023-05-12_170018304.png
END:VEVENT
BEGIN:VEVENT
DTSTART;TZID=Europe/Berlin:20250106T184500
DTEND;TZID=Europe/Berlin:20250106T201500
DTSTAMP:20260420T180922
CREATED:20230925T083919Z
LAST-MODIFIED:20230925T084437Z
UID:10004370-1736189100-1736194500@www.burlo-borkenwirthe.de
SUMMARY:LandFrauen - ChiKung
DESCRIPTION:jeden Montag in der Turnhalle Borkenwirthe \n 
URL:https://www.burlo-borkenwirthe.de/event/landfrauen-chikung/2025-01-06/
LOCATION:Turnhalle Borkenwirthe\, Engeland Esch 35\, Borkenwirthe\, NRW\, 46325\, Germany
CATEGORIES:Sonstiges
ATTACH;FMTTYPE=image/png:https://www.burlo-borkenwirthe.de/wp-content/uploads/2023/05/Bild_2023-05-12_170018304.png
END:VEVENT
BEGIN:VEVENT
DTSTART;TZID=Europe/Berlin:20241230T184500
DTEND;TZID=Europe/Berlin:20241230T201500
DTSTAMP:20260420T180922
CREATED:20230925T083919Z
LAST-MODIFIED:20230925T084437Z
UID:10004369-1735584300-1735589700@www.burlo-borkenwirthe.de
SUMMARY:LandFrauen - ChiKung
DESCRIPTION:jeden Montag in der Turnhalle Borkenwirthe \n 
URL:https://www.burlo-borkenwirthe.de/event/landfrauen-chikung/2024-12-30/
LOCATION:Turnhalle Borkenwirthe\, Engeland Esch 35\, Borkenwirthe\, NRW\, 46325\, Germany
CATEGORIES:Sonstiges
ATTACH;FMTTYPE=image/png:https://www.burlo-borkenwirthe.de/wp-content/uploads/2023/05/Bild_2023-05-12_170018304.png
END:VEVENT
BEGIN:VEVENT
DTSTART;TZID=Europe/Berlin:20241223T184500
DTEND;TZID=Europe/Berlin:20241223T201500
DTSTAMP:20260420T180922
CREATED:20230925T083919Z
LAST-MODIFIED:20230925T084437Z
UID:10004368-1734979500-1734984900@www.burlo-borkenwirthe.de
SUMMARY:LandFrauen - ChiKung
DESCRIPTION:jeden Montag in der Turnhalle Borkenwirthe \n 
URL:https://www.burlo-borkenwirthe.de/event/landfrauen-chikung/2024-12-23/
LOCATION:Turnhalle Borkenwirthe\, Engeland Esch 35\, Borkenwirthe\, NRW\, 46325\, Germany
CATEGORIES:Sonstiges
ATTACH;FMTTYPE=image/png:https://www.burlo-borkenwirthe.de/wp-content/uploads/2023/05/Bild_2023-05-12_170018304.png
END:VEVENT
BEGIN:VEVENT
DTSTART;TZID=Europe/Berlin:20241218T190000
DTEND;TZID=Europe/Berlin:20241218T190000
DTSTAMP:20260420T180922
CREATED:20230614T172553Z
LAST-MODIFIED:20251202T165443Z
UID:10003324-1734548400-1734548400@www.burlo-borkenwirthe.de
SUMMARY:Nordic-Walking in Bowi - Landfrauen
DESCRIPTION:Unsere Walking-Gruppe ist super angelaufen… \nNun möchten wir uns jeden Mittwoch um 19.00 Uhr in Borkenwirthe an der Kirche treffen\, um dann ca. 5 km zu walken. Wer Zeit und Lust dazu hat\, ist herzlich eingeladen. \nInfos bei Ann-Christin Wesseling-Effing unter 0157/38311701 \n 
URL:https://www.burlo-borkenwirthe.de/event/nordic-walking-in-bowi-landfrauen/2024-12-18/
CATEGORIES:Sport,Wanderungen
ATTACH;FMTTYPE=image/png:https://www.burlo-borkenwirthe.de/wp-content/uploads/2023/05/Bild_2023-05-12_170018304.png
END:VEVENT
BEGIN:VEVENT
DTSTART;TZID=Europe/Berlin:20241216T184500
DTEND;TZID=Europe/Berlin:20241216T201500
DTSTAMP:20260420T180922
CREATED:20230925T083919Z
LAST-MODIFIED:20230925T084437Z
UID:10004367-1734374700-1734380100@www.burlo-borkenwirthe.de
SUMMARY:LandFrauen - ChiKung
DESCRIPTION:jeden Montag in der Turnhalle Borkenwirthe \n 
URL:https://www.burlo-borkenwirthe.de/event/landfrauen-chikung/2024-12-16/
LOCATION:Turnhalle Borkenwirthe\, Engeland Esch 35\, Borkenwirthe\, NRW\, 46325\, Germany
CATEGORIES:Sonstiges
ATTACH;FMTTYPE=image/png:https://www.burlo-borkenwirthe.de/wp-content/uploads/2023/05/Bild_2023-05-12_170018304.png
END:VEVENT
BEGIN:VEVENT
DTSTART;TZID=Europe/Berlin:20241211T190000
DTEND;TZID=Europe/Berlin:20241211T190000
DTSTAMP:20260420T180922
CREATED:20230614T172553Z
LAST-MODIFIED:20251202T165443Z
UID:10003323-1733943600-1733943600@www.burlo-borkenwirthe.de
SUMMARY:Nordic-Walking in Bowi - Landfrauen
DESCRIPTION:Unsere Walking-Gruppe ist super angelaufen… \nNun möchten wir uns jeden Mittwoch um 19.00 Uhr in Borkenwirthe an der Kirche treffen\, um dann ca. 5 km zu walken. Wer Zeit und Lust dazu hat\, ist herzlich eingeladen. \nInfos bei Ann-Christin Wesseling-Effing unter 0157/38311701 \n 
URL:https://www.burlo-borkenwirthe.de/event/nordic-walking-in-bowi-landfrauen/2024-12-11/
CATEGORIES:Sport,Wanderungen
ATTACH;FMTTYPE=image/png:https://www.burlo-borkenwirthe.de/wp-content/uploads/2023/05/Bild_2023-05-12_170018304.png
END:VEVENT
BEGIN:VEVENT
DTSTART;TZID=Europe/Berlin:20241209T184500
DTEND;TZID=Europe/Berlin:20241209T201500
DTSTAMP:20260420T180922
CREATED:20230925T083919Z
LAST-MODIFIED:20230925T084437Z
UID:10004366-1733769900-1733775300@www.burlo-borkenwirthe.de
SUMMARY:LandFrauen - ChiKung
DESCRIPTION:jeden Montag in der Turnhalle Borkenwirthe \n 
URL:https://www.burlo-borkenwirthe.de/event/landfrauen-chikung/2024-12-09/
LOCATION:Turnhalle Borkenwirthe\, Engeland Esch 35\, Borkenwirthe\, NRW\, 46325\, Germany
CATEGORIES:Sonstiges
ATTACH;FMTTYPE=image/png:https://www.burlo-borkenwirthe.de/wp-content/uploads/2023/05/Bild_2023-05-12_170018304.png
END:VEVENT
BEGIN:VEVENT
DTSTART;TZID=Europe/Berlin:20241204T190000
DTEND;TZID=Europe/Berlin:20241204T190000
DTSTAMP:20260420T180922
CREATED:20241115T101338Z
LAST-MODIFIED:20241115T101338Z
UID:10004291-1733338800-1733338800@www.burlo-borkenwirthe.de
SUMMARY:LandFrauen - Adventsfeier
DESCRIPTION:Beginn um 19.00 Uhr mit einem Gottesdienst zum Thema: \n„Die heilige Barbara und der der blühende Zweig“ \nAnschließend gemütliches Zusammensein mit leckeren Snacks und Getränken im Pfarrheim Borkenwirthe \nAnmeldung bis zum 01.12. in der WhatsAppGruppe oder bei Barbara Robers \n 
URL:https://www.burlo-borkenwirthe.de/event/landfrauen-adventsfeier-2/
LOCATION:Pfarrheim Borkenwirthe\, Wirther Kirchweg 19\, Borkenwirthe\, 46325\, Germany
CATEGORIES:Fest,Nicht öffentlich
ATTACH;FMTTYPE=image/png:https://www.burlo-borkenwirthe.de/wp-content/uploads/2024/11/Landfrauen_Adventsfeier_2024-e1731665556644.png
END:VEVENT
BEGIN:VEVENT
DTSTART;TZID=Europe/Berlin:20241204T190000
DTEND;TZID=Europe/Berlin:20241204T190000
DTSTAMP:20260420T180922
CREATED:20230614T172553Z
LAST-MODIFIED:20251202T165443Z
UID:10003322-1733338800-1733338800@www.burlo-borkenwirthe.de
SUMMARY:Nordic-Walking in Bowi - Landfrauen
DESCRIPTION:Unsere Walking-Gruppe ist super angelaufen… \nNun möchten wir uns jeden Mittwoch um 19.00 Uhr in Borkenwirthe an der Kirche treffen\, um dann ca. 5 km zu walken. Wer Zeit und Lust dazu hat\, ist herzlich eingeladen. \nInfos bei Ann-Christin Wesseling-Effing unter 0157/38311701 \n 
URL:https://www.burlo-borkenwirthe.de/event/nordic-walking-in-bowi-landfrauen/2024-12-04/
CATEGORIES:Sport,Wanderungen
ATTACH;FMTTYPE=image/png:https://www.burlo-borkenwirthe.de/wp-content/uploads/2023/05/Bild_2023-05-12_170018304.png
END:VEVENT
BEGIN:VEVENT
DTSTART;TZID=Europe/Berlin:20241202T184500
DTEND;TZID=Europe/Berlin:20241202T201500
DTSTAMP:20260420T180922
CREATED:20230925T083919Z
LAST-MODIFIED:20230925T084437Z
UID:10004365-1733165100-1733170500@www.burlo-borkenwirthe.de
SUMMARY:LandFrauen - ChiKung
DESCRIPTION:jeden Montag in der Turnhalle Borkenwirthe \n 
URL:https://www.burlo-borkenwirthe.de/event/landfrauen-chikung/2024-12-02/
LOCATION:Turnhalle Borkenwirthe\, Engeland Esch 35\, Borkenwirthe\, NRW\, 46325\, Germany
CATEGORIES:Sonstiges
ATTACH;FMTTYPE=image/png:https://www.burlo-borkenwirthe.de/wp-content/uploads/2023/05/Bild_2023-05-12_170018304.png
END:VEVENT
BEGIN:VEVENT
DTSTART;TZID=Europe/Berlin:20241127T190000
DTEND;TZID=Europe/Berlin:20241127T190000
DTSTAMP:20260420T180922
CREATED:20230614T172553Z
LAST-MODIFIED:20251202T165443Z
UID:10003321-1732734000-1732734000@www.burlo-borkenwirthe.de
SUMMARY:Nordic-Walking in Bowi - Landfrauen
DESCRIPTION:Unsere Walking-Gruppe ist super angelaufen… \nNun möchten wir uns jeden Mittwoch um 19.00 Uhr in Borkenwirthe an der Kirche treffen\, um dann ca. 5 km zu walken. Wer Zeit und Lust dazu hat\, ist herzlich eingeladen. \nInfos bei Ann-Christin Wesseling-Effing unter 0157/38311701 \n 
URL:https://www.burlo-borkenwirthe.de/event/nordic-walking-in-bowi-landfrauen/2024-11-27/
CATEGORIES:Sport,Wanderungen
ATTACH;FMTTYPE=image/png:https://www.burlo-borkenwirthe.de/wp-content/uploads/2023/05/Bild_2023-05-12_170018304.png
END:VEVENT
BEGIN:VEVENT
DTSTART;TZID=Europe/Berlin:20241125T184500
DTEND;TZID=Europe/Berlin:20241125T201500
DTSTAMP:20260420T180922
CREATED:20230925T083919Z
LAST-MODIFIED:20230925T084437Z
UID:10004364-1732560300-1732565700@www.burlo-borkenwirthe.de
SUMMARY:LandFrauen - ChiKung
DESCRIPTION:jeden Montag in der Turnhalle Borkenwirthe \n 
URL:https://www.burlo-borkenwirthe.de/event/landfrauen-chikung/2024-11-25/
LOCATION:Turnhalle Borkenwirthe\, Engeland Esch 35\, Borkenwirthe\, NRW\, 46325\, Germany
CATEGORIES:Sonstiges
ATTACH;FMTTYPE=image/png:https://www.burlo-borkenwirthe.de/wp-content/uploads/2023/05/Bild_2023-05-12_170018304.png
END:VEVENT
BEGIN:VEVENT
DTSTART;TZID=Europe/Berlin:20241121T140000
DTEND;TZID=Europe/Berlin:20241121T140000
DTSTAMP:20260420T180922
CREATED:20241029T141328Z
LAST-MODIFIED:20241029T141328Z
UID:10004288-1732197600-1732197600@www.burlo-borkenwirthe.de
SUMMARY:LandFrauen - Adventsfeier
DESCRIPTION:Anmeldung bei Angelika Becker-Hardt unter Tel.: 02862/2786 \n 
URL:https://www.burlo-borkenwirthe.de/event/landfrauen-adventsfeier/
LOCATION:Haus Terhörne – Südlohn\, Weseker Weg 32\, Südlohn\, 46354\, Germany
CATEGORIES:Nicht öffentlich,Versammlungen
ATTACH;FMTTYPE=image/jpeg:https://www.burlo-borkenwirthe.de/wp-content/uploads/2024/10/LandFrauen_Adventsfeier_2024.jpg
END:VEVENT
BEGIN:VEVENT
DTSTART;TZID=Europe/Berlin:20241120T190000
DTEND;TZID=Europe/Berlin:20241120T190000
DTSTAMP:20260420T180922
CREATED:20230614T172553Z
LAST-MODIFIED:20251202T165443Z
UID:10003320-1732129200-1732129200@www.burlo-borkenwirthe.de
SUMMARY:Nordic-Walking in Bowi - Landfrauen
DESCRIPTION:Unsere Walking-Gruppe ist super angelaufen… \nNun möchten wir uns jeden Mittwoch um 19.00 Uhr in Borkenwirthe an der Kirche treffen\, um dann ca. 5 km zu walken. Wer Zeit und Lust dazu hat\, ist herzlich eingeladen. \nInfos bei Ann-Christin Wesseling-Effing unter 0157/38311701 \n 
URL:https://www.burlo-borkenwirthe.de/event/nordic-walking-in-bowi-landfrauen/2024-11-20/
CATEGORIES:Sport,Wanderungen
ATTACH;FMTTYPE=image/png:https://www.burlo-borkenwirthe.de/wp-content/uploads/2023/05/Bild_2023-05-12_170018304.png
END:VEVENT
BEGIN:VEVENT
DTSTART;TZID=Europe/Berlin:20241118T184500
DTEND;TZID=Europe/Berlin:20241118T201500
DTSTAMP:20260420T180922
CREATED:20230925T083919Z
LAST-MODIFIED:20230925T084437Z
UID:10004363-1731955500-1731960900@www.burlo-borkenwirthe.de
SUMMARY:LandFrauen - ChiKung
DESCRIPTION:jeden Montag in der Turnhalle Borkenwirthe \n 
URL:https://www.burlo-borkenwirthe.de/event/landfrauen-chikung/2024-11-18/
LOCATION:Turnhalle Borkenwirthe\, Engeland Esch 35\, Borkenwirthe\, NRW\, 46325\, Germany
CATEGORIES:Sonstiges
ATTACH;FMTTYPE=image/png:https://www.burlo-borkenwirthe.de/wp-content/uploads/2023/05/Bild_2023-05-12_170018304.png
END:VEVENT
BEGIN:VEVENT
DTSTART;TZID=Europe/Berlin:20241113T190000
DTEND;TZID=Europe/Berlin:20241113T190000
DTSTAMP:20260420T180922
CREATED:20230614T172553Z
LAST-MODIFIED:20251202T165443Z
UID:10003319-1731524400-1731524400@www.burlo-borkenwirthe.de
SUMMARY:Nordic-Walking in Bowi - Landfrauen
DESCRIPTION:Unsere Walking-Gruppe ist super angelaufen… \nNun möchten wir uns jeden Mittwoch um 19.00 Uhr in Borkenwirthe an der Kirche treffen\, um dann ca. 5 km zu walken. Wer Zeit und Lust dazu hat\, ist herzlich eingeladen. \nInfos bei Ann-Christin Wesseling-Effing unter 0157/38311701 \n 
URL:https://www.burlo-borkenwirthe.de/event/nordic-walking-in-bowi-landfrauen/2024-11-13/
CATEGORIES:Sport,Wanderungen
ATTACH;FMTTYPE=image/png:https://www.burlo-borkenwirthe.de/wp-content/uploads/2023/05/Bild_2023-05-12_170018304.png
END:VEVENT
BEGIN:VEVENT
DTSTART;TZID=Europe/Berlin:20241111T184500
DTEND;TZID=Europe/Berlin:20241111T201500
DTSTAMP:20260420T180922
CREATED:20230925T083919Z
LAST-MODIFIED:20230925T084437Z
UID:10004362-1731350700-1731356100@www.burlo-borkenwirthe.de
SUMMARY:LandFrauen - ChiKung
DESCRIPTION:jeden Montag in der Turnhalle Borkenwirthe \n 
URL:https://www.burlo-borkenwirthe.de/event/landfrauen-chikung/2024-11-11/
LOCATION:Turnhalle Borkenwirthe\, Engeland Esch 35\, Borkenwirthe\, NRW\, 46325\, Germany
CATEGORIES:Sonstiges
ATTACH;FMTTYPE=image/png:https://www.burlo-borkenwirthe.de/wp-content/uploads/2023/05/Bild_2023-05-12_170018304.png
END:VEVENT
BEGIN:VEVENT
DTSTART;TZID=Europe/Berlin:20241108T184500
DTEND;TZID=Europe/Berlin:20241108T184500
DTSTAMP:20260420T180922
CREATED:20250917T095937Z
LAST-MODIFIED:20250917T095937Z
UID:10004769-1731091500-1731091500@www.burlo-borkenwirthe.de
SUMMARY:Mit dem Partybus zum Steakhouse Vivaldi
DESCRIPTION:Mit dem Partybus zum Steakhouse Vivaldi \nVerabredung mit Freunden zum Essen / Trinken im Steakhouse und keiner möchte fahren? \nKennen wir… Deshalb haben wir wieder den Partybus vom Steakhouse Vivaldi in Winterswijk-Miste bestellt! Wer hat Lust mitzukommen? \nWann? Freitag\, den 14.11.2025\nTreffen ab 18:45 Uhr auf dem Kirchplatz\, Abfahrt um 19:00 Uhr \nKosten? 10\,00 EUR für die Busfahrt (gilt für Hin- und Rückfahrt)\nSpeisen & Getränke werden vor Ort bezahlt\n(die Gesamtrechnung wird zu gleichen Teilen auf alle Teilnehmer umgelegt) \nDie Teilnehmerzahl ist leider begrenzt\, daher gerne jetzt schon\nbei Janina Fasselt unter Tel.: 0179 9306164 anmelden. \nWeitere Infos auf www.steakhousevivaldi.nl
URL:https://www.burlo-borkenwirthe.de/event/mit-dem-partybus-zum-steakhouse-vivaldi-3/
LOCATION:Heilig Kreuz Kirche Borkenwirthe\, Engeland Esch 39\, Borkenwirthe\, 46325\, Germany
CATEGORIES:Ausflug,Nicht öffentlich
ATTACH;FMTTYPE=image/jpeg:https://www.burlo-borkenwirthe.de/wp-content/uploads/2024/02/Junge-LandFrauen-Biene-Logo-300x122-1.jpg
END:VEVENT
BEGIN:VEVENT
DTSTART;TZID=Europe/Berlin:20241108T184500
DTEND;TZID=Europe/Berlin:20241108T184500
DTSTAMP:20260420T180922
CREATED:20240923T151943Z
LAST-MODIFIED:20240923T151943Z
UID:10004744-1731091500-1731091500@www.burlo-borkenwirthe.de
SUMMARY:Mit dem Partybus zum Steakhouse Vivaldi
DESCRIPTION:Mit den Landfrauen Borkenwirthe geht es wieder zum Steakhouse Vivaldi! Damit niemand auf ein leckeres Getränk zu gutem Essen verzichten muss\, fahren wir mit dem bekannten Partybus. \nWir wollen uns einen lustigen\, geselligen\, leckeren Abend machen. Komm` doch mit. \nWer:\nALLE – LandFrauen\, die mitfahren möchten!!!! \nWann:\nFreitag\, den 08.11.24\nAbfahrt ist um 19:00 Uhr (Treffen ab 18:45 Uhr auf dem Kirchplatz) \nKosten:\nfür die Busfahrt: 10€ ( Hin- und Rückfahrt)\nSpeisen und Getränke werden vor Ort bezahlt. \nDie Teilnehmerzahl ist leider begrenzt\, daher gerne jetzt schon anmelden bei \n\nTheresa Lökes\, 0151 62606402\nCarina Uebbing\, 0151/58848739.\n\n  \nWeitere Infos auf www.steakhousevivaldi.nl \n 
URL:https://www.burlo-borkenwirthe.de/event/mit-dem-partybus-zum-steakhouse-vivaldi-2/
LOCATION:Heilig Kreuz Kirche Borkenwirthe\, Engeland Esch 39\, Borkenwirthe\, 46325\, Germany
CATEGORIES:Ausflug,Nicht öffentlich
ATTACH;FMTTYPE=image/png:https://www.burlo-borkenwirthe.de/wp-content/uploads/2024/09/Landfrauen_WirMachenUnsStark_Logo-e1727104759415.png
END:VEVENT
BEGIN:VEVENT
DTSTART;TZID=Europe/Berlin:20241106T190000
DTEND;TZID=Europe/Berlin:20241106T203000
DTSTAMP:20260420T180922
CREATED:20241029T140910Z
LAST-MODIFIED:20241029T141108Z
UID:10004287-1730919600-1730925000@www.burlo-borkenwirthe.de
SUMMARY:LandFrauen - Vortrag "Die gesetzliche Alterssicherung"
DESCRIPTION:
URL:https://www.burlo-borkenwirthe.de/event/landfrauen-vortrag-die-gesetzliche-alterssicherung/
CATEGORIES:Nicht öffentlich,Vortrag
ATTACH;FMTTYPE=image/jpeg:https://www.burlo-borkenwirthe.de/wp-content/uploads/2024/10/LandFrauen_Gesetzliche_Alterssicherung_2024.jpg
END:VEVENT
BEGIN:VEVENT
DTSTART;TZID=Europe/Berlin:20241106T190000
DTEND;TZID=Europe/Berlin:20241106T190000
DTSTAMP:20260420T180922
CREATED:20230614T172553Z
LAST-MODIFIED:20251202T165443Z
UID:10003318-1730919600-1730919600@www.burlo-borkenwirthe.de
SUMMARY:Nordic-Walking in Bowi - Landfrauen
DESCRIPTION:Unsere Walking-Gruppe ist super angelaufen… \nNun möchten wir uns jeden Mittwoch um 19.00 Uhr in Borkenwirthe an der Kirche treffen\, um dann ca. 5 km zu walken. Wer Zeit und Lust dazu hat\, ist herzlich eingeladen. \nInfos bei Ann-Christin Wesseling-Effing unter 0157/38311701 \n 
URL:https://www.burlo-borkenwirthe.de/event/nordic-walking-in-bowi-landfrauen/2024-11-06/
CATEGORIES:Sport,Wanderungen
ATTACH;FMTTYPE=image/png:https://www.burlo-borkenwirthe.de/wp-content/uploads/2023/05/Bild_2023-05-12_170018304.png
END:VEVENT
BEGIN:VEVENT
DTSTART;TZID=Europe/Berlin:20241104T184500
DTEND;TZID=Europe/Berlin:20241104T201500
DTSTAMP:20260420T180922
CREATED:20230925T083919Z
LAST-MODIFIED:20230925T084437Z
UID:10004361-1730745900-1730751300@www.burlo-borkenwirthe.de
SUMMARY:LandFrauen - ChiKung
DESCRIPTION:jeden Montag in der Turnhalle Borkenwirthe \n 
URL:https://www.burlo-borkenwirthe.de/event/landfrauen-chikung/2024-11-04/
LOCATION:Turnhalle Borkenwirthe\, Engeland Esch 35\, Borkenwirthe\, NRW\, 46325\, Germany
CATEGORIES:Sonstiges
ATTACH;FMTTYPE=image/png:https://www.burlo-borkenwirthe.de/wp-content/uploads/2023/05/Bild_2023-05-12_170018304.png
END:VEVENT
BEGIN:VEVENT
DTSTART;TZID=Europe/Berlin:20241030T190000
DTEND;TZID=Europe/Berlin:20241030T190000
DTSTAMP:20260420T180922
CREATED:20230614T172553Z
LAST-MODIFIED:20251202T165443Z
UID:10003317-1730314800-1730314800@www.burlo-borkenwirthe.de
SUMMARY:Nordic-Walking in Bowi - Landfrauen
DESCRIPTION:Unsere Walking-Gruppe ist super angelaufen… \nNun möchten wir uns jeden Mittwoch um 19.00 Uhr in Borkenwirthe an der Kirche treffen\, um dann ca. 5 km zu walken. Wer Zeit und Lust dazu hat\, ist herzlich eingeladen. \nInfos bei Ann-Christin Wesseling-Effing unter 0157/38311701 \n 
URL:https://www.burlo-borkenwirthe.de/event/nordic-walking-in-bowi-landfrauen/2024-10-30/
CATEGORIES:Sport,Wanderungen
ATTACH;FMTTYPE=image/png:https://www.burlo-borkenwirthe.de/wp-content/uploads/2023/05/Bild_2023-05-12_170018304.png
END:VEVENT
BEGIN:VEVENT
DTSTART;TZID=Europe/Berlin:20241028T184500
DTEND;TZID=Europe/Berlin:20241028T201500
DTSTAMP:20260420T180922
CREATED:20230925T083919Z
LAST-MODIFIED:20230925T084437Z
UID:10004360-1730141100-1730146500@www.burlo-borkenwirthe.de
SUMMARY:LandFrauen - ChiKung
DESCRIPTION:jeden Montag in der Turnhalle Borkenwirthe \n 
URL:https://www.burlo-borkenwirthe.de/event/landfrauen-chikung/2024-10-28/
LOCATION:Turnhalle Borkenwirthe\, Engeland Esch 35\, Borkenwirthe\, NRW\, 46325\, Germany
CATEGORIES:Sonstiges
ATTACH;FMTTYPE=image/png:https://www.burlo-borkenwirthe.de/wp-content/uploads/2023/05/Bild_2023-05-12_170018304.png
END:VEVENT
BEGIN:VEVENT
DTSTART;TZID=Europe/Berlin:20241024T150000
DTEND;TZID=Europe/Berlin:20241024T150000
DTSTAMP:20260420T180922
CREATED:20240831T131753Z
LAST-MODIFIED:20240831T131753Z
UID:10004279-1729782000-1729782000@www.burlo-borkenwirthe.de
SUMMARY:Kürbisse gestalten
DESCRIPTION:Bald kommt der Herbst und mit ihm die Zeit der bunten Kürbisse! \nWir laden alle Kinder herzlich zum kreativen Kürbis-Mal- und Schnitz-Nachmittag am Donnerstag\, den 24.Oktober 2024 auf dem Hof Börger in Weseke ein. \nJe nach Alter der Kinder gibt es verschiedene Gestaltungs-Möglichkeiten\, sodass für jeden etwas dabei ist! \nWann: Donnerstag\, den 24.Oktober 2024 \nWo: Hof Börger\, Börgersweg 4 in Weseke (eigene Anreise) \nUhrzeit: je nach Anzahl der Anmeldungen ab 15 Uhr bzw. 16:15 Uhr \nDie jüngeren Kinder können ihrer Kreativität beim Bemalen von Kürbissen freien Lauf lassen. Für die älteren Kinder gibt es auch die Möglichkeit\, ihre Kürbisse auszuhöhlen und zu schnitzen. \nKürbisse können vor Ort ausgesucht und gekauft werden. (Je nach Größe ca. 5\,00 EUR) Für das Bereitstellen der Werkzeuge zum Schnitzen\, sowie Farben und Pinsel\, werden je Kind 2\,50 EUR erhoben. Darin enthalten ist auch Wasser und Kaffee für die Eltern. Alle weiteren Getränke oder Snacks müssten bitte mitgebracht werden. \nBitte meldet euch bis zum 30.09.2024 bei Carina Uebbing\n(Tel.: 0151/58848739) oder Christiane Schlattmann (Tel.: 0160/99137393) an. \nDie Plätze sind begrenzt. Schnell sein loht sich. \nWir freuen uns auf einen kreativen Nachmittag mit Euch! \n 
URL:https://www.burlo-borkenwirthe.de/event/kuerbisse-gestalten/
LOCATION:Hof Börger\, Börgersweg 4\, Borken-Weseke\, 46325\, Germany
CATEGORIES:Ausflug,Jugendbetreuung,Sonstiges
ATTACH;FMTTYPE=image/jpeg:https://www.burlo-borkenwirthe.de/wp-content/uploads/2024/02/Junge-LandFrauen-Biene-Logo-300x122-1.jpg
END:VEVENT
BEGIN:VEVENT
DTSTART;TZID=Europe/Berlin:20241023T190000
DTEND;TZID=Europe/Berlin:20241023T190000
DTSTAMP:20260420T180922
CREATED:20230614T172553Z
LAST-MODIFIED:20251202T165443Z
UID:10003316-1729710000-1729710000@www.burlo-borkenwirthe.de
SUMMARY:Nordic-Walking in Bowi - Landfrauen
DESCRIPTION:Unsere Walking-Gruppe ist super angelaufen… \nNun möchten wir uns jeden Mittwoch um 19.00 Uhr in Borkenwirthe an der Kirche treffen\, um dann ca. 5 km zu walken. Wer Zeit und Lust dazu hat\, ist herzlich eingeladen. \nInfos bei Ann-Christin Wesseling-Effing unter 0157/38311701 \n 
URL:https://www.burlo-borkenwirthe.de/event/nordic-walking-in-bowi-landfrauen/2024-10-23/
CATEGORIES:Sport,Wanderungen
ATTACH;FMTTYPE=image/png:https://www.burlo-borkenwirthe.de/wp-content/uploads/2023/05/Bild_2023-05-12_170018304.png
END:VEVENT
BEGIN:VEVENT
DTSTART;TZID=Europe/Berlin:20241022T193000
DTEND;TZID=Europe/Berlin:20241022T210000
DTSTAMP:20260420T180922
CREATED:20240923T151147Z
LAST-MODIFIED:20240923T151147Z
UID:10004743-1729625400-1729630800@www.burlo-borkenwirthe.de
SUMMARY:LandFrauen - Vortrag Außerfamiliäre Hofnachfolge
DESCRIPTION:
URL:https://www.burlo-borkenwirthe.de/event/landfrauen-vortrag-ausserfamiliaere-hofnachfolge/
LOCATION:Hotel Fliederbusch\, Hohe Oststraße 20\, Borken\, 46325\, Germany
CATEGORIES:Nicht öffentlich,Vortrag
ATTACH;FMTTYPE=image/jpeg:https://www.burlo-borkenwirthe.de/wp-content/uploads/2024/09/Landfrauen_Hofnachfolge_2024-e1727104259835.jpg
END:VEVENT
END:VCALENDAR