BEGIN:VCALENDAR
VERSION:2.0
PRODID:-//Werbekreis Burlo und Borkenwirthe - ECPv6.15.18//NONSGML v1.0//EN
CALSCALE:GREGORIAN
METHOD:PUBLISH
X-ORIGINAL-URL:https://www.burlo-borkenwirthe.de
X-WR-CALDESC:Veranstaltungen für Werbekreis Burlo und Borkenwirthe
REFRESH-INTERVAL;VALUE=DURATION:PT1H
X-Robots-Tag:noindex
X-PUBLISHED-TTL:PT1H
BEGIN:VTIMEZONE
TZID:Europe/Berlin
BEGIN:DAYLIGHT
TZOFFSETFROM:+0100
TZOFFSETTO:+0200
TZNAME:CEST
DTSTART:20220327T010000
END:DAYLIGHT
BEGIN:STANDARD
TZOFFSETFROM:+0200
TZOFFSETTO:+0100
TZNAME:CET
DTSTART:20221030T010000
END:STANDARD
BEGIN:DAYLIGHT
TZOFFSETFROM:+0100
TZOFFSETTO:+0200
TZNAME:CEST
DTSTART:20230326T010000
END:DAYLIGHT
BEGIN:STANDARD
TZOFFSETFROM:+0200
TZOFFSETTO:+0100
TZNAME:CET
DTSTART:20231029T010000
END:STANDARD
BEGIN:DAYLIGHT
TZOFFSETFROM:+0100
TZOFFSETTO:+0200
TZNAME:CEST
DTSTART:20240331T010000
END:DAYLIGHT
BEGIN:STANDARD
TZOFFSETFROM:+0200
TZOFFSETTO:+0100
TZNAME:CET
DTSTART:20241027T010000
END:STANDARD
BEGIN:DAYLIGHT
TZOFFSETFROM:+0100
TZOFFSETTO:+0200
TZNAME:CEST
DTSTART:20250330T010000
END:DAYLIGHT
BEGIN:STANDARD
TZOFFSETFROM:+0200
TZOFFSETTO:+0100
TZNAME:CET
DTSTART:20251026T010000
END:STANDARD
END:VTIMEZONE
BEGIN:VEVENT
DTSTART;TZID=Europe/Berlin:20240313T190000
DTEND;TZID=Europe/Berlin:20240313T190000
DTSTAMP:20260421T080927
CREATED:20230614T172553Z
LAST-MODIFIED:20251202T165443Z
UID:10003285-1710356400-1710356400@www.burlo-borkenwirthe.de
SUMMARY:Nordic-Walking in Bowi - Landfrauen
DESCRIPTION:Unsere Walking-Gruppe ist super angelaufen… \nNun möchten wir uns jeden Mittwoch um 19.00 Uhr in Borkenwirthe an der Kirche treffen\, um dann ca. 5 km zu walken. Wer Zeit und Lust dazu hat\, ist herzlich eingeladen. \nInfos bei Ann-Christin Wesseling-Effing unter 0157/38311701 \n 
URL:https://www.burlo-borkenwirthe.de/event/nordic-walking-in-bowi-landfrauen/2024-03-13/
CATEGORIES:Sport,Wanderungen
ATTACH;FMTTYPE=image/png:https://www.burlo-borkenwirthe.de/wp-content/uploads/2023/05/Bild_2023-05-12_170018304.png
END:VEVENT
BEGIN:VEVENT
DTSTART;TZID=Europe/Berlin:20240311T184500
DTEND;TZID=Europe/Berlin:20240311T201500
DTSTAMP:20260421T080927
CREATED:20230925T083919Z
LAST-MODIFIED:20230925T084437Z
UID:10004327-1710182700-1710188100@www.burlo-borkenwirthe.de
SUMMARY:LandFrauen - ChiKung
DESCRIPTION:jeden Montag in der Turnhalle Borkenwirthe \n 
URL:https://www.burlo-borkenwirthe.de/event/landfrauen-chikung/2024-03-11/
LOCATION:Turnhalle Borkenwirthe\, Engeland Esch 35\, Borkenwirthe\, NRW\, 46325\, Germany
CATEGORIES:Sonstiges
ATTACH;FMTTYPE=image/png:https://www.burlo-borkenwirthe.de/wp-content/uploads/2023/05/Bild_2023-05-12_170018304.png
END:VEVENT
BEGIN:VEVENT
DTSTART;TZID=Europe/Berlin:20240308T190000
DTEND;TZID=Europe/Berlin:20240308T190000
DTSTAMP:20260421T080927
CREATED:20240204T151047Z
LAST-MODIFIED:20240215T145855Z
UID:10004472-1709924400-1709924400@www.burlo-borkenwirthe.de
SUMMARY:Weltfrauentag - Junge LandFrauen
DESCRIPTION:Liebe LandFrauen\, \nwir möchten euch gerne am Weltfrauentag\, 08.03.2024 einladen\, uns Frauen\, selbst zu feiern. \nBitte tragt euch bis zum 03.03.24 in die Umfragen in unserer WhatsApp-Gruppe ein\, damit wir alles zu eurer Zufriedenheit vorbereiten können. Beim Buffet sind eurer Kreativität keine Grenzen gesetzt. Ob herzhaft\, süß\, gekauft oder selbst gemacht\, jeder bringt das mit\, was er mag. \nVielen Dank vorab an alle\, die an diesem Tag mitwirken. \nUnd Achtung: Wir möchten uns gerne jedes Jahr am 08.03. feiern\, also Termin für 2025 vormerken😉. \nAnsprechpartnerinnen:\n– Carina Uebbing\n– Ramona Remmelt \n 
URL:https://www.burlo-borkenwirthe.de/event/weltfrauentag-organisiert-von-den-jugen-landfrauen/
LOCATION:Pfarrheim Borkenwirthe\, Wirther Kirchweg 19\, Borkenwirthe\, 46325\, Germany
CATEGORIES:Nicht öffentlich,Sonstiges
ATTACH;FMTTYPE=image/png:https://www.burlo-borkenwirthe.de/wp-content/uploads/2024/02/LandFrauen_Weltfrauentag2024-e1708009125538.png
END:VEVENT
BEGIN:VEVENT
DTSTART;TZID=Europe/Berlin:20240306T190000
DTEND;TZID=Europe/Berlin:20240306T190000
DTSTAMP:20260421T080927
CREATED:20230614T172553Z
LAST-MODIFIED:20251202T165443Z
UID:10003284-1709751600-1709751600@www.burlo-borkenwirthe.de
SUMMARY:Nordic-Walking in Bowi - Landfrauen
DESCRIPTION:Unsere Walking-Gruppe ist super angelaufen… \nNun möchten wir uns jeden Mittwoch um 19.00 Uhr in Borkenwirthe an der Kirche treffen\, um dann ca. 5 km zu walken. Wer Zeit und Lust dazu hat\, ist herzlich eingeladen. \nInfos bei Ann-Christin Wesseling-Effing unter 0157/38311701 \n 
URL:https://www.burlo-borkenwirthe.de/event/nordic-walking-in-bowi-landfrauen/2024-03-06/
CATEGORIES:Sport,Wanderungen
ATTACH;FMTTYPE=image/png:https://www.burlo-borkenwirthe.de/wp-content/uploads/2023/05/Bild_2023-05-12_170018304.png
END:VEVENT
BEGIN:VEVENT
DTSTART;TZID=Europe/Berlin:20240304T184500
DTEND;TZID=Europe/Berlin:20240304T201500
DTSTAMP:20260421T080927
CREATED:20230925T083919Z
LAST-MODIFIED:20230925T084437Z
UID:10004326-1709577900-1709583300@www.burlo-borkenwirthe.de
SUMMARY:LandFrauen - ChiKung
DESCRIPTION:jeden Montag in der Turnhalle Borkenwirthe \n 
URL:https://www.burlo-borkenwirthe.de/event/landfrauen-chikung/2024-03-04/
LOCATION:Turnhalle Borkenwirthe\, Engeland Esch 35\, Borkenwirthe\, NRW\, 46325\, Germany
CATEGORIES:Sonstiges
ATTACH;FMTTYPE=image/png:https://www.burlo-borkenwirthe.de/wp-content/uploads/2023/05/Bild_2023-05-12_170018304.png
END:VEVENT
BEGIN:VEVENT
DTSTART;TZID=Europe/Berlin:20240301T163000
DTEND;TZID=Europe/Berlin:20240301T163000
DTSTAMP:20260421T080927
CREATED:20240204T150728Z
LAST-MODIFIED:20240204T150728Z
UID:10004471-1709310600-1709310600@www.burlo-borkenwirthe.de
SUMMARY:LandFrauen - Wintergang nach Weseke
DESCRIPTION:In diesem Jahr möchten wir auf unserem Wintergang den Kirchturm von St. Ludgerus in Weseke besichtigen. \nWir treffen uns um 16.30 Uhr bei Petra Albers\, Ossingweg 10 und laufen los. \nUm 18.30 Uhr empfängt uns Johannes Brockjann an der Kirche und führt uns durch den Kirchturm bis nach oben in die Spitze. \nIm Anschluss kehren wir ab ca. 20.00 Uhr beim Gasthof Enning ein und nehmen einen kleinen Imbiss zu uns. \nFür alle\, die nicht mitlaufen möchten\, können Fahrgemeinschaften gebildet werden. Auch wer erst ab 20.00 Uhr dazukommen möchte\, ist herzlich eingeladen. \nAnmeldung bis zum 20.02.2024 bei Angelika Becker-Hardt \n 
URL:https://www.burlo-borkenwirthe.de/event/landfrauen-wintergang-nach-weseke/
CATEGORIES:Ausflug,Nicht öffentlich
ATTACH;FMTTYPE=image/png:https://www.burlo-borkenwirthe.de/wp-content/uploads/2023/05/Bild_2023-05-12_170018304.png
END:VEVENT
BEGIN:VEVENT
DTSTART;TZID=Europe/Berlin:20240228T190000
DTEND;TZID=Europe/Berlin:20240228T190000
DTSTAMP:20260421T080927
CREATED:20230614T172553Z
LAST-MODIFIED:20251202T165443Z
UID:10003283-1709146800-1709146800@www.burlo-borkenwirthe.de
SUMMARY:Nordic-Walking in Bowi - Landfrauen
DESCRIPTION:Unsere Walking-Gruppe ist super angelaufen… \nNun möchten wir uns jeden Mittwoch um 19.00 Uhr in Borkenwirthe an der Kirche treffen\, um dann ca. 5 km zu walken. Wer Zeit und Lust dazu hat\, ist herzlich eingeladen. \nInfos bei Ann-Christin Wesseling-Effing unter 0157/38311701 \n 
URL:https://www.burlo-borkenwirthe.de/event/nordic-walking-in-bowi-landfrauen/2024-02-28/
CATEGORIES:Sport,Wanderungen
ATTACH;FMTTYPE=image/png:https://www.burlo-borkenwirthe.de/wp-content/uploads/2023/05/Bild_2023-05-12_170018304.png
END:VEVENT
BEGIN:VEVENT
DTSTART;TZID=Europe/Berlin:20240226T184500
DTEND;TZID=Europe/Berlin:20240226T201500
DTSTAMP:20260421T080927
CREATED:20230925T083919Z
LAST-MODIFIED:20230925T084437Z
UID:10004325-1708973100-1708978500@www.burlo-borkenwirthe.de
SUMMARY:LandFrauen - ChiKung
DESCRIPTION:jeden Montag in der Turnhalle Borkenwirthe \n 
URL:https://www.burlo-borkenwirthe.de/event/landfrauen-chikung/2024-02-26/
LOCATION:Turnhalle Borkenwirthe\, Engeland Esch 35\, Borkenwirthe\, NRW\, 46325\, Germany
CATEGORIES:Sonstiges
ATTACH;FMTTYPE=image/png:https://www.burlo-borkenwirthe.de/wp-content/uploads/2023/05/Bild_2023-05-12_170018304.png
END:VEVENT
BEGIN:VEVENT
DTSTART;TZID=Europe/Berlin:20240221T190000
DTEND;TZID=Europe/Berlin:20240221T190000
DTSTAMP:20260421T080927
CREATED:20240204T150457Z
LAST-MODIFIED:20240204T150457Z
UID:10004470-1708542000-1708542000@www.burlo-borkenwirthe.de
SUMMARY:LandFrauen Klangschalen-Abend im Pfarrheim
DESCRIPTION:mit Christina Korte \nab 19.00 Uhr \nbegrenzte Teilnehmerzahl Teilnehmer-Gebühr: 10\,00 € \nWeitere Infos zur Anmeldung usw. in der WhatsApp-Gruppe \n 
URL:https://www.burlo-borkenwirthe.de/event/landfrauen-klangschalen-abend-im-pfarrheim/
LOCATION:Pfarrheim Borkenwirthe\, Wirther Kirchweg 19\, Borkenwirthe\, 46325\, Germany
CATEGORIES:Nicht öffentlich,Sonstiges
ATTACH;FMTTYPE=image/png:https://www.burlo-borkenwirthe.de/wp-content/uploads/2024/02/Peter-Hess.png
END:VEVENT
BEGIN:VEVENT
DTSTART;TZID=Europe/Berlin:20240221T190000
DTEND;TZID=Europe/Berlin:20240221T190000
DTSTAMP:20260421T080927
CREATED:20230614T172553Z
LAST-MODIFIED:20251202T165443Z
UID:10003282-1708542000-1708542000@www.burlo-borkenwirthe.de
SUMMARY:Nordic-Walking in Bowi - Landfrauen
DESCRIPTION:Unsere Walking-Gruppe ist super angelaufen… \nNun möchten wir uns jeden Mittwoch um 19.00 Uhr in Borkenwirthe an der Kirche treffen\, um dann ca. 5 km zu walken. Wer Zeit und Lust dazu hat\, ist herzlich eingeladen. \nInfos bei Ann-Christin Wesseling-Effing unter 0157/38311701 \n 
URL:https://www.burlo-borkenwirthe.de/event/nordic-walking-in-bowi-landfrauen/2024-02-21/
CATEGORIES:Sport,Wanderungen
ATTACH;FMTTYPE=image/png:https://www.burlo-borkenwirthe.de/wp-content/uploads/2023/05/Bild_2023-05-12_170018304.png
END:VEVENT
BEGIN:VEVENT
DTSTART;TZID=Europe/Berlin:20240219T184500
DTEND;TZID=Europe/Berlin:20240219T201500
DTSTAMP:20260421T080927
CREATED:20230925T083919Z
LAST-MODIFIED:20230925T084437Z
UID:10004324-1708368300-1708373700@www.burlo-borkenwirthe.de
SUMMARY:LandFrauen - ChiKung
DESCRIPTION:jeden Montag in der Turnhalle Borkenwirthe \n 
URL:https://www.burlo-borkenwirthe.de/event/landfrauen-chikung/2024-02-19/
LOCATION:Turnhalle Borkenwirthe\, Engeland Esch 35\, Borkenwirthe\, NRW\, 46325\, Germany
CATEGORIES:Sonstiges
ATTACH;FMTTYPE=image/png:https://www.burlo-borkenwirthe.de/wp-content/uploads/2023/05/Bild_2023-05-12_170018304.png
END:VEVENT
BEGIN:VEVENT
DTSTART;TZID=Europe/Berlin:20240214T190000
DTEND;TZID=Europe/Berlin:20240214T190000
DTSTAMP:20260421T080927
CREATED:20230614T172553Z
LAST-MODIFIED:20251202T165443Z
UID:10003281-1707937200-1707937200@www.burlo-borkenwirthe.de
SUMMARY:Nordic-Walking in Bowi - Landfrauen
DESCRIPTION:Unsere Walking-Gruppe ist super angelaufen… \nNun möchten wir uns jeden Mittwoch um 19.00 Uhr in Borkenwirthe an der Kirche treffen\, um dann ca. 5 km zu walken. Wer Zeit und Lust dazu hat\, ist herzlich eingeladen. \nInfos bei Ann-Christin Wesseling-Effing unter 0157/38311701 \n 
URL:https://www.burlo-borkenwirthe.de/event/nordic-walking-in-bowi-landfrauen/2024-02-14/
CATEGORIES:Sport,Wanderungen
ATTACH;FMTTYPE=image/png:https://www.burlo-borkenwirthe.de/wp-content/uploads/2023/05/Bild_2023-05-12_170018304.png
END:VEVENT
BEGIN:VEVENT
DTSTART;TZID=Europe/Berlin:20240212T184500
DTEND;TZID=Europe/Berlin:20240212T201500
DTSTAMP:20260421T080927
CREATED:20230925T083919Z
LAST-MODIFIED:20230925T084437Z
UID:10004323-1707763500-1707768900@www.burlo-borkenwirthe.de
SUMMARY:LandFrauen - ChiKung
DESCRIPTION:jeden Montag in der Turnhalle Borkenwirthe \n 
URL:https://www.burlo-borkenwirthe.de/event/landfrauen-chikung/2024-02-12/
LOCATION:Turnhalle Borkenwirthe\, Engeland Esch 35\, Borkenwirthe\, NRW\, 46325\, Germany
CATEGORIES:Sonstiges
ATTACH;FMTTYPE=image/png:https://www.burlo-borkenwirthe.de/wp-content/uploads/2023/05/Bild_2023-05-12_170018304.png
END:VEVENT
BEGIN:VEVENT
DTSTART;TZID=Europe/Berlin:20240207T190000
DTEND;TZID=Europe/Berlin:20240207T190000
DTSTAMP:20260421T080927
CREATED:20230614T172553Z
LAST-MODIFIED:20251202T165443Z
UID:10003280-1707332400-1707332400@www.burlo-borkenwirthe.de
SUMMARY:Nordic-Walking in Bowi - Landfrauen
DESCRIPTION:Unsere Walking-Gruppe ist super angelaufen… \nNun möchten wir uns jeden Mittwoch um 19.00 Uhr in Borkenwirthe an der Kirche treffen\, um dann ca. 5 km zu walken. Wer Zeit und Lust dazu hat\, ist herzlich eingeladen. \nInfos bei Ann-Christin Wesseling-Effing unter 0157/38311701 \n 
URL:https://www.burlo-borkenwirthe.de/event/nordic-walking-in-bowi-landfrauen/2024-02-07/
CATEGORIES:Sport,Wanderungen
ATTACH;FMTTYPE=image/png:https://www.burlo-borkenwirthe.de/wp-content/uploads/2023/05/Bild_2023-05-12_170018304.png
END:VEVENT
BEGIN:VEVENT
DTSTART;TZID=Europe/Berlin:20240205T184500
DTEND;TZID=Europe/Berlin:20240205T201500
DTSTAMP:20260421T080927
CREATED:20230925T083919Z
LAST-MODIFIED:20230925T084437Z
UID:10004322-1707158700-1707164100@www.burlo-borkenwirthe.de
SUMMARY:LandFrauen - ChiKung
DESCRIPTION:jeden Montag in der Turnhalle Borkenwirthe \n 
URL:https://www.burlo-borkenwirthe.de/event/landfrauen-chikung/2024-02-05/
LOCATION:Turnhalle Borkenwirthe\, Engeland Esch 35\, Borkenwirthe\, NRW\, 46325\, Germany
CATEGORIES:Sonstiges
ATTACH;FMTTYPE=image/png:https://www.burlo-borkenwirthe.de/wp-content/uploads/2023/05/Bild_2023-05-12_170018304.png
END:VEVENT
BEGIN:VEVENT
DTSTART;TZID=Europe/Berlin:20240202T160000
DTEND;TZID=Europe/Berlin:20240202T180000
DTSTAMP:20260421T080927
CREATED:20240204T161005Z
LAST-MODIFIED:20240204T161005Z
UID:10003613-1706889600-1706896800@www.burlo-borkenwirthe.de
SUMMARY:Familienkarneval in Borkenwirthe
DESCRIPTION:
URL:https://www.burlo-borkenwirthe.de/event/familienkarneval-in-borkenwirthe-3/
LOCATION:Turnhalle Borkenwirthe\, Engeland Esch 35\, Borkenwirthe\, NRW\, 46325\, Germany
CATEGORIES:Fest,Jugendbetreuung
ATTACH;FMTTYPE=image/png:https://www.burlo-borkenwirthe.de/wp-content/uploads/2024/02/Karneval_Borkenwirthe-2024.png
END:VEVENT
BEGIN:VEVENT
DTSTART;TZID=Europe/Berlin:20240202T160000
DTEND;TZID=Europe/Berlin:20240202T180000
DTSTAMP:20260421T080927
CREATED:20231118T140042Z
LAST-MODIFIED:20231118T140108Z
UID:10004457-1706889600-1706896800@www.burlo-borkenwirthe.de
SUMMARY:Familienkarneval in Borkenwirthe
DESCRIPTION:Für ein großes\, buntes Buffet bringt bitte jeder etwas mit. Ebenso möge bitte jede Familie Getränke für sich selbst mitbringen. \nBitte denkt auch an Stoppersocken oder Turnschläppchen. \nWir freuen uns auf viele verschiedene Kostüme und einen tollen Nachmittag mit Euch! \nAnmeldung bis zum 26.01.2024 bei Carina Uebbing. \nTeilnahme auch für Nicht-Mitglieder möglich!! LandFrauen-Mitglieder haben jedoch Vorfahrt. \nBehaltet als festen Termin für den Familienkarneval gerne immer den Freitag vor Altweiber im Hinterkopf. (21.02.2025) \n  \nJunge Landfrauen \n 
URL:https://www.burlo-borkenwirthe.de/event/familienkarneval-in-borkenwirthe-2/
LOCATION:Turnhalle Borkenwirthe\, Engeland Esch 35\, Borkenwirthe\, NRW\, 46325\, Germany
CATEGORIES:Fest,Jugendbetreuung
ATTACH;FMTTYPE=image/png:https://www.burlo-borkenwirthe.de/wp-content/uploads/2023/05/Bild_2023-05-12_170018304.png
END:VEVENT
BEGIN:VEVENT
DTSTART;TZID=Europe/Berlin:20240131T190000
DTEND;TZID=Europe/Berlin:20240131T190000
DTSTAMP:20260421T080927
CREATED:20230614T172553Z
LAST-MODIFIED:20251202T165443Z
UID:10003279-1706727600-1706727600@www.burlo-borkenwirthe.de
SUMMARY:Nordic-Walking in Bowi - Landfrauen
DESCRIPTION:Unsere Walking-Gruppe ist super angelaufen… \nNun möchten wir uns jeden Mittwoch um 19.00 Uhr in Borkenwirthe an der Kirche treffen\, um dann ca. 5 km zu walken. Wer Zeit und Lust dazu hat\, ist herzlich eingeladen. \nInfos bei Ann-Christin Wesseling-Effing unter 0157/38311701 \n 
URL:https://www.burlo-borkenwirthe.de/event/nordic-walking-in-bowi-landfrauen/2024-01-31/
CATEGORIES:Sport,Wanderungen
ATTACH;FMTTYPE=image/png:https://www.burlo-borkenwirthe.de/wp-content/uploads/2023/05/Bild_2023-05-12_170018304.png
END:VEVENT
BEGIN:VEVENT
DTSTART;TZID=Europe/Berlin:20240129T184500
DTEND;TZID=Europe/Berlin:20240129T201500
DTSTAMP:20260421T080927
CREATED:20230925T083919Z
LAST-MODIFIED:20230925T084437Z
UID:10004321-1706553900-1706559300@www.burlo-borkenwirthe.de
SUMMARY:LandFrauen - ChiKung
DESCRIPTION:jeden Montag in der Turnhalle Borkenwirthe \n 
URL:https://www.burlo-borkenwirthe.de/event/landfrauen-chikung/2024-01-29/
LOCATION:Turnhalle Borkenwirthe\, Engeland Esch 35\, Borkenwirthe\, NRW\, 46325\, Germany
CATEGORIES:Sonstiges
ATTACH;FMTTYPE=image/png:https://www.burlo-borkenwirthe.de/wp-content/uploads/2023/05/Bild_2023-05-12_170018304.png
END:VEVENT
BEGIN:VEVENT
DTSTART;TZID=Europe/Berlin:20240124T190000
DTEND;TZID=Europe/Berlin:20240124T190000
DTSTAMP:20260421T080927
CREATED:20230614T172553Z
LAST-MODIFIED:20251202T165443Z
UID:10003278-1706122800-1706122800@www.burlo-borkenwirthe.de
SUMMARY:Nordic-Walking in Bowi - Landfrauen
DESCRIPTION:Unsere Walking-Gruppe ist super angelaufen… \nNun möchten wir uns jeden Mittwoch um 19.00 Uhr in Borkenwirthe an der Kirche treffen\, um dann ca. 5 km zu walken. Wer Zeit und Lust dazu hat\, ist herzlich eingeladen. \nInfos bei Ann-Christin Wesseling-Effing unter 0157/38311701 \n 
URL:https://www.burlo-borkenwirthe.de/event/nordic-walking-in-bowi-landfrauen/2024-01-24/
CATEGORIES:Sport,Wanderungen
ATTACH;FMTTYPE=image/png:https://www.burlo-borkenwirthe.de/wp-content/uploads/2023/05/Bild_2023-05-12_170018304.png
END:VEVENT
BEGIN:VEVENT
DTSTART;TZID=Europe/Berlin:20240122T184500
DTEND;TZID=Europe/Berlin:20240122T201500
DTSTAMP:20260421T080927
CREATED:20230925T083919Z
LAST-MODIFIED:20230925T084437Z
UID:10004320-1705949100-1705954500@www.burlo-borkenwirthe.de
SUMMARY:LandFrauen - ChiKung
DESCRIPTION:jeden Montag in der Turnhalle Borkenwirthe \n 
URL:https://www.burlo-borkenwirthe.de/event/landfrauen-chikung/2024-01-22/
LOCATION:Turnhalle Borkenwirthe\, Engeland Esch 35\, Borkenwirthe\, NRW\, 46325\, Germany
CATEGORIES:Sonstiges
ATTACH;FMTTYPE=image/png:https://www.burlo-borkenwirthe.de/wp-content/uploads/2023/05/Bild_2023-05-12_170018304.png
END:VEVENT
BEGIN:VEVENT
DTSTART;TZID=Europe/Berlin:20240117T190000
DTEND;TZID=Europe/Berlin:20240117T190000
DTSTAMP:20260421T080927
CREATED:20230614T172553Z
LAST-MODIFIED:20251202T165443Z
UID:10003277-1705518000-1705518000@www.burlo-borkenwirthe.de
SUMMARY:Nordic-Walking in Bowi - Landfrauen
DESCRIPTION:Unsere Walking-Gruppe ist super angelaufen… \nNun möchten wir uns jeden Mittwoch um 19.00 Uhr in Borkenwirthe an der Kirche treffen\, um dann ca. 5 km zu walken. Wer Zeit und Lust dazu hat\, ist herzlich eingeladen. \nInfos bei Ann-Christin Wesseling-Effing unter 0157/38311701 \n 
URL:https://www.burlo-borkenwirthe.de/event/nordic-walking-in-bowi-landfrauen/2024-01-17/
CATEGORIES:Sport,Wanderungen
ATTACH;FMTTYPE=image/png:https://www.burlo-borkenwirthe.de/wp-content/uploads/2023/05/Bild_2023-05-12_170018304.png
END:VEVENT
BEGIN:VEVENT
DTSTART;TZID=Europe/Berlin:20240115T184500
DTEND;TZID=Europe/Berlin:20240115T201500
DTSTAMP:20260421T080927
CREATED:20230925T083919Z
LAST-MODIFIED:20230925T084437Z
UID:10004319-1705344300-1705349700@www.burlo-borkenwirthe.de
SUMMARY:LandFrauen - ChiKung
DESCRIPTION:jeden Montag in der Turnhalle Borkenwirthe \n 
URL:https://www.burlo-borkenwirthe.de/event/landfrauen-chikung/2024-01-15/
LOCATION:Turnhalle Borkenwirthe\, Engeland Esch 35\, Borkenwirthe\, NRW\, 46325\, Germany
CATEGORIES:Sonstiges
ATTACH;FMTTYPE=image/png:https://www.burlo-borkenwirthe.de/wp-content/uploads/2023/05/Bild_2023-05-12_170018304.png
END:VEVENT
BEGIN:VEVENT
DTSTART;TZID=Europe/Berlin:20240112T193000
DTEND;TZID=Europe/Berlin:20240112T193000
DTSTAMP:20260421T080927
CREATED:20231118T135704Z
LAST-MODIFIED:20231118T135704Z
UID:10004456-1705087800-1705087800@www.burlo-borkenwirthe.de
SUMMARY:Neujahrstreffen der Landfrauen mit Glühwein und Feuerschein
DESCRIPTION:Lockeres Treffen draußen vor dem Pfarrheim bei Feuerschein mit Glühwein und Gebäck. \nAnmeldung bis zum 08.01.2024 bei Angelika Becker-Hardt. \n 
URL:https://www.burlo-borkenwirthe.de/event/neujahrstreffen-der-landfrauen-mit-gluehwein-und-feuerschein/
LOCATION:Pfarrheim Borkenwirthe\, Wirther Kirchweg 19\, Borkenwirthe\, 46325\, Germany
CATEGORIES:Sonstiges
ATTACH;FMTTYPE=image/png:https://www.burlo-borkenwirthe.de/wp-content/uploads/2023/11/Screenshot-2023-11-18-145449.png
END:VEVENT
BEGIN:VEVENT
DTSTART;TZID=Europe/Berlin:20240110T190000
DTEND;TZID=Europe/Berlin:20240110T190000
DTSTAMP:20260421T080927
CREATED:20230614T172553Z
LAST-MODIFIED:20251202T165443Z
UID:10003276-1704913200-1704913200@www.burlo-borkenwirthe.de
SUMMARY:Nordic-Walking in Bowi - Landfrauen
DESCRIPTION:Unsere Walking-Gruppe ist super angelaufen… \nNun möchten wir uns jeden Mittwoch um 19.00 Uhr in Borkenwirthe an der Kirche treffen\, um dann ca. 5 km zu walken. Wer Zeit und Lust dazu hat\, ist herzlich eingeladen. \nInfos bei Ann-Christin Wesseling-Effing unter 0157/38311701 \n 
URL:https://www.burlo-borkenwirthe.de/event/nordic-walking-in-bowi-landfrauen/2024-01-10/
CATEGORIES:Sport,Wanderungen
ATTACH;FMTTYPE=image/png:https://www.burlo-borkenwirthe.de/wp-content/uploads/2023/05/Bild_2023-05-12_170018304.png
END:VEVENT
BEGIN:VEVENT
DTSTART;TZID=Europe/Berlin:20240108T184500
DTEND;TZID=Europe/Berlin:20240108T201500
DTSTAMP:20260421T080927
CREATED:20230925T083919Z
LAST-MODIFIED:20230925T084437Z
UID:10004318-1704739500-1704744900@www.burlo-borkenwirthe.de
SUMMARY:LandFrauen - ChiKung
DESCRIPTION:jeden Montag in der Turnhalle Borkenwirthe \n 
URL:https://www.burlo-borkenwirthe.de/event/landfrauen-chikung/2024-01-08/
LOCATION:Turnhalle Borkenwirthe\, Engeland Esch 35\, Borkenwirthe\, NRW\, 46325\, Germany
CATEGORIES:Sonstiges
ATTACH;FMTTYPE=image/png:https://www.burlo-borkenwirthe.de/wp-content/uploads/2023/05/Bild_2023-05-12_170018304.png
END:VEVENT
BEGIN:VEVENT
DTSTART;TZID=Europe/Berlin:20240103T190000
DTEND;TZID=Europe/Berlin:20240103T190000
DTSTAMP:20260421T080927
CREATED:20230614T172553Z
LAST-MODIFIED:20251202T165443Z
UID:10003275-1704308400-1704308400@www.burlo-borkenwirthe.de
SUMMARY:Nordic-Walking in Bowi - Landfrauen
DESCRIPTION:Unsere Walking-Gruppe ist super angelaufen… \nNun möchten wir uns jeden Mittwoch um 19.00 Uhr in Borkenwirthe an der Kirche treffen\, um dann ca. 5 km zu walken. Wer Zeit und Lust dazu hat\, ist herzlich eingeladen. \nInfos bei Ann-Christin Wesseling-Effing unter 0157/38311701 \n 
URL:https://www.burlo-borkenwirthe.de/event/nordic-walking-in-bowi-landfrauen/2024-01-03/
CATEGORIES:Sport,Wanderungen
ATTACH;FMTTYPE=image/png:https://www.burlo-borkenwirthe.de/wp-content/uploads/2023/05/Bild_2023-05-12_170018304.png
END:VEVENT
BEGIN:VEVENT
DTSTART;TZID=Europe/Berlin:20240101T184500
DTEND;TZID=Europe/Berlin:20240101T201500
DTSTAMP:20260421T080927
CREATED:20230925T083919Z
LAST-MODIFIED:20230925T084437Z
UID:10004317-1704134700-1704140100@www.burlo-borkenwirthe.de
SUMMARY:LandFrauen - ChiKung
DESCRIPTION:jeden Montag in der Turnhalle Borkenwirthe \n 
URL:https://www.burlo-borkenwirthe.de/event/landfrauen-chikung/2024-01-01/
LOCATION:Turnhalle Borkenwirthe\, Engeland Esch 35\, Borkenwirthe\, NRW\, 46325\, Germany
CATEGORIES:Sonstiges
ATTACH;FMTTYPE=image/png:https://www.burlo-borkenwirthe.de/wp-content/uploads/2023/05/Bild_2023-05-12_170018304.png
END:VEVENT
BEGIN:VEVENT
DTSTART;TZID=Europe/Berlin:20231227T190000
DTEND;TZID=Europe/Berlin:20231227T190000
DTSTAMP:20260421T080927
CREATED:20230614T172553Z
LAST-MODIFIED:20251202T165443Z
UID:10003274-1703703600-1703703600@www.burlo-borkenwirthe.de
SUMMARY:Nordic-Walking in Bowi - Landfrauen
DESCRIPTION:Unsere Walking-Gruppe ist super angelaufen… \nNun möchten wir uns jeden Mittwoch um 19.00 Uhr in Borkenwirthe an der Kirche treffen\, um dann ca. 5 km zu walken. Wer Zeit und Lust dazu hat\, ist herzlich eingeladen. \nInfos bei Ann-Christin Wesseling-Effing unter 0157/38311701 \n 
URL:https://www.burlo-borkenwirthe.de/event/nordic-walking-in-bowi-landfrauen/2023-12-27/
CATEGORIES:Sport,Wanderungen
ATTACH;FMTTYPE=image/png:https://www.burlo-borkenwirthe.de/wp-content/uploads/2023/05/Bild_2023-05-12_170018304.png
END:VEVENT
BEGIN:VEVENT
DTSTART;TZID=Europe/Berlin:20231220T190000
DTEND;TZID=Europe/Berlin:20231220T190000
DTSTAMP:20260421T080927
CREATED:20230614T172553Z
LAST-MODIFIED:20251202T165443Z
UID:10003273-1703098800-1703098800@www.burlo-borkenwirthe.de
SUMMARY:Nordic-Walking in Bowi - Landfrauen
DESCRIPTION:Unsere Walking-Gruppe ist super angelaufen… \nNun möchten wir uns jeden Mittwoch um 19.00 Uhr in Borkenwirthe an der Kirche treffen\, um dann ca. 5 km zu walken. Wer Zeit und Lust dazu hat\, ist herzlich eingeladen. \nInfos bei Ann-Christin Wesseling-Effing unter 0157/38311701 \n 
URL:https://www.burlo-borkenwirthe.de/event/nordic-walking-in-bowi-landfrauen/2023-12-20/
CATEGORIES:Sport,Wanderungen
ATTACH;FMTTYPE=image/png:https://www.burlo-borkenwirthe.de/wp-content/uploads/2023/05/Bild_2023-05-12_170018304.png
END:VEVENT
END:VCALENDAR