BEGIN:VCALENDAR
VERSION:2.0
PRODID:-//Werbekreis Burlo und Borkenwirthe - ECPv6.15.18//NONSGML v1.0//EN
CALSCALE:GREGORIAN
METHOD:PUBLISH
X-WR-CALNAME:Werbekreis Burlo und Borkenwirthe
X-ORIGINAL-URL:https://www.burlo-borkenwirthe.de
X-WR-CALDESC:Veranstaltungen für Werbekreis Burlo und Borkenwirthe
REFRESH-INTERVAL;VALUE=DURATION:PT1H
X-Robots-Tag:noindex
X-PUBLISHED-TTL:PT1H
BEGIN:VTIMEZONE
TZID:Europe/Berlin
BEGIN:DAYLIGHT
TZOFFSETFROM:+0100
TZOFFSETTO:+0200
TZNAME:CEST
DTSTART:20280326T010000
END:DAYLIGHT
BEGIN:STANDARD
TZOFFSETFROM:+0200
TZOFFSETTO:+0100
TZNAME:CET
DTSTART:20281029T010000
END:STANDARD
BEGIN:DAYLIGHT
TZOFFSETFROM:+0100
TZOFFSETTO:+0200
TZNAME:CEST
DTSTART:20290325T010000
END:DAYLIGHT
BEGIN:STANDARD
TZOFFSETFROM:+0200
TZOFFSETTO:+0100
TZNAME:CET
DTSTART:20291028T010000
END:STANDARD
BEGIN:DAYLIGHT
TZOFFSETFROM:+0100
TZOFFSETTO:+0200
TZNAME:CEST
DTSTART:20300331T010000
END:DAYLIGHT
BEGIN:STANDARD
TZOFFSETFROM:+0200
TZOFFSETTO:+0100
TZNAME:CET
DTSTART:20301027T010000
END:STANDARD
BEGIN:DAYLIGHT
TZOFFSETFROM:+0100
TZOFFSETTO:+0200
TZNAME:CEST
DTSTART:20310330T010000
END:DAYLIGHT
BEGIN:STANDARD
TZOFFSETFROM:+0200
TZOFFSETTO:+0100
TZNAME:CET
DTSTART:20311026T010000
END:STANDARD
END:VTIMEZONE
BEGIN:VEVENT
DTSTART;TZID=Europe/Berlin:20291219T190000
DTEND;TZID=Europe/Berlin:20291219T190000
DTSTAMP:20260421T040817
CREATED:20230614T172553Z
LAST-MODIFIED:20251202T165443Z
UID:10004917-1892401200-1892401200@www.burlo-borkenwirthe.de
SUMMARY:Nordic-Walking in Bowi - Landfrauen
DESCRIPTION:Unsere Walking-Gruppe ist super angelaufen… \nNun möchten wir uns jeden Mittwoch um 19.00 Uhr in Borkenwirthe an der Kirche treffen\, um dann ca. 5 km zu walken. Wer Zeit und Lust dazu hat\, ist herzlich eingeladen. \nInfos bei Ann-Christin Wesseling-Effing unter 0157/38311701 \n 
URL:https://www.burlo-borkenwirthe.de/event/nordic-walking-in-bowi-landfrauen/2029-12-19/
CATEGORIES:Sport,Wanderungen
ATTACH;FMTTYPE=image/png:https://www.burlo-borkenwirthe.de/wp-content/uploads/2023/05/Bild_2023-05-12_170018304.png
END:VEVENT
BEGIN:VEVENT
DTSTART;TZID=Europe/Berlin:20291226T190000
DTEND;TZID=Europe/Berlin:20291226T190000
DTSTAMP:20260421T040817
CREATED:20230614T172553Z
LAST-MODIFIED:20251202T165443Z
UID:10004918-1893006000-1893006000@www.burlo-borkenwirthe.de
SUMMARY:Nordic-Walking in Bowi - Landfrauen
DESCRIPTION:Unsere Walking-Gruppe ist super angelaufen… \nNun möchten wir uns jeden Mittwoch um 19.00 Uhr in Borkenwirthe an der Kirche treffen\, um dann ca. 5 km zu walken. Wer Zeit und Lust dazu hat\, ist herzlich eingeladen. \nInfos bei Ann-Christin Wesseling-Effing unter 0157/38311701 \n 
URL:https://www.burlo-borkenwirthe.de/event/nordic-walking-in-bowi-landfrauen/2029-12-26/
CATEGORIES:Sport,Wanderungen
ATTACH;FMTTYPE=image/png:https://www.burlo-borkenwirthe.de/wp-content/uploads/2023/05/Bild_2023-05-12_170018304.png
END:VEVENT
BEGIN:VEVENT
DTSTART;TZID=Europe/Berlin:20300102T190000
DTEND;TZID=Europe/Berlin:20300102T190000
DTSTAMP:20260421T040817
CREATED:20230614T172553Z
LAST-MODIFIED:20251202T165443Z
UID:10004919-1893610800-1893610800@www.burlo-borkenwirthe.de
SUMMARY:Nordic-Walking in Bowi - Landfrauen
DESCRIPTION:Unsere Walking-Gruppe ist super angelaufen… \nNun möchten wir uns jeden Mittwoch um 19.00 Uhr in Borkenwirthe an der Kirche treffen\, um dann ca. 5 km zu walken. Wer Zeit und Lust dazu hat\, ist herzlich eingeladen. \nInfos bei Ann-Christin Wesseling-Effing unter 0157/38311701 \n 
URL:https://www.burlo-borkenwirthe.de/event/nordic-walking-in-bowi-landfrauen/2030-01-02/
CATEGORIES:Sport,Wanderungen
ATTACH;FMTTYPE=image/png:https://www.burlo-borkenwirthe.de/wp-content/uploads/2023/05/Bild_2023-05-12_170018304.png
END:VEVENT
BEGIN:VEVENT
DTSTART;TZID=Europe/Berlin:20300109T190000
DTEND;TZID=Europe/Berlin:20300109T190000
DTSTAMP:20260421T040817
CREATED:20230614T172553Z
LAST-MODIFIED:20251202T165443Z
UID:10004920-1894215600-1894215600@www.burlo-borkenwirthe.de
SUMMARY:Nordic-Walking in Bowi - Landfrauen
DESCRIPTION:Unsere Walking-Gruppe ist super angelaufen… \nNun möchten wir uns jeden Mittwoch um 19.00 Uhr in Borkenwirthe an der Kirche treffen\, um dann ca. 5 km zu walken. Wer Zeit und Lust dazu hat\, ist herzlich eingeladen. \nInfos bei Ann-Christin Wesseling-Effing unter 0157/38311701 \n 
URL:https://www.burlo-borkenwirthe.de/event/nordic-walking-in-bowi-landfrauen/2030-01-09/
CATEGORIES:Sport,Wanderungen
ATTACH;FMTTYPE=image/png:https://www.burlo-borkenwirthe.de/wp-content/uploads/2023/05/Bild_2023-05-12_170018304.png
END:VEVENT
BEGIN:VEVENT
DTSTART;TZID=Europe/Berlin:20300116T190000
DTEND;TZID=Europe/Berlin:20300116T190000
DTSTAMP:20260421T040817
CREATED:20230614T172553Z
LAST-MODIFIED:20251202T165443Z
UID:10004921-1894820400-1894820400@www.burlo-borkenwirthe.de
SUMMARY:Nordic-Walking in Bowi - Landfrauen
DESCRIPTION:Unsere Walking-Gruppe ist super angelaufen… \nNun möchten wir uns jeden Mittwoch um 19.00 Uhr in Borkenwirthe an der Kirche treffen\, um dann ca. 5 km zu walken. Wer Zeit und Lust dazu hat\, ist herzlich eingeladen. \nInfos bei Ann-Christin Wesseling-Effing unter 0157/38311701 \n 
URL:https://www.burlo-borkenwirthe.de/event/nordic-walking-in-bowi-landfrauen/2030-01-16/
CATEGORIES:Sport,Wanderungen
ATTACH;FMTTYPE=image/png:https://www.burlo-borkenwirthe.de/wp-content/uploads/2023/05/Bild_2023-05-12_170018304.png
END:VEVENT
BEGIN:VEVENT
DTSTART;TZID=Europe/Berlin:20300123T190000
DTEND;TZID=Europe/Berlin:20300123T190000
DTSTAMP:20260421T040817
CREATED:20230614T172553Z
LAST-MODIFIED:20251202T165443Z
UID:10004922-1895425200-1895425200@www.burlo-borkenwirthe.de
SUMMARY:Nordic-Walking in Bowi - Landfrauen
DESCRIPTION:Unsere Walking-Gruppe ist super angelaufen… \nNun möchten wir uns jeden Mittwoch um 19.00 Uhr in Borkenwirthe an der Kirche treffen\, um dann ca. 5 km zu walken. Wer Zeit und Lust dazu hat\, ist herzlich eingeladen. \nInfos bei Ann-Christin Wesseling-Effing unter 0157/38311701 \n 
URL:https://www.burlo-borkenwirthe.de/event/nordic-walking-in-bowi-landfrauen/2030-01-23/
CATEGORIES:Sport,Wanderungen
ATTACH;FMTTYPE=image/png:https://www.burlo-borkenwirthe.de/wp-content/uploads/2023/05/Bild_2023-05-12_170018304.png
END:VEVENT
BEGIN:VEVENT
DTSTART;TZID=Europe/Berlin:20300130T190000
DTEND;TZID=Europe/Berlin:20300130T190000
DTSTAMP:20260421T040817
CREATED:20230614T172553Z
LAST-MODIFIED:20251202T165443Z
UID:10004923-1896030000-1896030000@www.burlo-borkenwirthe.de
SUMMARY:Nordic-Walking in Bowi - Landfrauen
DESCRIPTION:Unsere Walking-Gruppe ist super angelaufen… \nNun möchten wir uns jeden Mittwoch um 19.00 Uhr in Borkenwirthe an der Kirche treffen\, um dann ca. 5 km zu walken. Wer Zeit und Lust dazu hat\, ist herzlich eingeladen. \nInfos bei Ann-Christin Wesseling-Effing unter 0157/38311701 \n 
URL:https://www.burlo-borkenwirthe.de/event/nordic-walking-in-bowi-landfrauen/2030-01-30/
CATEGORIES:Sport,Wanderungen
ATTACH;FMTTYPE=image/png:https://www.burlo-borkenwirthe.de/wp-content/uploads/2023/05/Bild_2023-05-12_170018304.png
END:VEVENT
BEGIN:VEVENT
DTSTART;TZID=Europe/Berlin:20300206T190000
DTEND;TZID=Europe/Berlin:20300206T190000
DTSTAMP:20260421T040817
CREATED:20230614T172553Z
LAST-MODIFIED:20251202T165443Z
UID:10004924-1896634800-1896634800@www.burlo-borkenwirthe.de
SUMMARY:Nordic-Walking in Bowi - Landfrauen
DESCRIPTION:Unsere Walking-Gruppe ist super angelaufen… \nNun möchten wir uns jeden Mittwoch um 19.00 Uhr in Borkenwirthe an der Kirche treffen\, um dann ca. 5 km zu walken. Wer Zeit und Lust dazu hat\, ist herzlich eingeladen. \nInfos bei Ann-Christin Wesseling-Effing unter 0157/38311701 \n 
URL:https://www.burlo-borkenwirthe.de/event/nordic-walking-in-bowi-landfrauen/2030-02-06/
CATEGORIES:Sport,Wanderungen
ATTACH;FMTTYPE=image/png:https://www.burlo-borkenwirthe.de/wp-content/uploads/2023/05/Bild_2023-05-12_170018304.png
END:VEVENT
BEGIN:VEVENT
DTSTART;TZID=Europe/Berlin:20300213T190000
DTEND;TZID=Europe/Berlin:20300213T190000
DTSTAMP:20260421T040817
CREATED:20230614T172553Z
LAST-MODIFIED:20251202T165443Z
UID:10004925-1897239600-1897239600@www.burlo-borkenwirthe.de
SUMMARY:Nordic-Walking in Bowi - Landfrauen
DESCRIPTION:Unsere Walking-Gruppe ist super angelaufen… \nNun möchten wir uns jeden Mittwoch um 19.00 Uhr in Borkenwirthe an der Kirche treffen\, um dann ca. 5 km zu walken. Wer Zeit und Lust dazu hat\, ist herzlich eingeladen. \nInfos bei Ann-Christin Wesseling-Effing unter 0157/38311701 \n 
URL:https://www.burlo-borkenwirthe.de/event/nordic-walking-in-bowi-landfrauen/2030-02-13/
CATEGORIES:Sport,Wanderungen
ATTACH;FMTTYPE=image/png:https://www.burlo-borkenwirthe.de/wp-content/uploads/2023/05/Bild_2023-05-12_170018304.png
END:VEVENT
BEGIN:VEVENT
DTSTART;TZID=Europe/Berlin:20300220T190000
DTEND;TZID=Europe/Berlin:20300220T190000
DTSTAMP:20260421T040817
CREATED:20230614T172553Z
LAST-MODIFIED:20251202T165443Z
UID:10004926-1897844400-1897844400@www.burlo-borkenwirthe.de
SUMMARY:Nordic-Walking in Bowi - Landfrauen
DESCRIPTION:Unsere Walking-Gruppe ist super angelaufen… \nNun möchten wir uns jeden Mittwoch um 19.00 Uhr in Borkenwirthe an der Kirche treffen\, um dann ca. 5 km zu walken. Wer Zeit und Lust dazu hat\, ist herzlich eingeladen. \nInfos bei Ann-Christin Wesseling-Effing unter 0157/38311701 \n 
URL:https://www.burlo-borkenwirthe.de/event/nordic-walking-in-bowi-landfrauen/2030-02-20/
CATEGORIES:Sport,Wanderungen
ATTACH;FMTTYPE=image/png:https://www.burlo-borkenwirthe.de/wp-content/uploads/2023/05/Bild_2023-05-12_170018304.png
END:VEVENT
BEGIN:VEVENT
DTSTART;TZID=Europe/Berlin:20300227T190000
DTEND;TZID=Europe/Berlin:20300227T190000
DTSTAMP:20260421T040817
CREATED:20230614T172553Z
LAST-MODIFIED:20251202T165443Z
UID:10004927-1898449200-1898449200@www.burlo-borkenwirthe.de
SUMMARY:Nordic-Walking in Bowi - Landfrauen
DESCRIPTION:Unsere Walking-Gruppe ist super angelaufen… \nNun möchten wir uns jeden Mittwoch um 19.00 Uhr in Borkenwirthe an der Kirche treffen\, um dann ca. 5 km zu walken. Wer Zeit und Lust dazu hat\, ist herzlich eingeladen. \nInfos bei Ann-Christin Wesseling-Effing unter 0157/38311701 \n 
URL:https://www.burlo-borkenwirthe.de/event/nordic-walking-in-bowi-landfrauen/2030-02-27/
CATEGORIES:Sport,Wanderungen
ATTACH;FMTTYPE=image/png:https://www.burlo-borkenwirthe.de/wp-content/uploads/2023/05/Bild_2023-05-12_170018304.png
END:VEVENT
BEGIN:VEVENT
DTSTART;TZID=Europe/Berlin:20300306T190000
DTEND;TZID=Europe/Berlin:20300306T190000
DTSTAMP:20260421T040817
CREATED:20230614T172553Z
LAST-MODIFIED:20251202T165443Z
UID:10004928-1899054000-1899054000@www.burlo-borkenwirthe.de
SUMMARY:Nordic-Walking in Bowi - Landfrauen
DESCRIPTION:Unsere Walking-Gruppe ist super angelaufen… \nNun möchten wir uns jeden Mittwoch um 19.00 Uhr in Borkenwirthe an der Kirche treffen\, um dann ca. 5 km zu walken. Wer Zeit und Lust dazu hat\, ist herzlich eingeladen. \nInfos bei Ann-Christin Wesseling-Effing unter 0157/38311701 \n 
URL:https://www.burlo-borkenwirthe.de/event/nordic-walking-in-bowi-landfrauen/2030-03-06/
CATEGORIES:Sport,Wanderungen
ATTACH;FMTTYPE=image/png:https://www.burlo-borkenwirthe.de/wp-content/uploads/2023/05/Bild_2023-05-12_170018304.png
END:VEVENT
BEGIN:VEVENT
DTSTART;TZID=Europe/Berlin:20300313T190000
DTEND;TZID=Europe/Berlin:20300313T190000
DTSTAMP:20260421T040817
CREATED:20230614T172553Z
LAST-MODIFIED:20251202T165443Z
UID:10004929-1899658800-1899658800@www.burlo-borkenwirthe.de
SUMMARY:Nordic-Walking in Bowi - Landfrauen
DESCRIPTION:Unsere Walking-Gruppe ist super angelaufen… \nNun möchten wir uns jeden Mittwoch um 19.00 Uhr in Borkenwirthe an der Kirche treffen\, um dann ca. 5 km zu walken. Wer Zeit und Lust dazu hat\, ist herzlich eingeladen. \nInfos bei Ann-Christin Wesseling-Effing unter 0157/38311701 \n 
URL:https://www.burlo-borkenwirthe.de/event/nordic-walking-in-bowi-landfrauen/2030-03-13/
CATEGORIES:Sport,Wanderungen
ATTACH;FMTTYPE=image/png:https://www.burlo-borkenwirthe.de/wp-content/uploads/2023/05/Bild_2023-05-12_170018304.png
END:VEVENT
BEGIN:VEVENT
DTSTART;TZID=Europe/Berlin:20300320T190000
DTEND;TZID=Europe/Berlin:20300320T190000
DTSTAMP:20260421T040817
CREATED:20230614T172553Z
LAST-MODIFIED:20251202T165443Z
UID:10004930-1900263600-1900263600@www.burlo-borkenwirthe.de
SUMMARY:Nordic-Walking in Bowi - Landfrauen
DESCRIPTION:Unsere Walking-Gruppe ist super angelaufen… \nNun möchten wir uns jeden Mittwoch um 19.00 Uhr in Borkenwirthe an der Kirche treffen\, um dann ca. 5 km zu walken. Wer Zeit und Lust dazu hat\, ist herzlich eingeladen. \nInfos bei Ann-Christin Wesseling-Effing unter 0157/38311701 \n 
URL:https://www.burlo-borkenwirthe.de/event/nordic-walking-in-bowi-landfrauen/2030-03-20/
CATEGORIES:Sport,Wanderungen
ATTACH;FMTTYPE=image/png:https://www.burlo-borkenwirthe.de/wp-content/uploads/2023/05/Bild_2023-05-12_170018304.png
END:VEVENT
BEGIN:VEVENT
DTSTART;TZID=Europe/Berlin:20300327T190000
DTEND;TZID=Europe/Berlin:20300327T190000
DTSTAMP:20260421T040817
CREATED:20230614T172553Z
LAST-MODIFIED:20251202T165443Z
UID:10004931-1900868400-1900868400@www.burlo-borkenwirthe.de
SUMMARY:Nordic-Walking in Bowi - Landfrauen
DESCRIPTION:Unsere Walking-Gruppe ist super angelaufen… \nNun möchten wir uns jeden Mittwoch um 19.00 Uhr in Borkenwirthe an der Kirche treffen\, um dann ca. 5 km zu walken. Wer Zeit und Lust dazu hat\, ist herzlich eingeladen. \nInfos bei Ann-Christin Wesseling-Effing unter 0157/38311701 \n 
URL:https://www.burlo-borkenwirthe.de/event/nordic-walking-in-bowi-landfrauen/2030-03-27/
CATEGORIES:Sport,Wanderungen
ATTACH;FMTTYPE=image/png:https://www.burlo-borkenwirthe.de/wp-content/uploads/2023/05/Bild_2023-05-12_170018304.png
END:VEVENT
BEGIN:VEVENT
DTSTART;TZID=Europe/Berlin:20300403T190000
DTEND;TZID=Europe/Berlin:20300403T190000
DTSTAMP:20260421T040817
CREATED:20230614T172553Z
LAST-MODIFIED:20251202T165443Z
UID:10004932-1901473200-1901473200@www.burlo-borkenwirthe.de
SUMMARY:Nordic-Walking in Bowi - Landfrauen
DESCRIPTION:Unsere Walking-Gruppe ist super angelaufen… \nNun möchten wir uns jeden Mittwoch um 19.00 Uhr in Borkenwirthe an der Kirche treffen\, um dann ca. 5 km zu walken. Wer Zeit und Lust dazu hat\, ist herzlich eingeladen. \nInfos bei Ann-Christin Wesseling-Effing unter 0157/38311701 \n 
URL:https://www.burlo-borkenwirthe.de/event/nordic-walking-in-bowi-landfrauen/2030-04-03/
CATEGORIES:Sport,Wanderungen
ATTACH;FMTTYPE=image/png:https://www.burlo-borkenwirthe.de/wp-content/uploads/2023/05/Bild_2023-05-12_170018304.png
END:VEVENT
BEGIN:VEVENT
DTSTART;TZID=Europe/Berlin:20300410T190000
DTEND;TZID=Europe/Berlin:20300410T190000
DTSTAMP:20260421T040817
CREATED:20230614T172553Z
LAST-MODIFIED:20251202T165443Z
UID:10004933-1902078000-1902078000@www.burlo-borkenwirthe.de
SUMMARY:Nordic-Walking in Bowi - Landfrauen
DESCRIPTION:Unsere Walking-Gruppe ist super angelaufen… \nNun möchten wir uns jeden Mittwoch um 19.00 Uhr in Borkenwirthe an der Kirche treffen\, um dann ca. 5 km zu walken. Wer Zeit und Lust dazu hat\, ist herzlich eingeladen. \nInfos bei Ann-Christin Wesseling-Effing unter 0157/38311701 \n 
URL:https://www.burlo-borkenwirthe.de/event/nordic-walking-in-bowi-landfrauen/2030-04-10/
CATEGORIES:Sport,Wanderungen
ATTACH;FMTTYPE=image/png:https://www.burlo-borkenwirthe.de/wp-content/uploads/2023/05/Bild_2023-05-12_170018304.png
END:VEVENT
BEGIN:VEVENT
DTSTART;TZID=Europe/Berlin:20300417T190000
DTEND;TZID=Europe/Berlin:20300417T190000
DTSTAMP:20260421T040817
CREATED:20230614T172553Z
LAST-MODIFIED:20251202T165443Z
UID:10004934-1902682800-1902682800@www.burlo-borkenwirthe.de
SUMMARY:Nordic-Walking in Bowi - Landfrauen
DESCRIPTION:Unsere Walking-Gruppe ist super angelaufen… \nNun möchten wir uns jeden Mittwoch um 19.00 Uhr in Borkenwirthe an der Kirche treffen\, um dann ca. 5 km zu walken. Wer Zeit und Lust dazu hat\, ist herzlich eingeladen. \nInfos bei Ann-Christin Wesseling-Effing unter 0157/38311701 \n 
URL:https://www.burlo-borkenwirthe.de/event/nordic-walking-in-bowi-landfrauen/2030-04-17/
CATEGORIES:Sport,Wanderungen
ATTACH;FMTTYPE=image/png:https://www.burlo-borkenwirthe.de/wp-content/uploads/2023/05/Bild_2023-05-12_170018304.png
END:VEVENT
BEGIN:VEVENT
DTSTART;TZID=Europe/Berlin:20300424T190000
DTEND;TZID=Europe/Berlin:20300424T190000
DTSTAMP:20260421T040817
CREATED:20230614T172553Z
LAST-MODIFIED:20251202T165443Z
UID:10004935-1903287600-1903287600@www.burlo-borkenwirthe.de
SUMMARY:Nordic-Walking in Bowi - Landfrauen
DESCRIPTION:Unsere Walking-Gruppe ist super angelaufen… \nNun möchten wir uns jeden Mittwoch um 19.00 Uhr in Borkenwirthe an der Kirche treffen\, um dann ca. 5 km zu walken. Wer Zeit und Lust dazu hat\, ist herzlich eingeladen. \nInfos bei Ann-Christin Wesseling-Effing unter 0157/38311701 \n 
URL:https://www.burlo-borkenwirthe.de/event/nordic-walking-in-bowi-landfrauen/2030-04-24/
CATEGORIES:Sport,Wanderungen
ATTACH;FMTTYPE=image/png:https://www.burlo-borkenwirthe.de/wp-content/uploads/2023/05/Bild_2023-05-12_170018304.png
END:VEVENT
BEGIN:VEVENT
DTSTART;TZID=Europe/Berlin:20300501T190000
DTEND;TZID=Europe/Berlin:20300501T190000
DTSTAMP:20260421T040817
CREATED:20230614T172553Z
LAST-MODIFIED:20251202T165443Z
UID:10004936-1903892400-1903892400@www.burlo-borkenwirthe.de
SUMMARY:Nordic-Walking in Bowi - Landfrauen
DESCRIPTION:Unsere Walking-Gruppe ist super angelaufen… \nNun möchten wir uns jeden Mittwoch um 19.00 Uhr in Borkenwirthe an der Kirche treffen\, um dann ca. 5 km zu walken. Wer Zeit und Lust dazu hat\, ist herzlich eingeladen. \nInfos bei Ann-Christin Wesseling-Effing unter 0157/38311701 \n 
URL:https://www.burlo-borkenwirthe.de/event/nordic-walking-in-bowi-landfrauen/2030-05-01/
CATEGORIES:Sport,Wanderungen
ATTACH;FMTTYPE=image/png:https://www.burlo-borkenwirthe.de/wp-content/uploads/2023/05/Bild_2023-05-12_170018304.png
END:VEVENT
BEGIN:VEVENT
DTSTART;TZID=Europe/Berlin:20300508T190000
DTEND;TZID=Europe/Berlin:20300508T190000
DTSTAMP:20260421T040817
CREATED:20230614T172553Z
LAST-MODIFIED:20251202T165443Z
UID:10004937-1904497200-1904497200@www.burlo-borkenwirthe.de
SUMMARY:Nordic-Walking in Bowi - Landfrauen
DESCRIPTION:Unsere Walking-Gruppe ist super angelaufen… \nNun möchten wir uns jeden Mittwoch um 19.00 Uhr in Borkenwirthe an der Kirche treffen\, um dann ca. 5 km zu walken. Wer Zeit und Lust dazu hat\, ist herzlich eingeladen. \nInfos bei Ann-Christin Wesseling-Effing unter 0157/38311701 \n 
URL:https://www.burlo-borkenwirthe.de/event/nordic-walking-in-bowi-landfrauen/2030-05-08/
CATEGORIES:Sport,Wanderungen
ATTACH;FMTTYPE=image/png:https://www.burlo-borkenwirthe.de/wp-content/uploads/2023/05/Bild_2023-05-12_170018304.png
END:VEVENT
BEGIN:VEVENT
DTSTART;TZID=Europe/Berlin:20300515T190000
DTEND;TZID=Europe/Berlin:20300515T190000
DTSTAMP:20260421T040817
CREATED:20230614T172553Z
LAST-MODIFIED:20251202T165443Z
UID:10004938-1905102000-1905102000@www.burlo-borkenwirthe.de
SUMMARY:Nordic-Walking in Bowi - Landfrauen
DESCRIPTION:Unsere Walking-Gruppe ist super angelaufen… \nNun möchten wir uns jeden Mittwoch um 19.00 Uhr in Borkenwirthe an der Kirche treffen\, um dann ca. 5 km zu walken. Wer Zeit und Lust dazu hat\, ist herzlich eingeladen. \nInfos bei Ann-Christin Wesseling-Effing unter 0157/38311701 \n 
URL:https://www.burlo-borkenwirthe.de/event/nordic-walking-in-bowi-landfrauen/2030-05-15/
CATEGORIES:Sport,Wanderungen
ATTACH;FMTTYPE=image/png:https://www.burlo-borkenwirthe.de/wp-content/uploads/2023/05/Bild_2023-05-12_170018304.png
END:VEVENT
BEGIN:VEVENT
DTSTART;TZID=Europe/Berlin:20300522T190000
DTEND;TZID=Europe/Berlin:20300522T190000
DTSTAMP:20260421T040817
CREATED:20230614T172553Z
LAST-MODIFIED:20251202T165443Z
UID:10004939-1905706800-1905706800@www.burlo-borkenwirthe.de
SUMMARY:Nordic-Walking in Bowi - Landfrauen
DESCRIPTION:Unsere Walking-Gruppe ist super angelaufen… \nNun möchten wir uns jeden Mittwoch um 19.00 Uhr in Borkenwirthe an der Kirche treffen\, um dann ca. 5 km zu walken. Wer Zeit und Lust dazu hat\, ist herzlich eingeladen. \nInfos bei Ann-Christin Wesseling-Effing unter 0157/38311701 \n 
URL:https://www.burlo-borkenwirthe.de/event/nordic-walking-in-bowi-landfrauen/2030-05-22/
CATEGORIES:Sport,Wanderungen
ATTACH;FMTTYPE=image/png:https://www.burlo-borkenwirthe.de/wp-content/uploads/2023/05/Bild_2023-05-12_170018304.png
END:VEVENT
BEGIN:VEVENT
DTSTART;TZID=Europe/Berlin:20300529T190000
DTEND;TZID=Europe/Berlin:20300529T190000
DTSTAMP:20260421T040817
CREATED:20230614T172553Z
LAST-MODIFIED:20251202T165443Z
UID:10004940-1906311600-1906311600@www.burlo-borkenwirthe.de
SUMMARY:Nordic-Walking in Bowi - Landfrauen
DESCRIPTION:Unsere Walking-Gruppe ist super angelaufen… \nNun möchten wir uns jeden Mittwoch um 19.00 Uhr in Borkenwirthe an der Kirche treffen\, um dann ca. 5 km zu walken. Wer Zeit und Lust dazu hat\, ist herzlich eingeladen. \nInfos bei Ann-Christin Wesseling-Effing unter 0157/38311701 \n 
URL:https://www.burlo-borkenwirthe.de/event/nordic-walking-in-bowi-landfrauen/2030-05-29/
CATEGORIES:Sport,Wanderungen
ATTACH;FMTTYPE=image/png:https://www.burlo-borkenwirthe.de/wp-content/uploads/2023/05/Bild_2023-05-12_170018304.png
END:VEVENT
BEGIN:VEVENT
DTSTART;TZID=Europe/Berlin:20300605T190000
DTEND;TZID=Europe/Berlin:20300605T190000
DTSTAMP:20260421T040817
CREATED:20230614T172553Z
LAST-MODIFIED:20251202T165443Z
UID:10004941-1906916400-1906916400@www.burlo-borkenwirthe.de
SUMMARY:Nordic-Walking in Bowi - Landfrauen
DESCRIPTION:Unsere Walking-Gruppe ist super angelaufen… \nNun möchten wir uns jeden Mittwoch um 19.00 Uhr in Borkenwirthe an der Kirche treffen\, um dann ca. 5 km zu walken. Wer Zeit und Lust dazu hat\, ist herzlich eingeladen. \nInfos bei Ann-Christin Wesseling-Effing unter 0157/38311701 \n 
URL:https://www.burlo-borkenwirthe.de/event/nordic-walking-in-bowi-landfrauen/2030-06-05/
CATEGORIES:Sport,Wanderungen
ATTACH;FMTTYPE=image/png:https://www.burlo-borkenwirthe.de/wp-content/uploads/2023/05/Bild_2023-05-12_170018304.png
END:VEVENT
BEGIN:VEVENT
DTSTART;TZID=Europe/Berlin:20300612T190000
DTEND;TZID=Europe/Berlin:20300612T190000
DTSTAMP:20260421T040817
CREATED:20230614T172553Z
LAST-MODIFIED:20251202T165443Z
UID:10004942-1907521200-1907521200@www.burlo-borkenwirthe.de
SUMMARY:Nordic-Walking in Bowi - Landfrauen
DESCRIPTION:Unsere Walking-Gruppe ist super angelaufen… \nNun möchten wir uns jeden Mittwoch um 19.00 Uhr in Borkenwirthe an der Kirche treffen\, um dann ca. 5 km zu walken. Wer Zeit und Lust dazu hat\, ist herzlich eingeladen. \nInfos bei Ann-Christin Wesseling-Effing unter 0157/38311701 \n 
URL:https://www.burlo-borkenwirthe.de/event/nordic-walking-in-bowi-landfrauen/2030-06-12/
CATEGORIES:Sport,Wanderungen
ATTACH;FMTTYPE=image/png:https://www.burlo-borkenwirthe.de/wp-content/uploads/2023/05/Bild_2023-05-12_170018304.png
END:VEVENT
BEGIN:VEVENT
DTSTART;TZID=Europe/Berlin:20300619T190000
DTEND;TZID=Europe/Berlin:20300619T190000
DTSTAMP:20260421T040817
CREATED:20230614T172553Z
LAST-MODIFIED:20251202T165443Z
UID:10004943-1908126000-1908126000@www.burlo-borkenwirthe.de
SUMMARY:Nordic-Walking in Bowi - Landfrauen
DESCRIPTION:Unsere Walking-Gruppe ist super angelaufen… \nNun möchten wir uns jeden Mittwoch um 19.00 Uhr in Borkenwirthe an der Kirche treffen\, um dann ca. 5 km zu walken. Wer Zeit und Lust dazu hat\, ist herzlich eingeladen. \nInfos bei Ann-Christin Wesseling-Effing unter 0157/38311701 \n 
URL:https://www.burlo-borkenwirthe.de/event/nordic-walking-in-bowi-landfrauen/2030-06-19/
CATEGORIES:Sport,Wanderungen
ATTACH;FMTTYPE=image/png:https://www.burlo-borkenwirthe.de/wp-content/uploads/2023/05/Bild_2023-05-12_170018304.png
END:VEVENT
BEGIN:VEVENT
DTSTART;TZID=Europe/Berlin:20300626T190000
DTEND;TZID=Europe/Berlin:20300626T190000
DTSTAMP:20260421T040817
CREATED:20230614T172553Z
LAST-MODIFIED:20251202T165443Z
UID:10004944-1908730800-1908730800@www.burlo-borkenwirthe.de
SUMMARY:Nordic-Walking in Bowi - Landfrauen
DESCRIPTION:Unsere Walking-Gruppe ist super angelaufen… \nNun möchten wir uns jeden Mittwoch um 19.00 Uhr in Borkenwirthe an der Kirche treffen\, um dann ca. 5 km zu walken. Wer Zeit und Lust dazu hat\, ist herzlich eingeladen. \nInfos bei Ann-Christin Wesseling-Effing unter 0157/38311701 \n 
URL:https://www.burlo-borkenwirthe.de/event/nordic-walking-in-bowi-landfrauen/2030-06-26/
CATEGORIES:Sport,Wanderungen
ATTACH;FMTTYPE=image/png:https://www.burlo-borkenwirthe.de/wp-content/uploads/2023/05/Bild_2023-05-12_170018304.png
END:VEVENT
BEGIN:VEVENT
DTSTART;TZID=Europe/Berlin:20300703T190000
DTEND;TZID=Europe/Berlin:20300703T190000
DTSTAMP:20260421T040817
CREATED:20230614T172553Z
LAST-MODIFIED:20251202T165443Z
UID:10004945-1909335600-1909335600@www.burlo-borkenwirthe.de
SUMMARY:Nordic-Walking in Bowi - Landfrauen
DESCRIPTION:Unsere Walking-Gruppe ist super angelaufen… \nNun möchten wir uns jeden Mittwoch um 19.00 Uhr in Borkenwirthe an der Kirche treffen\, um dann ca. 5 km zu walken. Wer Zeit und Lust dazu hat\, ist herzlich eingeladen. \nInfos bei Ann-Christin Wesseling-Effing unter 0157/38311701 \n 
URL:https://www.burlo-borkenwirthe.de/event/nordic-walking-in-bowi-landfrauen/2030-07-03/
CATEGORIES:Sport,Wanderungen
ATTACH;FMTTYPE=image/png:https://www.burlo-borkenwirthe.de/wp-content/uploads/2023/05/Bild_2023-05-12_170018304.png
END:VEVENT
BEGIN:VEVENT
DTSTART;TZID=Europe/Berlin:20300710T190000
DTEND;TZID=Europe/Berlin:20300710T190000
DTSTAMP:20260421T040817
CREATED:20230614T172553Z
LAST-MODIFIED:20251202T165443Z
UID:10004946-1909940400-1909940400@www.burlo-borkenwirthe.de
SUMMARY:Nordic-Walking in Bowi - Landfrauen
DESCRIPTION:Unsere Walking-Gruppe ist super angelaufen… \nNun möchten wir uns jeden Mittwoch um 19.00 Uhr in Borkenwirthe an der Kirche treffen\, um dann ca. 5 km zu walken. Wer Zeit und Lust dazu hat\, ist herzlich eingeladen. \nInfos bei Ann-Christin Wesseling-Effing unter 0157/38311701 \n 
URL:https://www.burlo-borkenwirthe.de/event/nordic-walking-in-bowi-landfrauen/2030-07-10/
CATEGORIES:Sport,Wanderungen
ATTACH;FMTTYPE=image/png:https://www.burlo-borkenwirthe.de/wp-content/uploads/2023/05/Bild_2023-05-12_170018304.png
END:VEVENT
END:VCALENDAR