BEGIN:VCALENDAR
VERSION:2.0
PRODID:-//Werbekreis Burlo und Borkenwirthe - ECPv6.15.18//NONSGML v1.0//EN
CALSCALE:GREGORIAN
METHOD:PUBLISH
X-ORIGINAL-URL:https://www.burlo-borkenwirthe.de
X-WR-CALDESC:Veranstaltungen für Werbekreis Burlo und Borkenwirthe
REFRESH-INTERVAL;VALUE=DURATION:PT1H
X-Robots-Tag:noindex
X-PUBLISHED-TTL:PT1H
BEGIN:VTIMEZONE
TZID:Europe/Berlin
BEGIN:DAYLIGHT
TZOFFSETFROM:+0100
TZOFFSETTO:+0200
TZNAME:CEST
DTSTART:20230326T010000
END:DAYLIGHT
BEGIN:STANDARD
TZOFFSETFROM:+0200
TZOFFSETTO:+0100
TZNAME:CET
DTSTART:20231029T010000
END:STANDARD
BEGIN:DAYLIGHT
TZOFFSETFROM:+0100
TZOFFSETTO:+0200
TZNAME:CEST
DTSTART:20240331T010000
END:DAYLIGHT
BEGIN:STANDARD
TZOFFSETFROM:+0200
TZOFFSETTO:+0100
TZNAME:CET
DTSTART:20241027T010000
END:STANDARD
BEGIN:DAYLIGHT
TZOFFSETFROM:+0100
TZOFFSETTO:+0200
TZNAME:CEST
DTSTART:20250330T010000
END:DAYLIGHT
BEGIN:STANDARD
TZOFFSETFROM:+0200
TZOFFSETTO:+0100
TZNAME:CET
DTSTART:20251026T010000
END:STANDARD
END:VTIMEZONE
BEGIN:VEVENT
DTSTART;TZID=Europe/Berlin:20240515T190000
DTEND;TZID=Europe/Berlin:20240515T190000
DTSTAMP:20260421T051307
CREATED:20230614T172553Z
LAST-MODIFIED:20251202T165443Z
UID:10003293-1715799600-1715799600@www.burlo-borkenwirthe.de
SUMMARY:Nordic-Walking in Bowi - Landfrauen
DESCRIPTION:Unsere Walking-Gruppe ist super angelaufen… \nNun möchten wir uns jeden Mittwoch um 19.00 Uhr in Borkenwirthe an der Kirche treffen\, um dann ca. 5 km zu walken. Wer Zeit und Lust dazu hat\, ist herzlich eingeladen. \nInfos bei Ann-Christin Wesseling-Effing unter 0157/38311701 \n 
URL:https://www.burlo-borkenwirthe.de/event/nordic-walking-in-bowi-landfrauen/2024-05-15/
CATEGORIES:Sport,Wanderungen
ATTACH;FMTTYPE=image/png:https://www.burlo-borkenwirthe.de/wp-content/uploads/2023/05/Bild_2023-05-12_170018304.png
END:VEVENT
BEGIN:VEVENT
DTSTART;TZID=Europe/Berlin:20240513T184500
DTEND;TZID=Europe/Berlin:20240513T201500
DTSTAMP:20260421T051307
CREATED:20230925T083919Z
LAST-MODIFIED:20230925T084437Z
UID:10004336-1715625900-1715631300@www.burlo-borkenwirthe.de
SUMMARY:LandFrauen - ChiKung
DESCRIPTION:jeden Montag in der Turnhalle Borkenwirthe \n 
URL:https://www.burlo-borkenwirthe.de/event/landfrauen-chikung/2024-05-13/
LOCATION:Turnhalle Borkenwirthe\, Engeland Esch 35\, Borkenwirthe\, NRW\, 46325\, Germany
CATEGORIES:Sonstiges
ATTACH;FMTTYPE=image/png:https://www.burlo-borkenwirthe.de/wp-content/uploads/2023/05/Bild_2023-05-12_170018304.png
END:VEVENT
BEGIN:VEVENT
DTSTART;TZID=Europe/Berlin:20240508T190000
DTEND;TZID=Europe/Berlin:20240508T190000
DTSTAMP:20260421T051307
CREATED:20230614T172553Z
LAST-MODIFIED:20251202T165443Z
UID:10003292-1715194800-1715194800@www.burlo-borkenwirthe.de
SUMMARY:Nordic-Walking in Bowi - Landfrauen
DESCRIPTION:Unsere Walking-Gruppe ist super angelaufen… \nNun möchten wir uns jeden Mittwoch um 19.00 Uhr in Borkenwirthe an der Kirche treffen\, um dann ca. 5 km zu walken. Wer Zeit und Lust dazu hat\, ist herzlich eingeladen. \nInfos bei Ann-Christin Wesseling-Effing unter 0157/38311701 \n 
URL:https://www.burlo-borkenwirthe.de/event/nordic-walking-in-bowi-landfrauen/2024-05-08/
CATEGORIES:Sport,Wanderungen
ATTACH;FMTTYPE=image/png:https://www.burlo-borkenwirthe.de/wp-content/uploads/2023/05/Bild_2023-05-12_170018304.png
END:VEVENT
BEGIN:VEVENT
DTSTART;TZID=Europe/Berlin:20240506T184500
DTEND;TZID=Europe/Berlin:20240506T201500
DTSTAMP:20260421T051307
CREATED:20230925T083919Z
LAST-MODIFIED:20230925T084437Z
UID:10004335-1715021100-1715026500@www.burlo-borkenwirthe.de
SUMMARY:LandFrauen - ChiKung
DESCRIPTION:jeden Montag in der Turnhalle Borkenwirthe \n 
URL:https://www.burlo-borkenwirthe.de/event/landfrauen-chikung/2024-05-06/
LOCATION:Turnhalle Borkenwirthe\, Engeland Esch 35\, Borkenwirthe\, NRW\, 46325\, Germany
CATEGORIES:Sonstiges
ATTACH;FMTTYPE=image/png:https://www.burlo-borkenwirthe.de/wp-content/uploads/2023/05/Bild_2023-05-12_170018304.png
END:VEVENT
BEGIN:VEVENT
DTSTART;TZID=Europe/Berlin:20240429T184500
DTEND;TZID=Europe/Berlin:20240429T201500
DTSTAMP:20260421T051307
CREATED:20230925T083919Z
LAST-MODIFIED:20230925T084437Z
UID:10004334-1714416300-1714421700@www.burlo-borkenwirthe.de
SUMMARY:LandFrauen - ChiKung
DESCRIPTION:jeden Montag in der Turnhalle Borkenwirthe \n 
URL:https://www.burlo-borkenwirthe.de/event/landfrauen-chikung/2024-04-29/
LOCATION:Turnhalle Borkenwirthe\, Engeland Esch 35\, Borkenwirthe\, NRW\, 46325\, Germany
CATEGORIES:Sonstiges
ATTACH;FMTTYPE=image/png:https://www.burlo-borkenwirthe.de/wp-content/uploads/2023/05/Bild_2023-05-12_170018304.png
END:VEVENT
BEGIN:VEVENT
DTSTART;TZID=Europe/Berlin:20240426T190000
DTEND;TZID=Europe/Berlin:20240426T190000
DTSTAMP:20260421T051307
CREATED:20230925T074113Z
LAST-MODIFIED:20230925T074113Z
UID:10004277-1714158000-1714158000@www.burlo-borkenwirthe.de
SUMMARY:LandFrauen-Forum 2024 - "Mal Anders"
DESCRIPTION:LandFrauen Forum „Mal Anders“ \nGute Laune\, spritziges Festprogramm\, Food-Trucks\, Rückblick\, DJ und Tanz \nDie Eintrittskarten sind zum Preis von 45 € bei uns zu erwerben. eine Getränkeauswahl\, sowie ein Imbiss sind im Kartenpreis inkludiert. Anmeldeschluss ist der 03. Oktober 2023 \n  \n 
URL:https://www.burlo-borkenwirthe.de/event/landfrauen-forum-2024-mal-anders/
LOCATION:Festzelt Frauenschützen Münsterland e. V.\, Am Kalverkamp\, Borken-Gemen\, 46325\, Germany
CATEGORIES:Fest,Nicht öffentlich,Versammlungen
ATTACH;FMTTYPE=image/png:https://www.burlo-borkenwirthe.de/wp-content/uploads/2023/09/Bild_2023-09-25_093508953-e1695627318912.png
END:VEVENT
BEGIN:VEVENT
DTSTART;TZID=Europe/Berlin:20240424T190000
DTEND;TZID=Europe/Berlin:20240424T190000
DTSTAMP:20260421T051307
CREATED:20230614T172553Z
LAST-MODIFIED:20251202T165443Z
UID:10003291-1713985200-1713985200@www.burlo-borkenwirthe.de
SUMMARY:Nordic-Walking in Bowi - Landfrauen
DESCRIPTION:Unsere Walking-Gruppe ist super angelaufen… \nNun möchten wir uns jeden Mittwoch um 19.00 Uhr in Borkenwirthe an der Kirche treffen\, um dann ca. 5 km zu walken. Wer Zeit und Lust dazu hat\, ist herzlich eingeladen. \nInfos bei Ann-Christin Wesseling-Effing unter 0157/38311701 \n 
URL:https://www.burlo-borkenwirthe.de/event/nordic-walking-in-bowi-landfrauen/2024-04-24/
CATEGORIES:Sport,Wanderungen
ATTACH;FMTTYPE=image/png:https://www.burlo-borkenwirthe.de/wp-content/uploads/2023/05/Bild_2023-05-12_170018304.png
END:VEVENT
BEGIN:VEVENT
DTSTART;TZID=Europe/Berlin:20240424T090000
DTEND;TZID=Europe/Berlin:20240424T090000
DTSTAMP:20260421T051307
CREATED:20240215T132526Z
LAST-MODIFIED:20240215T132526Z
UID:10004228-1713949200-1713949200@www.burlo-borkenwirthe.de
SUMMARY:LandFrauen - Tagesfahrt nach Emsbüren
DESCRIPTION:Offenes Angebot für LandFrauen in der Lebensmitte – LandFrauen 55PLUS \nSie möchten etwas für sich tun\, interessante Kontakte knüpfen oder pflegen\, zusammen etwas unternehmen und über den Tellerrand schauen? Dann sind Sie bei uns richtig und wir laden Sie herzlich ein! \nTagesfahrt nach Emsbüren \nIm Moorcafe erwartet Sie ein Brunch. Vor Ort besteht die Möglichkeit\, die Salzgrotte zu besuchen. Weiterfahrt zum Gartencenter „Emsflower“ mit Betriebsführung sowie Kaffee und Kuchen am Nachmittag. \nAbfahrt:\n09:00 Uhr Sportpark Rhede\,\n09:20 Uhr Busbahnhof Borken\,\n09:40 Uhr Busbahnhof Südlohn\,\n10:15 Uhr Busbahnhof Ahaus \nAnmeldungen:\nMia Nordmann\n02872/1227 oder Mobil 01609/1004391 \n 
URL:https://www.burlo-borkenwirthe.de/event/landfrauen-tagesfahrt-nach-emsbueren/
CATEGORIES:Ausflug
ATTACH;FMTTYPE=image/png:https://www.burlo-borkenwirthe.de/wp-content/uploads/2024/02/Landfrauen55Plus.png
END:VEVENT
BEGIN:VEVENT
DTSTART;TZID=Europe/Berlin:20240422T184500
DTEND;TZID=Europe/Berlin:20240422T201500
DTSTAMP:20260421T051307
CREATED:20230925T083919Z
LAST-MODIFIED:20230925T084437Z
UID:10004333-1713811500-1713816900@www.burlo-borkenwirthe.de
SUMMARY:LandFrauen - ChiKung
DESCRIPTION:jeden Montag in der Turnhalle Borkenwirthe \n 
URL:https://www.burlo-borkenwirthe.de/event/landfrauen-chikung/2024-04-22/
LOCATION:Turnhalle Borkenwirthe\, Engeland Esch 35\, Borkenwirthe\, NRW\, 46325\, Germany
CATEGORIES:Sonstiges
ATTACH;FMTTYPE=image/png:https://www.burlo-borkenwirthe.de/wp-content/uploads/2023/05/Bild_2023-05-12_170018304.png
END:VEVENT
BEGIN:VEVENT
DTSTART;VALUE=DATE:20240420
DTEND;VALUE=DATE:20240421
DTSTAMP:20260421T051307
CREATED:20240315T101746Z
LAST-MODIFIED:20240315T101746Z
UID:10004525-1713571200-1713657599@www.burlo-borkenwirthe.de
SUMMARY:LandFrauen - Kartoffel setzen
DESCRIPTION:Mit der Kartoffel durchs Jahr \nKartoffel setzen – nähere Informationen in der WhatsApp-Gruppe \n(evtl. muss der Termin witterungsbedingt verschoben werden) \n 
URL:https://www.burlo-borkenwirthe.de/event/landfrauen-kartoffel-setzen/
CATEGORIES:Nicht öffentlich,Sonstiges
ATTACH;FMTTYPE=image/png:https://www.burlo-borkenwirthe.de/wp-content/uploads/2023/05/Bild_2023-05-12_170018304.png
END:VEVENT
BEGIN:VEVENT
DTSTART;TZID=Europe/Berlin:20240418T180000
DTEND;TZID=Europe/Berlin:20240418T180000
DTSTAMP:20260421T051307
CREATED:20240215T122905Z
LAST-MODIFIED:20240215T122905Z
UID:10004227-1713463200-1713463200@www.burlo-borkenwirthe.de
SUMMARY:Lebende Hauswurz-Kränze dekorieren
DESCRIPTION:Der lebende Kranz besteht komplett aus Torfmoos\, in dem der Hauswurz verwurzelt ist und weiter wächst. Er hält sich draußen mehrere Jahre. Der lebende Kranz ist absolut winterfest. Auch kann er als Tischdekoration für 4-6 Wochen ins Haus geholt werden. \n 
URL:https://www.burlo-borkenwirthe.de/event/lebende-hauswurz-kraenze-dekorieren/
LOCATION:Gärtnerei Baumeister\, Entenschlatt\, Raesfeld\, 46348\, Germany
CATEGORIES:Nicht öffentlich,Sonstiges
ATTACH;FMTTYPE=image/png:https://www.burlo-borkenwirthe.de/wp-content/uploads/2024/02/Landfrauen_HauswurzKraenze-e1708000117504.png
END:VEVENT
BEGIN:VEVENT
DTSTART;TZID=Europe/Berlin:20240417T190000
DTEND;TZID=Europe/Berlin:20240417T190000
DTSTAMP:20260421T051307
CREATED:20230614T172553Z
LAST-MODIFIED:20251202T165443Z
UID:10003290-1713380400-1713380400@www.burlo-borkenwirthe.de
SUMMARY:Nordic-Walking in Bowi - Landfrauen
DESCRIPTION:Unsere Walking-Gruppe ist super angelaufen… \nNun möchten wir uns jeden Mittwoch um 19.00 Uhr in Borkenwirthe an der Kirche treffen\, um dann ca. 5 km zu walken. Wer Zeit und Lust dazu hat\, ist herzlich eingeladen. \nInfos bei Ann-Christin Wesseling-Effing unter 0157/38311701 \n 
URL:https://www.burlo-borkenwirthe.de/event/nordic-walking-in-bowi-landfrauen/2024-04-17/
CATEGORIES:Sport,Wanderungen
ATTACH;FMTTYPE=image/png:https://www.burlo-borkenwirthe.de/wp-content/uploads/2023/05/Bild_2023-05-12_170018304.png
END:VEVENT
BEGIN:VEVENT
DTSTART;TZID=Europe/Berlin:20240415T184500
DTEND;TZID=Europe/Berlin:20240415T201500
DTSTAMP:20260421T051307
CREATED:20230925T083919Z
LAST-MODIFIED:20230925T084437Z
UID:10004332-1713206700-1713212100@www.burlo-borkenwirthe.de
SUMMARY:LandFrauen - ChiKung
DESCRIPTION:jeden Montag in der Turnhalle Borkenwirthe \n 
URL:https://www.burlo-borkenwirthe.de/event/landfrauen-chikung/2024-04-15/
LOCATION:Turnhalle Borkenwirthe\, Engeland Esch 35\, Borkenwirthe\, NRW\, 46325\, Germany
CATEGORIES:Sonstiges
ATTACH;FMTTYPE=image/png:https://www.burlo-borkenwirthe.de/wp-content/uploads/2023/05/Bild_2023-05-12_170018304.png
END:VEVENT
BEGIN:VEVENT
DTSTART;TZID=Europe/Berlin:20240410T190000
DTEND;TZID=Europe/Berlin:20240410T190000
DTSTAMP:20260421T051307
CREATED:20230614T172553Z
LAST-MODIFIED:20251202T165443Z
UID:10003289-1712775600-1712775600@www.burlo-borkenwirthe.de
SUMMARY:Nordic-Walking in Bowi - Landfrauen
DESCRIPTION:Unsere Walking-Gruppe ist super angelaufen… \nNun möchten wir uns jeden Mittwoch um 19.00 Uhr in Borkenwirthe an der Kirche treffen\, um dann ca. 5 km zu walken. Wer Zeit und Lust dazu hat\, ist herzlich eingeladen. \nInfos bei Ann-Christin Wesseling-Effing unter 0157/38311701 \n 
URL:https://www.burlo-borkenwirthe.de/event/nordic-walking-in-bowi-landfrauen/2024-04-10/
CATEGORIES:Sport,Wanderungen
ATTACH;FMTTYPE=image/png:https://www.burlo-borkenwirthe.de/wp-content/uploads/2023/05/Bild_2023-05-12_170018304.png
END:VEVENT
BEGIN:VEVENT
DTSTART;TZID=Europe/Berlin:20240408T184500
DTEND;TZID=Europe/Berlin:20240408T201500
DTSTAMP:20260421T051307
CREATED:20230925T083919Z
LAST-MODIFIED:20230925T084437Z
UID:10004331-1712601900-1712607300@www.burlo-borkenwirthe.de
SUMMARY:LandFrauen - ChiKung
DESCRIPTION:jeden Montag in der Turnhalle Borkenwirthe \n 
URL:https://www.burlo-borkenwirthe.de/event/landfrauen-chikung/2024-04-08/
LOCATION:Turnhalle Borkenwirthe\, Engeland Esch 35\, Borkenwirthe\, NRW\, 46325\, Germany
CATEGORIES:Sonstiges
ATTACH;FMTTYPE=image/png:https://www.burlo-borkenwirthe.de/wp-content/uploads/2023/05/Bild_2023-05-12_170018304.png
END:VEVENT
BEGIN:VEVENT
DTSTART;TZID=Europe/Berlin:20240403T190000
DTEND;TZID=Europe/Berlin:20240403T190000
DTSTAMP:20260421T051307
CREATED:20230614T172553Z
LAST-MODIFIED:20251202T165443Z
UID:10003288-1712170800-1712170800@www.burlo-borkenwirthe.de
SUMMARY:Nordic-Walking in Bowi - Landfrauen
DESCRIPTION:Unsere Walking-Gruppe ist super angelaufen… \nNun möchten wir uns jeden Mittwoch um 19.00 Uhr in Borkenwirthe an der Kirche treffen\, um dann ca. 5 km zu walken. Wer Zeit und Lust dazu hat\, ist herzlich eingeladen. \nInfos bei Ann-Christin Wesseling-Effing unter 0157/38311701 \n 
URL:https://www.burlo-borkenwirthe.de/event/nordic-walking-in-bowi-landfrauen/2024-04-03/
CATEGORIES:Sport,Wanderungen
ATTACH;FMTTYPE=image/png:https://www.burlo-borkenwirthe.de/wp-content/uploads/2023/05/Bild_2023-05-12_170018304.png
END:VEVENT
BEGIN:VEVENT
DTSTART;TZID=Europe/Berlin:20240401T184500
DTEND;TZID=Europe/Berlin:20240401T201500
DTSTAMP:20260421T051307
CREATED:20230925T083919Z
LAST-MODIFIED:20230925T084437Z
UID:10004330-1711997100-1712002500@www.burlo-borkenwirthe.de
SUMMARY:LandFrauen - ChiKung
DESCRIPTION:jeden Montag in der Turnhalle Borkenwirthe \n 
URL:https://www.burlo-borkenwirthe.de/event/landfrauen-chikung/2024-04-01/
LOCATION:Turnhalle Borkenwirthe\, Engeland Esch 35\, Borkenwirthe\, NRW\, 46325\, Germany
CATEGORIES:Sonstiges
ATTACH;FMTTYPE=image/png:https://www.burlo-borkenwirthe.de/wp-content/uploads/2023/05/Bild_2023-05-12_170018304.png
END:VEVENT
BEGIN:VEVENT
DTSTART;TZID=Europe/Berlin:20240327T190000
DTEND;TZID=Europe/Berlin:20240327T190000
DTSTAMP:20260421T051307
CREATED:20230614T172553Z
LAST-MODIFIED:20251202T165443Z
UID:10003287-1711566000-1711566000@www.burlo-borkenwirthe.de
SUMMARY:Nordic-Walking in Bowi - Landfrauen
DESCRIPTION:Unsere Walking-Gruppe ist super angelaufen… \nNun möchten wir uns jeden Mittwoch um 19.00 Uhr in Borkenwirthe an der Kirche treffen\, um dann ca. 5 km zu walken. Wer Zeit und Lust dazu hat\, ist herzlich eingeladen. \nInfos bei Ann-Christin Wesseling-Effing unter 0157/38311701 \n 
URL:https://www.burlo-borkenwirthe.de/event/nordic-walking-in-bowi-landfrauen/2024-03-27/
CATEGORIES:Sport,Wanderungen
ATTACH;FMTTYPE=image/png:https://www.burlo-borkenwirthe.de/wp-content/uploads/2023/05/Bild_2023-05-12_170018304.png
END:VEVENT
BEGIN:VEVENT
DTSTART;TZID=Europe/Berlin:20240325T184500
DTEND;TZID=Europe/Berlin:20240325T201500
DTSTAMP:20260421T051307
CREATED:20230925T083919Z
LAST-MODIFIED:20230925T084437Z
UID:10004329-1711392300-1711397700@www.burlo-borkenwirthe.de
SUMMARY:LandFrauen - ChiKung
DESCRIPTION:jeden Montag in der Turnhalle Borkenwirthe \n 
URL:https://www.burlo-borkenwirthe.de/event/landfrauen-chikung/2024-03-25/
LOCATION:Turnhalle Borkenwirthe\, Engeland Esch 35\, Borkenwirthe\, NRW\, 46325\, Germany
CATEGORIES:Sonstiges
ATTACH;FMTTYPE=image/png:https://www.burlo-borkenwirthe.de/wp-content/uploads/2023/05/Bild_2023-05-12_170018304.png
END:VEVENT
BEGIN:VEVENT
DTSTART;TZID=Europe/Berlin:20240324T143000
DTEND;TZID=Europe/Berlin:20240324T143000
DTSTAMP:20260421T051307
CREATED:20240215T122339Z
LAST-MODIFIED:20240215T132825Z
UID:10004223-1711290600-1711290600@www.burlo-borkenwirthe.de
SUMMARY:Jahreshauptversammlung LandFrauen
DESCRIPTION:Einladung zur Jahreshauptversammlung – Frauenkaffee – der LandFrauen Borkenwirthe\nam Palmsonntag\, den 24.03.2024 um 14.30 Uhr\nin der Turnhalle Borkenwirthe\,\nEngeland Esch 35\, 46325 Borken – Borkenwirthe \nAuch Nichtmitglieder sind herzlich eingeladen! \nTagesordnung:\n1. Begrüßung und Eröffnung der Versammlung\n2. Jahresrückblick und Kassenbericht\n3. Bericht der Kassenprüfer\n4. Entlastung des Vorstandes\n5. Wahl der Kassenprüfer\n6. Bericht der Vertreterin des Kreisvorstandes\n7. Jahresvorschau\n8. Verschiedenes \n  \nNach dem offiziellen Teil und dem gemeinsamen Kaffeetrinken unterhält uns die Theatergruppe mit lustigen Sketchen. Alle Borkenwirther Frauen (auch Nichtmitglieder) sind herzlich eingeladen. \nDie Anmeldung ist bei den Bezirkshelferinnen möglich. Bitte bringt ein komplettes Kaffeegedeck mit. \nWir freuen uns auf schöne Stunden mit euch. \nDas Vorstandsteam \n 
URL:https://www.burlo-borkenwirthe.de/event/jahreshauptversammlung-landfrauen/
LOCATION:Turnhalle Borkenwirthe\, Engeland Esch 35\, Borkenwirthe\, NRW\, 46325\, Germany
CATEGORIES:Versammlungen
ATTACH;FMTTYPE=image/png:https://www.burlo-borkenwirthe.de/wp-content/uploads/2023/05/Bild_2023-05-12_170018304.png
END:VEVENT
BEGIN:VEVENT
DTSTART;TZID=Europe/Berlin:20240320T190000
DTEND;TZID=Europe/Berlin:20240320T190000
DTSTAMP:20260421T051307
CREATED:20230614T172553Z
LAST-MODIFIED:20251202T165443Z
UID:10003286-1710961200-1710961200@www.burlo-borkenwirthe.de
SUMMARY:Nordic-Walking in Bowi - Landfrauen
DESCRIPTION:Unsere Walking-Gruppe ist super angelaufen… \nNun möchten wir uns jeden Mittwoch um 19.00 Uhr in Borkenwirthe an der Kirche treffen\, um dann ca. 5 km zu walken. Wer Zeit und Lust dazu hat\, ist herzlich eingeladen. \nInfos bei Ann-Christin Wesseling-Effing unter 0157/38311701 \n 
URL:https://www.burlo-borkenwirthe.de/event/nordic-walking-in-bowi-landfrauen/2024-03-20/
CATEGORIES:Sport,Wanderungen
ATTACH;FMTTYPE=image/png:https://www.burlo-borkenwirthe.de/wp-content/uploads/2023/05/Bild_2023-05-12_170018304.png
END:VEVENT
BEGIN:VEVENT
DTSTART;TZID=Europe/Berlin:20240318T184500
DTEND;TZID=Europe/Berlin:20240318T201500
DTSTAMP:20260421T051308
CREATED:20230925T083919Z
LAST-MODIFIED:20230925T084437Z
UID:10004328-1710787500-1710792900@www.burlo-borkenwirthe.de
SUMMARY:LandFrauen - ChiKung
DESCRIPTION:jeden Montag in der Turnhalle Borkenwirthe \n 
URL:https://www.burlo-borkenwirthe.de/event/landfrauen-chikung/2024-03-18/
LOCATION:Turnhalle Borkenwirthe\, Engeland Esch 35\, Borkenwirthe\, NRW\, 46325\, Germany
CATEGORIES:Sonstiges
ATTACH;FMTTYPE=image/png:https://www.burlo-borkenwirthe.de/wp-content/uploads/2023/05/Bild_2023-05-12_170018304.png
END:VEVENT
BEGIN:VEVENT
DTSTART;TZID=Europe/Berlin:20240315T173000
DTEND;TZID=Europe/Berlin:20240315T223000
DTSTAMP:20260421T051308
CREATED:20240204T150138Z
LAST-MODIFIED:20240204T150157Z
UID:10004469-1710523800-1710541800@www.burlo-borkenwirthe.de
SUMMARY:Junge LandFrauen Beef-Tasting auf dem Hof Keil
DESCRIPTION:Wir starten auf dem Hof Keil in Reken zu einer exklusiven Hofführung. Uns erwartet die Zubereitung und Erläuterung schmackhafter Cuts durch Heiner Keil. Verarbeitet wird hochwertiges Fleisch aus eigener Haltung. Der Hof wird als Familienbetrieb geführt und steht für transparente und nachhaltige Landwirtschaft. Die gesamte Wertschöpfungskette wird abgebildet. \nTeilnehmerzahl:\nmind. 15 Personen \nKosten:\n64\,90 Euro p. P. inkl. Essen und Getränke \nTreffpunkt:\nHof Keil\, Hadenbrok 9\, 48734 Reken \nAnmeldung:\nBeatrix Lösing \n 
URL:https://www.burlo-borkenwirthe.de/event/landfrauen-beef-tasting-auf-dem-hof-keil/
LOCATION:Hof Keil\, Hadenbrok 9\, Reken\, 48734\, Germany
CATEGORIES:Ausflug,Nicht öffentlich
ATTACH;FMTTYPE=image/png:https://www.burlo-borkenwirthe.de/wp-content/uploads/2023/05/Bild_2023-05-12_170018304.png
END:VEVENT
BEGIN:VEVENT
DTSTART;TZID=Europe/Berlin:20240314T190000
DTEND;TZID=Europe/Berlin:20240314T190000
DTSTAMP:20260421T051308
CREATED:20240204T145240Z
LAST-MODIFIED:20240215T132711Z
UID:10004467-1710442800-1710442800@www.burlo-borkenwirthe.de
SUMMARY:Jahreshauptversammlung der KreisLandFrauen
DESCRIPTION:Anmeldung bis zum 21.02.2024 bei Angelika Becker-Hardt \n 
URL:https://www.burlo-borkenwirthe.de/event/jahreshauptversammlung-der-landfrauen/
LOCATION:Haus Terhörne – Südlohn\, Weseker Weg 32\, Südlohn\, 46354\, Germany
CATEGORIES:Nicht öffentlich,Versammlungen
ATTACH;FMTTYPE=image/png:https://www.burlo-borkenwirthe.de/wp-content/uploads/2024/02/Jahreshauptversammlung2024_Landfrauen-e1707058435984.png
END:VEVENT
BEGIN:VEVENT
DTSTART;TZID=Europe/Berlin:20240313T190000
DTEND;TZID=Europe/Berlin:20240313T190000
DTSTAMP:20260421T051308
CREATED:20230614T172553Z
LAST-MODIFIED:20251202T165443Z
UID:10003285-1710356400-1710356400@www.burlo-borkenwirthe.de
SUMMARY:Nordic-Walking in Bowi - Landfrauen
DESCRIPTION:Unsere Walking-Gruppe ist super angelaufen… \nNun möchten wir uns jeden Mittwoch um 19.00 Uhr in Borkenwirthe an der Kirche treffen\, um dann ca. 5 km zu walken. Wer Zeit und Lust dazu hat\, ist herzlich eingeladen. \nInfos bei Ann-Christin Wesseling-Effing unter 0157/38311701 \n 
URL:https://www.burlo-borkenwirthe.de/event/nordic-walking-in-bowi-landfrauen/2024-03-13/
CATEGORIES:Sport,Wanderungen
ATTACH;FMTTYPE=image/png:https://www.burlo-borkenwirthe.de/wp-content/uploads/2023/05/Bild_2023-05-12_170018304.png
END:VEVENT
BEGIN:VEVENT
DTSTART;TZID=Europe/Berlin:20240311T184500
DTEND;TZID=Europe/Berlin:20240311T201500
DTSTAMP:20260421T051308
CREATED:20230925T083919Z
LAST-MODIFIED:20230925T084437Z
UID:10004327-1710182700-1710188100@www.burlo-borkenwirthe.de
SUMMARY:LandFrauen - ChiKung
DESCRIPTION:jeden Montag in der Turnhalle Borkenwirthe \n 
URL:https://www.burlo-borkenwirthe.de/event/landfrauen-chikung/2024-03-11/
LOCATION:Turnhalle Borkenwirthe\, Engeland Esch 35\, Borkenwirthe\, NRW\, 46325\, Germany
CATEGORIES:Sonstiges
ATTACH;FMTTYPE=image/png:https://www.burlo-borkenwirthe.de/wp-content/uploads/2023/05/Bild_2023-05-12_170018304.png
END:VEVENT
BEGIN:VEVENT
DTSTART;TZID=Europe/Berlin:20240308T190000
DTEND;TZID=Europe/Berlin:20240308T190000
DTSTAMP:20260421T051308
CREATED:20240204T151047Z
LAST-MODIFIED:20240215T145855Z
UID:10004472-1709924400-1709924400@www.burlo-borkenwirthe.de
SUMMARY:Weltfrauentag - Junge LandFrauen
DESCRIPTION:Liebe LandFrauen\, \nwir möchten euch gerne am Weltfrauentag\, 08.03.2024 einladen\, uns Frauen\, selbst zu feiern. \nBitte tragt euch bis zum 03.03.24 in die Umfragen in unserer WhatsApp-Gruppe ein\, damit wir alles zu eurer Zufriedenheit vorbereiten können. Beim Buffet sind eurer Kreativität keine Grenzen gesetzt. Ob herzhaft\, süß\, gekauft oder selbst gemacht\, jeder bringt das mit\, was er mag. \nVielen Dank vorab an alle\, die an diesem Tag mitwirken. \nUnd Achtung: Wir möchten uns gerne jedes Jahr am 08.03. feiern\, also Termin für 2025 vormerken😉. \nAnsprechpartnerinnen:\n– Carina Uebbing\n– Ramona Remmelt \n 
URL:https://www.burlo-borkenwirthe.de/event/weltfrauentag-organisiert-von-den-jugen-landfrauen/
LOCATION:Pfarrheim Borkenwirthe\, Wirther Kirchweg 19\, Borkenwirthe\, 46325\, Germany
CATEGORIES:Nicht öffentlich,Sonstiges
ATTACH;FMTTYPE=image/png:https://www.burlo-borkenwirthe.de/wp-content/uploads/2024/02/LandFrauen_Weltfrauentag2024-e1708009125538.png
END:VEVENT
BEGIN:VEVENT
DTSTART;TZID=Europe/Berlin:20240306T190000
DTEND;TZID=Europe/Berlin:20240306T190000
DTSTAMP:20260421T051308
CREATED:20230614T172553Z
LAST-MODIFIED:20251202T165443Z
UID:10003284-1709751600-1709751600@www.burlo-borkenwirthe.de
SUMMARY:Nordic-Walking in Bowi - Landfrauen
DESCRIPTION:Unsere Walking-Gruppe ist super angelaufen… \nNun möchten wir uns jeden Mittwoch um 19.00 Uhr in Borkenwirthe an der Kirche treffen\, um dann ca. 5 km zu walken. Wer Zeit und Lust dazu hat\, ist herzlich eingeladen. \nInfos bei Ann-Christin Wesseling-Effing unter 0157/38311701 \n 
URL:https://www.burlo-borkenwirthe.de/event/nordic-walking-in-bowi-landfrauen/2024-03-06/
CATEGORIES:Sport,Wanderungen
ATTACH;FMTTYPE=image/png:https://www.burlo-borkenwirthe.de/wp-content/uploads/2023/05/Bild_2023-05-12_170018304.png
END:VEVENT
BEGIN:VEVENT
DTSTART;TZID=Europe/Berlin:20240304T184500
DTEND;TZID=Europe/Berlin:20240304T201500
DTSTAMP:20260421T051308
CREATED:20230925T083919Z
LAST-MODIFIED:20230925T084437Z
UID:10004326-1709577900-1709583300@www.burlo-borkenwirthe.de
SUMMARY:LandFrauen - ChiKung
DESCRIPTION:jeden Montag in der Turnhalle Borkenwirthe \n 
URL:https://www.burlo-borkenwirthe.de/event/landfrauen-chikung/2024-03-04/
LOCATION:Turnhalle Borkenwirthe\, Engeland Esch 35\, Borkenwirthe\, NRW\, 46325\, Germany
CATEGORIES:Sonstiges
ATTACH;FMTTYPE=image/png:https://www.burlo-borkenwirthe.de/wp-content/uploads/2023/05/Bild_2023-05-12_170018304.png
END:VEVENT
BEGIN:VEVENT
DTSTART;TZID=Europe/Berlin:20240301T163000
DTEND;TZID=Europe/Berlin:20240301T163000
DTSTAMP:20260421T051308
CREATED:20240204T150728Z
LAST-MODIFIED:20240204T150728Z
UID:10004471-1709310600-1709310600@www.burlo-borkenwirthe.de
SUMMARY:LandFrauen - Wintergang nach Weseke
DESCRIPTION:In diesem Jahr möchten wir auf unserem Wintergang den Kirchturm von St. Ludgerus in Weseke besichtigen. \nWir treffen uns um 16.30 Uhr bei Petra Albers\, Ossingweg 10 und laufen los. \nUm 18.30 Uhr empfängt uns Johannes Brockjann an der Kirche und führt uns durch den Kirchturm bis nach oben in die Spitze. \nIm Anschluss kehren wir ab ca. 20.00 Uhr beim Gasthof Enning ein und nehmen einen kleinen Imbiss zu uns. \nFür alle\, die nicht mitlaufen möchten\, können Fahrgemeinschaften gebildet werden. Auch wer erst ab 20.00 Uhr dazukommen möchte\, ist herzlich eingeladen. \nAnmeldung bis zum 20.02.2024 bei Angelika Becker-Hardt \n 
URL:https://www.burlo-borkenwirthe.de/event/landfrauen-wintergang-nach-weseke/
CATEGORIES:Ausflug,Nicht öffentlich
ATTACH;FMTTYPE=image/png:https://www.burlo-borkenwirthe.de/wp-content/uploads/2023/05/Bild_2023-05-12_170018304.png
END:VEVENT
END:VCALENDAR