BEGIN:VCALENDAR
VERSION:2.0
PRODID:-//Werbekreis Burlo und Borkenwirthe - ECPv6.15.18//NONSGML v1.0//EN
CALSCALE:GREGORIAN
METHOD:PUBLISH
X-ORIGINAL-URL:https://www.burlo-borkenwirthe.de
X-WR-CALDESC:Veranstaltungen für Werbekreis Burlo und Borkenwirthe
REFRESH-INTERVAL;VALUE=DURATION:PT1H
X-Robots-Tag:noindex
X-PUBLISHED-TTL:PT1H
BEGIN:VTIMEZONE
TZID:Europe/Berlin
BEGIN:DAYLIGHT
TZOFFSETFROM:+0100
TZOFFSETTO:+0200
TZNAME:CEST
DTSTART:20230326T010000
END:DAYLIGHT
BEGIN:STANDARD
TZOFFSETFROM:+0200
TZOFFSETTO:+0100
TZNAME:CET
DTSTART:20231029T010000
END:STANDARD
BEGIN:DAYLIGHT
TZOFFSETFROM:+0100
TZOFFSETTO:+0200
TZNAME:CEST
DTSTART:20240331T010000
END:DAYLIGHT
BEGIN:STANDARD
TZOFFSETFROM:+0200
TZOFFSETTO:+0100
TZNAME:CET
DTSTART:20241027T010000
END:STANDARD
BEGIN:DAYLIGHT
TZOFFSETFROM:+0100
TZOFFSETTO:+0200
TZNAME:CEST
DTSTART:20250330T010000
END:DAYLIGHT
BEGIN:STANDARD
TZOFFSETFROM:+0200
TZOFFSETTO:+0100
TZNAME:CET
DTSTART:20251026T010000
END:STANDARD
END:VTIMEZONE
BEGIN:VEVENT
DTSTART;TZID=Europe/Berlin:20240930T184500
DTEND;TZID=Europe/Berlin:20240930T201500
DTSTAMP:20260420T225624
CREATED:20230925T083919Z
LAST-MODIFIED:20230925T084437Z
UID:10004356-1727721900-1727727300@www.burlo-borkenwirthe.de
SUMMARY:LandFrauen - ChiKung
DESCRIPTION:jeden Montag in der Turnhalle Borkenwirthe \n 
URL:https://www.burlo-borkenwirthe.de/event/landfrauen-chikung/2024-09-30/
LOCATION:Turnhalle Borkenwirthe\, Engeland Esch 35\, Borkenwirthe\, NRW\, 46325\, Germany
CATEGORIES:Sonstiges
ATTACH;FMTTYPE=image/png:https://www.burlo-borkenwirthe.de/wp-content/uploads/2023/05/Bild_2023-05-12_170018304.png
END:VEVENT
BEGIN:VEVENT
DTSTART;TZID=Europe/Berlin:20240925T190000
DTEND;TZID=Europe/Berlin:20240925T190000
DTSTAMP:20260420T225624
CREATED:20230614T172553Z
LAST-MODIFIED:20251202T165443Z
UID:10003312-1727290800-1727290800@www.burlo-borkenwirthe.de
SUMMARY:Nordic-Walking in Bowi - Landfrauen
DESCRIPTION:Unsere Walking-Gruppe ist super angelaufen… \nNun möchten wir uns jeden Mittwoch um 19.00 Uhr in Borkenwirthe an der Kirche treffen\, um dann ca. 5 km zu walken. Wer Zeit und Lust dazu hat\, ist herzlich eingeladen. \nInfos bei Ann-Christin Wesseling-Effing unter 0157/38311701 \n 
URL:https://www.burlo-borkenwirthe.de/event/nordic-walking-in-bowi-landfrauen/2024-09-25/
CATEGORIES:Sport,Wanderungen
ATTACH;FMTTYPE=image/png:https://www.burlo-borkenwirthe.de/wp-content/uploads/2023/05/Bild_2023-05-12_170018304.png
END:VEVENT
BEGIN:VEVENT
DTSTART;TZID=Europe/Berlin:20240923T184500
DTEND;TZID=Europe/Berlin:20240923T201500
DTSTAMP:20260420T225624
CREATED:20230925T083919Z
LAST-MODIFIED:20230925T084437Z
UID:10004355-1727117100-1727122500@www.burlo-borkenwirthe.de
SUMMARY:LandFrauen - ChiKung
DESCRIPTION:jeden Montag in der Turnhalle Borkenwirthe \n 
URL:https://www.burlo-borkenwirthe.de/event/landfrauen-chikung/2024-09-23/
LOCATION:Turnhalle Borkenwirthe\, Engeland Esch 35\, Borkenwirthe\, NRW\, 46325\, Germany
CATEGORIES:Sonstiges
ATTACH;FMTTYPE=image/png:https://www.burlo-borkenwirthe.de/wp-content/uploads/2023/05/Bild_2023-05-12_170018304.png
END:VEVENT
BEGIN:VEVENT
DTSTART;TZID=Europe/Berlin:20240918T190000
DTEND;TZID=Europe/Berlin:20240918T190000
DTSTAMP:20260420T225624
CREATED:20230614T172553Z
LAST-MODIFIED:20251202T165443Z
UID:10003311-1726686000-1726686000@www.burlo-borkenwirthe.de
SUMMARY:Nordic-Walking in Bowi - Landfrauen
DESCRIPTION:Unsere Walking-Gruppe ist super angelaufen… \nNun möchten wir uns jeden Mittwoch um 19.00 Uhr in Borkenwirthe an der Kirche treffen\, um dann ca. 5 km zu walken. Wer Zeit und Lust dazu hat\, ist herzlich eingeladen. \nInfos bei Ann-Christin Wesseling-Effing unter 0157/38311701 \n 
URL:https://www.burlo-borkenwirthe.de/event/nordic-walking-in-bowi-landfrauen/2024-09-18/
CATEGORIES:Sport,Wanderungen
ATTACH;FMTTYPE=image/png:https://www.burlo-borkenwirthe.de/wp-content/uploads/2023/05/Bild_2023-05-12_170018304.png
END:VEVENT
BEGIN:VEVENT
DTSTART;TZID=Europe/Berlin:20240916T184500
DTEND;TZID=Europe/Berlin:20240916T201500
DTSTAMP:20260420T225624
CREATED:20230925T083919Z
LAST-MODIFIED:20230925T084437Z
UID:10004354-1726512300-1726517700@www.burlo-borkenwirthe.de
SUMMARY:LandFrauen - ChiKung
DESCRIPTION:jeden Montag in der Turnhalle Borkenwirthe \n 
URL:https://www.burlo-borkenwirthe.de/event/landfrauen-chikung/2024-09-16/
LOCATION:Turnhalle Borkenwirthe\, Engeland Esch 35\, Borkenwirthe\, NRW\, 46325\, Germany
CATEGORIES:Sonstiges
ATTACH;FMTTYPE=image/png:https://www.burlo-borkenwirthe.de/wp-content/uploads/2023/05/Bild_2023-05-12_170018304.png
END:VEVENT
BEGIN:VEVENT
DTSTART;TZID=Europe/Berlin:20240911T190000
DTEND;TZID=Europe/Berlin:20240911T190000
DTSTAMP:20260420T225624
CREATED:20230614T172553Z
LAST-MODIFIED:20251202T165443Z
UID:10003310-1726081200-1726081200@www.burlo-borkenwirthe.de
SUMMARY:Nordic-Walking in Bowi - Landfrauen
DESCRIPTION:Unsere Walking-Gruppe ist super angelaufen… \nNun möchten wir uns jeden Mittwoch um 19.00 Uhr in Borkenwirthe an der Kirche treffen\, um dann ca. 5 km zu walken. Wer Zeit und Lust dazu hat\, ist herzlich eingeladen. \nInfos bei Ann-Christin Wesseling-Effing unter 0157/38311701 \n 
URL:https://www.burlo-borkenwirthe.de/event/nordic-walking-in-bowi-landfrauen/2024-09-11/
CATEGORIES:Sport,Wanderungen
ATTACH;FMTTYPE=image/png:https://www.burlo-borkenwirthe.de/wp-content/uploads/2023/05/Bild_2023-05-12_170018304.png
END:VEVENT
BEGIN:VEVENT
DTSTART;TZID=Europe/Berlin:20240909T184500
DTEND;TZID=Europe/Berlin:20240909T201500
DTSTAMP:20260420T225624
CREATED:20230925T083919Z
LAST-MODIFIED:20230925T084437Z
UID:10004353-1725907500-1725912900@www.burlo-borkenwirthe.de
SUMMARY:LandFrauen - ChiKung
DESCRIPTION:jeden Montag in der Turnhalle Borkenwirthe \n 
URL:https://www.burlo-borkenwirthe.de/event/landfrauen-chikung/2024-09-09/
LOCATION:Turnhalle Borkenwirthe\, Engeland Esch 35\, Borkenwirthe\, NRW\, 46325\, Germany
CATEGORIES:Sonstiges
ATTACH;FMTTYPE=image/png:https://www.burlo-borkenwirthe.de/wp-content/uploads/2023/05/Bild_2023-05-12_170018304.png
END:VEVENT
BEGIN:VEVENT
DTSTART;TZID=Europe/Berlin:20240907T140000
DTEND;TZID=Europe/Berlin:20240907T170000
DTSTAMP:20260420T225624
CREATED:20240807T151902Z
LAST-MODIFIED:20240831T132015Z
UID:10004724-1725717600-1725728400@www.burlo-borkenwirthe.de
SUMMARY:Wasserspiele bei der Feuerwehr Burlo
DESCRIPTION:Liebe Kinder und Familien\, \nwir freuen uns\, euch zu den ersten Wasserspielen der Feuerwehr Burlo-Borkenwirthe (Dunkerstraße 19) einzuladen! Es erwartet euch ein spannender Nachmittag voller Spaß\, Spiel\nund Action rund um das Thema Wasser! \nKommt vorbei und erlebt gemeinsam mit uns kleine Wettkämpfe\, bei denen Geschicklichkeit und Treffsicherheit gefragt sind. Ob beim Wasserball\, beim Spritzen mit dem  Feuerwehrschlauch oder bei anderen lustigen Spielen – hier ist für jeden etwas dabei! \nZusätzlich bieten wir Softgetränke\, Kaffee und ein bisschen Kuchen für je 1\,00 EUR an. Bringt eure Familie und Freunde mit und genießt einen unvergesslichen Tag in geselliger Runde! \nEine Anmeldung ist nicht notwendig. Wir freuen uns auf zahlreiche Teilnehmer und einen spritzigen Tag mit euch! \nEuer Löschzug Burlo-Borkenwirthe 1925\nunterstützt von Jungen LandFrauen Borkenwirthe
URL:https://www.burlo-borkenwirthe.de/event/wasserspiele-bei-der-feuerwehr-burlo/
LOCATION:Feuerwehrgerätehaus Burlo\, Dunkerstraße 19\, 46325 Borken-Burlo
CATEGORIES:Jugendbetreuung,Sonstiges
ATTACH;FMTTYPE=image/png:https://www.burlo-borkenwirthe.de/wp-content/uploads/2024/08/2024-09_Wasserspiele-e1723043913338.png
END:VEVENT
BEGIN:VEVENT
DTSTART;TZID=Europe/Berlin:20240904T190000
DTEND;TZID=Europe/Berlin:20240904T190000
DTSTAMP:20260420T225624
CREATED:20230614T172553Z
LAST-MODIFIED:20251202T165443Z
UID:10003309-1725476400-1725476400@www.burlo-borkenwirthe.de
SUMMARY:Nordic-Walking in Bowi - Landfrauen
DESCRIPTION:Unsere Walking-Gruppe ist super angelaufen… \nNun möchten wir uns jeden Mittwoch um 19.00 Uhr in Borkenwirthe an der Kirche treffen\, um dann ca. 5 km zu walken. Wer Zeit und Lust dazu hat\, ist herzlich eingeladen. \nInfos bei Ann-Christin Wesseling-Effing unter 0157/38311701 \n 
URL:https://www.burlo-borkenwirthe.de/event/nordic-walking-in-bowi-landfrauen/2024-09-04/
CATEGORIES:Sport,Wanderungen
ATTACH;FMTTYPE=image/png:https://www.burlo-borkenwirthe.de/wp-content/uploads/2023/05/Bild_2023-05-12_170018304.png
END:VEVENT
BEGIN:VEVENT
DTSTART;TZID=Europe/Berlin:20240902T184500
DTEND;TZID=Europe/Berlin:20240902T201500
DTSTAMP:20260420T225624
CREATED:20230925T083919Z
LAST-MODIFIED:20230925T084437Z
UID:10004352-1725302700-1725308100@www.burlo-borkenwirthe.de
SUMMARY:LandFrauen - ChiKung
DESCRIPTION:jeden Montag in der Turnhalle Borkenwirthe \n 
URL:https://www.burlo-borkenwirthe.de/event/landfrauen-chikung/2024-09-02/
LOCATION:Turnhalle Borkenwirthe\, Engeland Esch 35\, Borkenwirthe\, NRW\, 46325\, Germany
CATEGORIES:Sonstiges
ATTACH;FMTTYPE=image/png:https://www.burlo-borkenwirthe.de/wp-content/uploads/2023/05/Bild_2023-05-12_170018304.png
END:VEVENT
BEGIN:VEVENT
DTSTART;TZID=Europe/Berlin:20240901T093000
DTEND;TZID=Europe/Berlin:20240901T180000
DTSTAMP:20260420T225624
CREATED:20230905T133020Z
LAST-MODIFIED:20240615T151325Z
UID:10003476-1725183000-1725213600@www.burlo-borkenwirthe.de
SUMMARY:Familienfahrt der LandFrauen Borkenwirthe
DESCRIPTION:
URL:https://www.burlo-borkenwirthe.de/event/familienfahrt-der-landfrauen-borkenwirthe/
LOCATION:Tierpark Nordhorn\, Heseper Weg 110\, Nordhorn\, 48531\, Germany
CATEGORIES:Ausflug,Nicht öffentlich
ATTACH;FMTTYPE=image/png:https://www.burlo-borkenwirthe.de/wp-content/uploads/2023/09/Landfrauen_TierparkNordhorn-e1718464397310.png
END:VEVENT
BEGIN:VEVENT
DTSTART;TZID=Europe/Berlin:20240828T190000
DTEND;TZID=Europe/Berlin:20240828T190000
DTSTAMP:20260420T225624
CREATED:20230614T172553Z
LAST-MODIFIED:20251202T165443Z
UID:10003308-1724871600-1724871600@www.burlo-borkenwirthe.de
SUMMARY:Nordic-Walking in Bowi - Landfrauen
DESCRIPTION:Unsere Walking-Gruppe ist super angelaufen… \nNun möchten wir uns jeden Mittwoch um 19.00 Uhr in Borkenwirthe an der Kirche treffen\, um dann ca. 5 km zu walken. Wer Zeit und Lust dazu hat\, ist herzlich eingeladen. \nInfos bei Ann-Christin Wesseling-Effing unter 0157/38311701 \n 
URL:https://www.burlo-borkenwirthe.de/event/nordic-walking-in-bowi-landfrauen/2024-08-28/
CATEGORIES:Sport,Wanderungen
ATTACH;FMTTYPE=image/png:https://www.burlo-borkenwirthe.de/wp-content/uploads/2023/05/Bild_2023-05-12_170018304.png
END:VEVENT
BEGIN:VEVENT
DTSTART;TZID=Europe/Berlin:20240826T184500
DTEND;TZID=Europe/Berlin:20240826T201500
DTSTAMP:20260420T225624
CREATED:20230925T083919Z
LAST-MODIFIED:20230925T084437Z
UID:10004351-1724697900-1724703300@www.burlo-borkenwirthe.de
SUMMARY:LandFrauen - ChiKung
DESCRIPTION:jeden Montag in der Turnhalle Borkenwirthe \n 
URL:https://www.burlo-borkenwirthe.de/event/landfrauen-chikung/2024-08-26/
LOCATION:Turnhalle Borkenwirthe\, Engeland Esch 35\, Borkenwirthe\, NRW\, 46325\, Germany
CATEGORIES:Sonstiges
ATTACH;FMTTYPE=image/png:https://www.burlo-borkenwirthe.de/wp-content/uploads/2023/05/Bild_2023-05-12_170018304.png
END:VEVENT
BEGIN:VEVENT
DTSTART;TZID=Europe/Berlin:20240823T200000
DTEND;TZID=Europe/Berlin:20240823T200000
DTSTAMP:20260420T225624
CREATED:20240615T153640Z
LAST-MODIFIED:20240615T153640Z
UID:10004716-1724443200-1724443200@www.burlo-borkenwirthe.de
SUMMARY:Cocktailabend der LandFrauen
DESCRIPTION:Wir treffen uns ab 20.00 Uhr zu einem gemütlichen Abend. Anmeldungen bis zum 11.08.2024 bei Angelika Becker-Hardt \n 
URL:https://www.burlo-borkenwirthe.de/event/cocktailabend-der-landfrauen/
LOCATION:Pfarrheim Borkenwirthe\, Wirther Kirchweg 19\, Borkenwirthe\, 46325\, Germany
CATEGORIES:Nicht öffentlich,Sonstiges
ATTACH;FMTTYPE=image/png:https://www.burlo-borkenwirthe.de/wp-content/uploads/2023/05/Bild_2023-05-12_170018304.png
END:VEVENT
BEGIN:VEVENT
DTSTART;TZID=Europe/Berlin:20240821T190000
DTEND;TZID=Europe/Berlin:20240821T190000
DTSTAMP:20260420T225625
CREATED:20230614T172553Z
LAST-MODIFIED:20251202T165443Z
UID:10003307-1724266800-1724266800@www.burlo-borkenwirthe.de
SUMMARY:Nordic-Walking in Bowi - Landfrauen
DESCRIPTION:Unsere Walking-Gruppe ist super angelaufen… \nNun möchten wir uns jeden Mittwoch um 19.00 Uhr in Borkenwirthe an der Kirche treffen\, um dann ca. 5 km zu walken. Wer Zeit und Lust dazu hat\, ist herzlich eingeladen. \nInfos bei Ann-Christin Wesseling-Effing unter 0157/38311701 \n 
URL:https://www.burlo-borkenwirthe.de/event/nordic-walking-in-bowi-landfrauen/2024-08-21/
CATEGORIES:Sport,Wanderungen
ATTACH;FMTTYPE=image/png:https://www.burlo-borkenwirthe.de/wp-content/uploads/2023/05/Bild_2023-05-12_170018304.png
END:VEVENT
BEGIN:VEVENT
DTSTART;TZID=Europe/Berlin:20240819T184500
DTEND;TZID=Europe/Berlin:20240819T201500
DTSTAMP:20260420T225625
CREATED:20230925T083919Z
LAST-MODIFIED:20230925T084437Z
UID:10004350-1724093100-1724098500@www.burlo-borkenwirthe.de
SUMMARY:LandFrauen - ChiKung
DESCRIPTION:jeden Montag in der Turnhalle Borkenwirthe \n 
URL:https://www.burlo-borkenwirthe.de/event/landfrauen-chikung/2024-08-19/
LOCATION:Turnhalle Borkenwirthe\, Engeland Esch 35\, Borkenwirthe\, NRW\, 46325\, Germany
CATEGORIES:Sonstiges
ATTACH;FMTTYPE=image/png:https://www.burlo-borkenwirthe.de/wp-content/uploads/2023/05/Bild_2023-05-12_170018304.png
END:VEVENT
BEGIN:VEVENT
DTSTART;TZID=Europe/Berlin:20240814T190000
DTEND;TZID=Europe/Berlin:20240814T190000
DTSTAMP:20260420T225625
CREATED:20230614T172553Z
LAST-MODIFIED:20251202T165443Z
UID:10003306-1723662000-1723662000@www.burlo-borkenwirthe.de
SUMMARY:Nordic-Walking in Bowi - Landfrauen
DESCRIPTION:Unsere Walking-Gruppe ist super angelaufen… \nNun möchten wir uns jeden Mittwoch um 19.00 Uhr in Borkenwirthe an der Kirche treffen\, um dann ca. 5 km zu walken. Wer Zeit und Lust dazu hat\, ist herzlich eingeladen. \nInfos bei Ann-Christin Wesseling-Effing unter 0157/38311701 \n 
URL:https://www.burlo-borkenwirthe.de/event/nordic-walking-in-bowi-landfrauen/2024-08-14/
CATEGORIES:Sport,Wanderungen
ATTACH;FMTTYPE=image/png:https://www.burlo-borkenwirthe.de/wp-content/uploads/2023/05/Bild_2023-05-12_170018304.png
END:VEVENT
BEGIN:VEVENT
DTSTART;TZID=Europe/Berlin:20240812T184500
DTEND;TZID=Europe/Berlin:20240812T201500
DTSTAMP:20260420T225625
CREATED:20230925T083919Z
LAST-MODIFIED:20230925T084437Z
UID:10004349-1723488300-1723493700@www.burlo-borkenwirthe.de
SUMMARY:LandFrauen - ChiKung
DESCRIPTION:jeden Montag in der Turnhalle Borkenwirthe \n 
URL:https://www.burlo-borkenwirthe.de/event/landfrauen-chikung/2024-08-12/
LOCATION:Turnhalle Borkenwirthe\, Engeland Esch 35\, Borkenwirthe\, NRW\, 46325\, Germany
CATEGORIES:Sonstiges
ATTACH;FMTTYPE=image/png:https://www.burlo-borkenwirthe.de/wp-content/uploads/2023/05/Bild_2023-05-12_170018304.png
END:VEVENT
BEGIN:VEVENT
DTSTART;TZID=Europe/Berlin:20240809T203000
DTEND;TZID=Europe/Berlin:20240809T203000
DTSTAMP:20260420T225625
CREATED:20240615T153439Z
LAST-MODIFIED:20240615T153439Z
UID:10004715-1723235400-1723235400@www.burlo-borkenwirthe.de
SUMMARY:Ausflug der LandFrauen zur Freilichtbühne Coesfeld
DESCRIPTION:Sister Act \nVorstellungsbeginn: 20.30 Uhr \nEintritt: 19\,00 € Treffen ab 19.30 Uhr (es werden Fahrgemeinschaften gebildet) \nAnmeldung bis zum 28.07.2024 bei Barbara Robers \nHandlung:\nNACHTCLUBSÄNGERIN UND NONNE – viel weiter können zwei Berufe wohl kaum auseinanderklaffen. DELORIS VAN CARTIER verwandelt sich dennoch in SCHWESTER MARY CLARENCE\, wenn auch nur unter Protest. \nAls Zeugin eines Mordes wird die wenig religiöse Musikerin von einem befreundeten Polizisten ausgerechnet in einem katholischen Kloster versteckt. Dort bringt sie die MUTTER OBERIN auf die Palme und den NONNENCHOR so in Schwung\, dass der PAPST höchstpersönlich aufmerksam wird. Aufmerksam werden allerdings auch die GANGSTER\, die auf der Suche nach Deloris sind… \n 
URL:https://www.burlo-borkenwirthe.de/event/ausflug-der-landfrauen-zur-freilichtbuehne-coesfeld/
LOCATION:Freilichtbühne Coesfeld\, Flamschen 22\, Coesfeld\, NRW\, 48653\, Germany
CATEGORIES:Ausflug,Nicht öffentlich,Theater/Aufführung
ATTACH;FMTTYPE=image/png:https://www.burlo-borkenwirthe.de/wp-content/uploads/2024/06/Sister-Act_Landfrauen.png
END:VEVENT
BEGIN:VEVENT
DTSTART;TZID=Europe/Berlin:20240807T190000
DTEND;TZID=Europe/Berlin:20240807T190000
DTSTAMP:20260420T225625
CREATED:20230614T172553Z
LAST-MODIFIED:20251202T165443Z
UID:10003305-1723057200-1723057200@www.burlo-borkenwirthe.de
SUMMARY:Nordic-Walking in Bowi - Landfrauen
DESCRIPTION:Unsere Walking-Gruppe ist super angelaufen… \nNun möchten wir uns jeden Mittwoch um 19.00 Uhr in Borkenwirthe an der Kirche treffen\, um dann ca. 5 km zu walken. Wer Zeit und Lust dazu hat\, ist herzlich eingeladen. \nInfos bei Ann-Christin Wesseling-Effing unter 0157/38311701 \n 
URL:https://www.burlo-borkenwirthe.de/event/nordic-walking-in-bowi-landfrauen/2024-08-07/
CATEGORIES:Sport,Wanderungen
ATTACH;FMTTYPE=image/png:https://www.burlo-borkenwirthe.de/wp-content/uploads/2023/05/Bild_2023-05-12_170018304.png
END:VEVENT
BEGIN:VEVENT
DTSTART;TZID=Europe/Berlin:20240805T184500
DTEND;TZID=Europe/Berlin:20240805T201500
DTSTAMP:20260420T225625
CREATED:20230925T083919Z
LAST-MODIFIED:20230925T084437Z
UID:10004348-1722883500-1722888900@www.burlo-borkenwirthe.de
SUMMARY:LandFrauen - ChiKung
DESCRIPTION:jeden Montag in der Turnhalle Borkenwirthe \n 
URL:https://www.burlo-borkenwirthe.de/event/landfrauen-chikung/2024-08-05/
LOCATION:Turnhalle Borkenwirthe\, Engeland Esch 35\, Borkenwirthe\, NRW\, 46325\, Germany
CATEGORIES:Sonstiges
ATTACH;FMTTYPE=image/png:https://www.burlo-borkenwirthe.de/wp-content/uploads/2023/05/Bild_2023-05-12_170018304.png
END:VEVENT
BEGIN:VEVENT
DTSTART;TZID=Europe/Berlin:20240731T190000
DTEND;TZID=Europe/Berlin:20240731T190000
DTSTAMP:20260420T225625
CREATED:20230614T172553Z
LAST-MODIFIED:20251202T165443Z
UID:10003304-1722452400-1722452400@www.burlo-borkenwirthe.de
SUMMARY:Nordic-Walking in Bowi - Landfrauen
DESCRIPTION:Unsere Walking-Gruppe ist super angelaufen… \nNun möchten wir uns jeden Mittwoch um 19.00 Uhr in Borkenwirthe an der Kirche treffen\, um dann ca. 5 km zu walken. Wer Zeit und Lust dazu hat\, ist herzlich eingeladen. \nInfos bei Ann-Christin Wesseling-Effing unter 0157/38311701 \n 
URL:https://www.burlo-borkenwirthe.de/event/nordic-walking-in-bowi-landfrauen/2024-07-31/
CATEGORIES:Sport,Wanderungen
ATTACH;FMTTYPE=image/png:https://www.burlo-borkenwirthe.de/wp-content/uploads/2023/05/Bild_2023-05-12_170018304.png
END:VEVENT
BEGIN:VEVENT
DTSTART;TZID=Europe/Berlin:20240729T184500
DTEND;TZID=Europe/Berlin:20240729T201500
DTSTAMP:20260420T225625
CREATED:20230925T083919Z
LAST-MODIFIED:20230925T084437Z
UID:10004347-1722278700-1722284100@www.burlo-borkenwirthe.de
SUMMARY:LandFrauen - ChiKung
DESCRIPTION:jeden Montag in der Turnhalle Borkenwirthe \n 
URL:https://www.burlo-borkenwirthe.de/event/landfrauen-chikung/2024-07-29/
LOCATION:Turnhalle Borkenwirthe\, Engeland Esch 35\, Borkenwirthe\, NRW\, 46325\, Germany
CATEGORIES:Sonstiges
ATTACH;FMTTYPE=image/png:https://www.burlo-borkenwirthe.de/wp-content/uploads/2023/05/Bild_2023-05-12_170018304.png
END:VEVENT
BEGIN:VEVENT
DTSTART;TZID=Europe/Berlin:20240724T190000
DTEND;TZID=Europe/Berlin:20240724T190000
DTSTAMP:20260420T225625
CREATED:20240615T152350Z
LAST-MODIFIED:20240615T152350Z
UID:10004713-1721847600-1721847600@www.burlo-borkenwirthe.de
SUMMARY:Sommer-Kochabend - LandFrauen Borkenwirthe
DESCRIPTION:mit Christiane Nießing \nab 19.00 Uhr im Pfarrheim Borkenwirthe  \nAnmeldung bis zum 15.07.2024 bei Christiane Nießing unter Tel.: 0151 65223954 \n 
URL:https://www.burlo-borkenwirthe.de/event/sommer-kochabend-landfrauen-borkenwirthe/
LOCATION:Pfarrheim Borkenwirthe\, Wirther Kirchweg 19\, Borkenwirthe\, 46325\, Germany
CATEGORIES:Nicht öffentlich,Sonstiges
ATTACH;FMTTYPE=image/png:https://www.burlo-borkenwirthe.de/wp-content/uploads/2023/05/Bild_2023-05-12_170018304.png
END:VEVENT
BEGIN:VEVENT
DTSTART;TZID=Europe/Berlin:20240724T190000
DTEND;TZID=Europe/Berlin:20240724T190000
DTSTAMP:20260420T225625
CREATED:20230614T172553Z
LAST-MODIFIED:20251202T165443Z
UID:10003303-1721847600-1721847600@www.burlo-borkenwirthe.de
SUMMARY:Nordic-Walking in Bowi - Landfrauen
DESCRIPTION:Unsere Walking-Gruppe ist super angelaufen… \nNun möchten wir uns jeden Mittwoch um 19.00 Uhr in Borkenwirthe an der Kirche treffen\, um dann ca. 5 km zu walken. Wer Zeit und Lust dazu hat\, ist herzlich eingeladen. \nInfos bei Ann-Christin Wesseling-Effing unter 0157/38311701 \n 
URL:https://www.burlo-borkenwirthe.de/event/nordic-walking-in-bowi-landfrauen/2024-07-24/
CATEGORIES:Sport,Wanderungen
ATTACH;FMTTYPE=image/png:https://www.burlo-borkenwirthe.de/wp-content/uploads/2023/05/Bild_2023-05-12_170018304.png
END:VEVENT
BEGIN:VEVENT
DTSTART;TZID=Europe/Berlin:20240722T184500
DTEND;TZID=Europe/Berlin:20240722T201500
DTSTAMP:20260420T225625
CREATED:20230925T083919Z
LAST-MODIFIED:20230925T084437Z
UID:10004346-1721673900-1721679300@www.burlo-borkenwirthe.de
SUMMARY:LandFrauen - ChiKung
DESCRIPTION:jeden Montag in der Turnhalle Borkenwirthe \n 
URL:https://www.burlo-borkenwirthe.de/event/landfrauen-chikung/2024-07-22/
LOCATION:Turnhalle Borkenwirthe\, Engeland Esch 35\, Borkenwirthe\, NRW\, 46325\, Germany
CATEGORIES:Sonstiges
ATTACH;FMTTYPE=image/png:https://www.burlo-borkenwirthe.de/wp-content/uploads/2023/05/Bild_2023-05-12_170018304.png
END:VEVENT
BEGIN:VEVENT
DTSTART;TZID=Europe/Berlin:20240717T190000
DTEND;TZID=Europe/Berlin:20240717T190000
DTSTAMP:20260420T225625
CREATED:20230614T172553Z
LAST-MODIFIED:20251202T165443Z
UID:10003302-1721242800-1721242800@www.burlo-borkenwirthe.de
SUMMARY:Nordic-Walking in Bowi - Landfrauen
DESCRIPTION:Unsere Walking-Gruppe ist super angelaufen… \nNun möchten wir uns jeden Mittwoch um 19.00 Uhr in Borkenwirthe an der Kirche treffen\, um dann ca. 5 km zu walken. Wer Zeit und Lust dazu hat\, ist herzlich eingeladen. \nInfos bei Ann-Christin Wesseling-Effing unter 0157/38311701 \n 
URL:https://www.burlo-borkenwirthe.de/event/nordic-walking-in-bowi-landfrauen/2024-07-17/
CATEGORIES:Sport,Wanderungen
ATTACH;FMTTYPE=image/png:https://www.burlo-borkenwirthe.de/wp-content/uploads/2023/05/Bild_2023-05-12_170018304.png
END:VEVENT
BEGIN:VEVENT
DTSTART;TZID=Europe/Berlin:20240715T184500
DTEND;TZID=Europe/Berlin:20240715T201500
DTSTAMP:20260420T225625
CREATED:20230925T083919Z
LAST-MODIFIED:20230925T084437Z
UID:10004345-1721069100-1721074500@www.burlo-borkenwirthe.de
SUMMARY:LandFrauen - ChiKung
DESCRIPTION:jeden Montag in der Turnhalle Borkenwirthe \n 
URL:https://www.burlo-borkenwirthe.de/event/landfrauen-chikung/2024-07-15/
LOCATION:Turnhalle Borkenwirthe\, Engeland Esch 35\, Borkenwirthe\, NRW\, 46325\, Germany
CATEGORIES:Sonstiges
ATTACH;FMTTYPE=image/png:https://www.burlo-borkenwirthe.de/wp-content/uploads/2023/05/Bild_2023-05-12_170018304.png
END:VEVENT
BEGIN:VEVENT
DTSTART;TZID=Europe/Berlin:20240710T190000
DTEND;TZID=Europe/Berlin:20240710T190000
DTSTAMP:20260420T225625
CREATED:20230614T172553Z
LAST-MODIFIED:20251202T165443Z
UID:10003301-1720638000-1720638000@www.burlo-borkenwirthe.de
SUMMARY:Nordic-Walking in Bowi - Landfrauen
DESCRIPTION:Unsere Walking-Gruppe ist super angelaufen… \nNun möchten wir uns jeden Mittwoch um 19.00 Uhr in Borkenwirthe an der Kirche treffen\, um dann ca. 5 km zu walken. Wer Zeit und Lust dazu hat\, ist herzlich eingeladen. \nInfos bei Ann-Christin Wesseling-Effing unter 0157/38311701 \n 
URL:https://www.burlo-borkenwirthe.de/event/nordic-walking-in-bowi-landfrauen/2024-07-10/
CATEGORIES:Sport,Wanderungen
ATTACH;FMTTYPE=image/png:https://www.burlo-borkenwirthe.de/wp-content/uploads/2023/05/Bild_2023-05-12_170018304.png
END:VEVENT
BEGIN:VEVENT
DTSTART;VALUE=DATE:20240710
DTEND;VALUE=DATE:20240711
DTSTAMP:20260420T225625
CREATED:20240615T152925Z
LAST-MODIFIED:20240615T152925Z
UID:10004714-1720569600-1720655999@www.burlo-borkenwirthe.de
SUMMARY:LandFrauen - Radtour rund um Bocholt-Biemenhorst
DESCRIPTION:Hier erwartet die Besucher das Schönstattzentrum Biemenhorst\, eine kleine Oase im Grünen mit einer Kapelle als Wallfahrtsstätte. Für das leibliche Wohl ist gesorgt. \nTreffpunkt:\nAm Takenkamp 70\, 46395 Bocholt-Biemenhorst \nAnmeldung:\nbei Agnes Sundrum\, Tel. 02862 / 2768 \n 
URL:https://www.burlo-borkenwirthe.de/event/landfrauen-radtour-rund-um-bocholt-biemenhorst/
CATEGORIES:Ausflug,Nicht öffentlich
ATTACH;FMTTYPE=image/png:https://www.burlo-borkenwirthe.de/wp-content/uploads/2023/05/Bild_2023-05-12_170018304.png
END:VEVENT
END:VCALENDAR