BEGIN:VCALENDAR
VERSION:2.0
PRODID:-//Werbekreis Burlo und Borkenwirthe - ECPv6.15.18//NONSGML v1.0//EN
CALSCALE:GREGORIAN
METHOD:PUBLISH
X-ORIGINAL-URL:https://www.burlo-borkenwirthe.de
X-WR-CALDESC:Veranstaltungen für Werbekreis Burlo und Borkenwirthe
REFRESH-INTERVAL;VALUE=DURATION:PT1H
X-Robots-Tag:noindex
X-PUBLISHED-TTL:PT1H
BEGIN:VTIMEZONE
TZID:Europe/Berlin
BEGIN:DAYLIGHT
TZOFFSETFROM:+0100
TZOFFSETTO:+0200
TZNAME:CEST
DTSTART:20270328T010000
END:DAYLIGHT
BEGIN:STANDARD
TZOFFSETFROM:+0200
TZOFFSETTO:+0100
TZNAME:CET
DTSTART:20271031T010000
END:STANDARD
BEGIN:DAYLIGHT
TZOFFSETFROM:+0100
TZOFFSETTO:+0200
TZNAME:CEST
DTSTART:20280326T010000
END:DAYLIGHT
BEGIN:STANDARD
TZOFFSETFROM:+0200
TZOFFSETTO:+0100
TZNAME:CET
DTSTART:20281029T010000
END:STANDARD
BEGIN:DAYLIGHT
TZOFFSETFROM:+0100
TZOFFSETTO:+0200
TZNAME:CEST
DTSTART:20290325T010000
END:DAYLIGHT
BEGIN:STANDARD
TZOFFSETFROM:+0200
TZOFFSETTO:+0100
TZNAME:CET
DTSTART:20291028T010000
END:STANDARD
END:VTIMEZONE
BEGIN:VEVENT
DTSTART;TZID=Europe/Berlin:20280510T190000
DTEND;TZID=Europe/Berlin:20280510T190000
DTSTAMP:20260420T172420
CREATED:20230614T172553Z
LAST-MODIFIED:20251202T165443Z
UID:10004833-1841598000-1841598000@www.burlo-borkenwirthe.de
SUMMARY:Nordic-Walking in Bowi - Landfrauen
DESCRIPTION:Unsere Walking-Gruppe ist super angelaufen… \nNun möchten wir uns jeden Mittwoch um 19.00 Uhr in Borkenwirthe an der Kirche treffen\, um dann ca. 5 km zu walken. Wer Zeit und Lust dazu hat\, ist herzlich eingeladen. \nInfos bei Ann-Christin Wesseling-Effing unter 0157/38311701 \n 
URL:https://www.burlo-borkenwirthe.de/event/nordic-walking-in-bowi-landfrauen/2028-05-10/
CATEGORIES:Sport,Wanderungen
ATTACH;FMTTYPE=image/png:https://www.burlo-borkenwirthe.de/wp-content/uploads/2023/05/Bild_2023-05-12_170018304.png
END:VEVENT
BEGIN:VEVENT
DTSTART;TZID=Europe/Berlin:20280517T190000
DTEND;TZID=Europe/Berlin:20280517T190000
DTSTAMP:20260420T172420
CREATED:20230614T172553Z
LAST-MODIFIED:20251202T165443Z
UID:10004834-1842202800-1842202800@www.burlo-borkenwirthe.de
SUMMARY:Nordic-Walking in Bowi - Landfrauen
DESCRIPTION:Unsere Walking-Gruppe ist super angelaufen… \nNun möchten wir uns jeden Mittwoch um 19.00 Uhr in Borkenwirthe an der Kirche treffen\, um dann ca. 5 km zu walken. Wer Zeit und Lust dazu hat\, ist herzlich eingeladen. \nInfos bei Ann-Christin Wesseling-Effing unter 0157/38311701 \n 
URL:https://www.burlo-borkenwirthe.de/event/nordic-walking-in-bowi-landfrauen/2028-05-17/
CATEGORIES:Sport,Wanderungen
ATTACH;FMTTYPE=image/png:https://www.burlo-borkenwirthe.de/wp-content/uploads/2023/05/Bild_2023-05-12_170018304.png
END:VEVENT
BEGIN:VEVENT
DTSTART;TZID=Europe/Berlin:20280524T190000
DTEND;TZID=Europe/Berlin:20280524T190000
DTSTAMP:20260420T172420
CREATED:20230614T172553Z
LAST-MODIFIED:20251202T165443Z
UID:10004835-1842807600-1842807600@www.burlo-borkenwirthe.de
SUMMARY:Nordic-Walking in Bowi - Landfrauen
DESCRIPTION:Unsere Walking-Gruppe ist super angelaufen… \nNun möchten wir uns jeden Mittwoch um 19.00 Uhr in Borkenwirthe an der Kirche treffen\, um dann ca. 5 km zu walken. Wer Zeit und Lust dazu hat\, ist herzlich eingeladen. \nInfos bei Ann-Christin Wesseling-Effing unter 0157/38311701 \n 
URL:https://www.burlo-borkenwirthe.de/event/nordic-walking-in-bowi-landfrauen/2028-05-24/
CATEGORIES:Sport,Wanderungen
ATTACH;FMTTYPE=image/png:https://www.burlo-borkenwirthe.de/wp-content/uploads/2023/05/Bild_2023-05-12_170018304.png
END:VEVENT
BEGIN:VEVENT
DTSTART;TZID=Europe/Berlin:20280531T190000
DTEND;TZID=Europe/Berlin:20280531T190000
DTSTAMP:20260420T172420
CREATED:20230614T172553Z
LAST-MODIFIED:20251202T165443Z
UID:10004836-1843412400-1843412400@www.burlo-borkenwirthe.de
SUMMARY:Nordic-Walking in Bowi - Landfrauen
DESCRIPTION:Unsere Walking-Gruppe ist super angelaufen… \nNun möchten wir uns jeden Mittwoch um 19.00 Uhr in Borkenwirthe an der Kirche treffen\, um dann ca. 5 km zu walken. Wer Zeit und Lust dazu hat\, ist herzlich eingeladen. \nInfos bei Ann-Christin Wesseling-Effing unter 0157/38311701 \n 
URL:https://www.burlo-borkenwirthe.de/event/nordic-walking-in-bowi-landfrauen/2028-05-31/
CATEGORIES:Sport,Wanderungen
ATTACH;FMTTYPE=image/png:https://www.burlo-borkenwirthe.de/wp-content/uploads/2023/05/Bild_2023-05-12_170018304.png
END:VEVENT
BEGIN:VEVENT
DTSTART;TZID=Europe/Berlin:20280607T190000
DTEND;TZID=Europe/Berlin:20280607T190000
DTSTAMP:20260420T172420
CREATED:20230614T172553Z
LAST-MODIFIED:20251202T165443Z
UID:10004837-1844017200-1844017200@www.burlo-borkenwirthe.de
SUMMARY:Nordic-Walking in Bowi - Landfrauen
DESCRIPTION:Unsere Walking-Gruppe ist super angelaufen… \nNun möchten wir uns jeden Mittwoch um 19.00 Uhr in Borkenwirthe an der Kirche treffen\, um dann ca. 5 km zu walken. Wer Zeit und Lust dazu hat\, ist herzlich eingeladen. \nInfos bei Ann-Christin Wesseling-Effing unter 0157/38311701 \n 
URL:https://www.burlo-borkenwirthe.de/event/nordic-walking-in-bowi-landfrauen/2028-06-07/
CATEGORIES:Sport,Wanderungen
ATTACH;FMTTYPE=image/png:https://www.burlo-borkenwirthe.de/wp-content/uploads/2023/05/Bild_2023-05-12_170018304.png
END:VEVENT
BEGIN:VEVENT
DTSTART;TZID=Europe/Berlin:20280614T190000
DTEND;TZID=Europe/Berlin:20280614T190000
DTSTAMP:20260420T172420
CREATED:20230614T172553Z
LAST-MODIFIED:20251202T165443Z
UID:10004838-1844622000-1844622000@www.burlo-borkenwirthe.de
SUMMARY:Nordic-Walking in Bowi - Landfrauen
DESCRIPTION:Unsere Walking-Gruppe ist super angelaufen… \nNun möchten wir uns jeden Mittwoch um 19.00 Uhr in Borkenwirthe an der Kirche treffen\, um dann ca. 5 km zu walken. Wer Zeit und Lust dazu hat\, ist herzlich eingeladen. \nInfos bei Ann-Christin Wesseling-Effing unter 0157/38311701 \n 
URL:https://www.burlo-borkenwirthe.de/event/nordic-walking-in-bowi-landfrauen/2028-06-14/
CATEGORIES:Sport,Wanderungen
ATTACH;FMTTYPE=image/png:https://www.burlo-borkenwirthe.de/wp-content/uploads/2023/05/Bild_2023-05-12_170018304.png
END:VEVENT
BEGIN:VEVENT
DTSTART;TZID=Europe/Berlin:20280621T190000
DTEND;TZID=Europe/Berlin:20280621T190000
DTSTAMP:20260420T172420
CREATED:20230614T172553Z
LAST-MODIFIED:20251202T165443Z
UID:10004839-1845226800-1845226800@www.burlo-borkenwirthe.de
SUMMARY:Nordic-Walking in Bowi - Landfrauen
DESCRIPTION:Unsere Walking-Gruppe ist super angelaufen… \nNun möchten wir uns jeden Mittwoch um 19.00 Uhr in Borkenwirthe an der Kirche treffen\, um dann ca. 5 km zu walken. Wer Zeit und Lust dazu hat\, ist herzlich eingeladen. \nInfos bei Ann-Christin Wesseling-Effing unter 0157/38311701 \n 
URL:https://www.burlo-borkenwirthe.de/event/nordic-walking-in-bowi-landfrauen/2028-06-21/
CATEGORIES:Sport,Wanderungen
ATTACH;FMTTYPE=image/png:https://www.burlo-borkenwirthe.de/wp-content/uploads/2023/05/Bild_2023-05-12_170018304.png
END:VEVENT
BEGIN:VEVENT
DTSTART;TZID=Europe/Berlin:20280628T190000
DTEND;TZID=Europe/Berlin:20280628T190000
DTSTAMP:20260420T172420
CREATED:20230614T172553Z
LAST-MODIFIED:20251202T165443Z
UID:10004840-1845831600-1845831600@www.burlo-borkenwirthe.de
SUMMARY:Nordic-Walking in Bowi - Landfrauen
DESCRIPTION:Unsere Walking-Gruppe ist super angelaufen… \nNun möchten wir uns jeden Mittwoch um 19.00 Uhr in Borkenwirthe an der Kirche treffen\, um dann ca. 5 km zu walken. Wer Zeit und Lust dazu hat\, ist herzlich eingeladen. \nInfos bei Ann-Christin Wesseling-Effing unter 0157/38311701 \n 
URL:https://www.burlo-borkenwirthe.de/event/nordic-walking-in-bowi-landfrauen/2028-06-28/
CATEGORIES:Sport,Wanderungen
ATTACH;FMTTYPE=image/png:https://www.burlo-borkenwirthe.de/wp-content/uploads/2023/05/Bild_2023-05-12_170018304.png
END:VEVENT
BEGIN:VEVENT
DTSTART;TZID=Europe/Berlin:20280705T190000
DTEND;TZID=Europe/Berlin:20280705T190000
DTSTAMP:20260420T172420
CREATED:20230614T172553Z
LAST-MODIFIED:20251202T165443Z
UID:10004841-1846436400-1846436400@www.burlo-borkenwirthe.de
SUMMARY:Nordic-Walking in Bowi - Landfrauen
DESCRIPTION:Unsere Walking-Gruppe ist super angelaufen… \nNun möchten wir uns jeden Mittwoch um 19.00 Uhr in Borkenwirthe an der Kirche treffen\, um dann ca. 5 km zu walken. Wer Zeit und Lust dazu hat\, ist herzlich eingeladen. \nInfos bei Ann-Christin Wesseling-Effing unter 0157/38311701 \n 
URL:https://www.burlo-borkenwirthe.de/event/nordic-walking-in-bowi-landfrauen/2028-07-05/
CATEGORIES:Sport,Wanderungen
ATTACH;FMTTYPE=image/png:https://www.burlo-borkenwirthe.de/wp-content/uploads/2023/05/Bild_2023-05-12_170018304.png
END:VEVENT
BEGIN:VEVENT
DTSTART;TZID=Europe/Berlin:20280712T190000
DTEND;TZID=Europe/Berlin:20280712T190000
DTSTAMP:20260420T172420
CREATED:20230614T172553Z
LAST-MODIFIED:20251202T165443Z
UID:10004842-1847041200-1847041200@www.burlo-borkenwirthe.de
SUMMARY:Nordic-Walking in Bowi - Landfrauen
DESCRIPTION:Unsere Walking-Gruppe ist super angelaufen… \nNun möchten wir uns jeden Mittwoch um 19.00 Uhr in Borkenwirthe an der Kirche treffen\, um dann ca. 5 km zu walken. Wer Zeit und Lust dazu hat\, ist herzlich eingeladen. \nInfos bei Ann-Christin Wesseling-Effing unter 0157/38311701 \n 
URL:https://www.burlo-borkenwirthe.de/event/nordic-walking-in-bowi-landfrauen/2028-07-12/
CATEGORIES:Sport,Wanderungen
ATTACH;FMTTYPE=image/png:https://www.burlo-borkenwirthe.de/wp-content/uploads/2023/05/Bild_2023-05-12_170018304.png
END:VEVENT
BEGIN:VEVENT
DTSTART;TZID=Europe/Berlin:20280719T190000
DTEND;TZID=Europe/Berlin:20280719T190000
DTSTAMP:20260420T172420
CREATED:20230614T172553Z
LAST-MODIFIED:20251202T165443Z
UID:10004843-1847646000-1847646000@www.burlo-borkenwirthe.de
SUMMARY:Nordic-Walking in Bowi - Landfrauen
DESCRIPTION:Unsere Walking-Gruppe ist super angelaufen… \nNun möchten wir uns jeden Mittwoch um 19.00 Uhr in Borkenwirthe an der Kirche treffen\, um dann ca. 5 km zu walken. Wer Zeit und Lust dazu hat\, ist herzlich eingeladen. \nInfos bei Ann-Christin Wesseling-Effing unter 0157/38311701 \n 
URL:https://www.burlo-borkenwirthe.de/event/nordic-walking-in-bowi-landfrauen/2028-07-19/
CATEGORIES:Sport,Wanderungen
ATTACH;FMTTYPE=image/png:https://www.burlo-borkenwirthe.de/wp-content/uploads/2023/05/Bild_2023-05-12_170018304.png
END:VEVENT
BEGIN:VEVENT
DTSTART;TZID=Europe/Berlin:20280726T190000
DTEND;TZID=Europe/Berlin:20280726T190000
DTSTAMP:20260420T172420
CREATED:20230614T172553Z
LAST-MODIFIED:20251202T165443Z
UID:10004844-1848250800-1848250800@www.burlo-borkenwirthe.de
SUMMARY:Nordic-Walking in Bowi - Landfrauen
DESCRIPTION:Unsere Walking-Gruppe ist super angelaufen… \nNun möchten wir uns jeden Mittwoch um 19.00 Uhr in Borkenwirthe an der Kirche treffen\, um dann ca. 5 km zu walken. Wer Zeit und Lust dazu hat\, ist herzlich eingeladen. \nInfos bei Ann-Christin Wesseling-Effing unter 0157/38311701 \n 
URL:https://www.burlo-borkenwirthe.de/event/nordic-walking-in-bowi-landfrauen/2028-07-26/
CATEGORIES:Sport,Wanderungen
ATTACH;FMTTYPE=image/png:https://www.burlo-borkenwirthe.de/wp-content/uploads/2023/05/Bild_2023-05-12_170018304.png
END:VEVENT
BEGIN:VEVENT
DTSTART;TZID=Europe/Berlin:20280802T190000
DTEND;TZID=Europe/Berlin:20280802T190000
DTSTAMP:20260420T172420
CREATED:20230614T172553Z
LAST-MODIFIED:20251202T165443Z
UID:10004845-1848855600-1848855600@www.burlo-borkenwirthe.de
SUMMARY:Nordic-Walking in Bowi - Landfrauen
DESCRIPTION:Unsere Walking-Gruppe ist super angelaufen… \nNun möchten wir uns jeden Mittwoch um 19.00 Uhr in Borkenwirthe an der Kirche treffen\, um dann ca. 5 km zu walken. Wer Zeit und Lust dazu hat\, ist herzlich eingeladen. \nInfos bei Ann-Christin Wesseling-Effing unter 0157/38311701 \n 
URL:https://www.burlo-borkenwirthe.de/event/nordic-walking-in-bowi-landfrauen/2028-08-02/
CATEGORIES:Sport,Wanderungen
ATTACH;FMTTYPE=image/png:https://www.burlo-borkenwirthe.de/wp-content/uploads/2023/05/Bild_2023-05-12_170018304.png
END:VEVENT
BEGIN:VEVENT
DTSTART;TZID=Europe/Berlin:20280809T190000
DTEND;TZID=Europe/Berlin:20280809T190000
DTSTAMP:20260420T172420
CREATED:20230614T172553Z
LAST-MODIFIED:20251202T165443Z
UID:10004846-1849460400-1849460400@www.burlo-borkenwirthe.de
SUMMARY:Nordic-Walking in Bowi - Landfrauen
DESCRIPTION:Unsere Walking-Gruppe ist super angelaufen… \nNun möchten wir uns jeden Mittwoch um 19.00 Uhr in Borkenwirthe an der Kirche treffen\, um dann ca. 5 km zu walken. Wer Zeit und Lust dazu hat\, ist herzlich eingeladen. \nInfos bei Ann-Christin Wesseling-Effing unter 0157/38311701 \n 
URL:https://www.burlo-borkenwirthe.de/event/nordic-walking-in-bowi-landfrauen/2028-08-09/
CATEGORIES:Sport,Wanderungen
ATTACH;FMTTYPE=image/png:https://www.burlo-borkenwirthe.de/wp-content/uploads/2023/05/Bild_2023-05-12_170018304.png
END:VEVENT
BEGIN:VEVENT
DTSTART;TZID=Europe/Berlin:20280816T190000
DTEND;TZID=Europe/Berlin:20280816T190000
DTSTAMP:20260420T172420
CREATED:20230614T172553Z
LAST-MODIFIED:20251202T165443Z
UID:10004847-1850065200-1850065200@www.burlo-borkenwirthe.de
SUMMARY:Nordic-Walking in Bowi - Landfrauen
DESCRIPTION:Unsere Walking-Gruppe ist super angelaufen… \nNun möchten wir uns jeden Mittwoch um 19.00 Uhr in Borkenwirthe an der Kirche treffen\, um dann ca. 5 km zu walken. Wer Zeit und Lust dazu hat\, ist herzlich eingeladen. \nInfos bei Ann-Christin Wesseling-Effing unter 0157/38311701 \n 
URL:https://www.burlo-borkenwirthe.de/event/nordic-walking-in-bowi-landfrauen/2028-08-16/
CATEGORIES:Sport,Wanderungen
ATTACH;FMTTYPE=image/png:https://www.burlo-borkenwirthe.de/wp-content/uploads/2023/05/Bild_2023-05-12_170018304.png
END:VEVENT
BEGIN:VEVENT
DTSTART;TZID=Europe/Berlin:20280823T190000
DTEND;TZID=Europe/Berlin:20280823T190000
DTSTAMP:20260420T172420
CREATED:20230614T172553Z
LAST-MODIFIED:20251202T165443Z
UID:10004848-1850670000-1850670000@www.burlo-borkenwirthe.de
SUMMARY:Nordic-Walking in Bowi - Landfrauen
DESCRIPTION:Unsere Walking-Gruppe ist super angelaufen… \nNun möchten wir uns jeden Mittwoch um 19.00 Uhr in Borkenwirthe an der Kirche treffen\, um dann ca. 5 km zu walken. Wer Zeit und Lust dazu hat\, ist herzlich eingeladen. \nInfos bei Ann-Christin Wesseling-Effing unter 0157/38311701 \n 
URL:https://www.burlo-borkenwirthe.de/event/nordic-walking-in-bowi-landfrauen/2028-08-23/
CATEGORIES:Sport,Wanderungen
ATTACH;FMTTYPE=image/png:https://www.burlo-borkenwirthe.de/wp-content/uploads/2023/05/Bild_2023-05-12_170018304.png
END:VEVENT
BEGIN:VEVENT
DTSTART;TZID=Europe/Berlin:20280830T190000
DTEND;TZID=Europe/Berlin:20280830T190000
DTSTAMP:20260420T172420
CREATED:20230614T172553Z
LAST-MODIFIED:20251202T165443Z
UID:10004849-1851274800-1851274800@www.burlo-borkenwirthe.de
SUMMARY:Nordic-Walking in Bowi - Landfrauen
DESCRIPTION:Unsere Walking-Gruppe ist super angelaufen… \nNun möchten wir uns jeden Mittwoch um 19.00 Uhr in Borkenwirthe an der Kirche treffen\, um dann ca. 5 km zu walken. Wer Zeit und Lust dazu hat\, ist herzlich eingeladen. \nInfos bei Ann-Christin Wesseling-Effing unter 0157/38311701 \n 
URL:https://www.burlo-borkenwirthe.de/event/nordic-walking-in-bowi-landfrauen/2028-08-30/
CATEGORIES:Sport,Wanderungen
ATTACH;FMTTYPE=image/png:https://www.burlo-borkenwirthe.de/wp-content/uploads/2023/05/Bild_2023-05-12_170018304.png
END:VEVENT
BEGIN:VEVENT
DTSTART;TZID=Europe/Berlin:20280906T190000
DTEND;TZID=Europe/Berlin:20280906T190000
DTSTAMP:20260420T172420
CREATED:20230614T172553Z
LAST-MODIFIED:20251202T165443Z
UID:10004850-1851879600-1851879600@www.burlo-borkenwirthe.de
SUMMARY:Nordic-Walking in Bowi - Landfrauen
DESCRIPTION:Unsere Walking-Gruppe ist super angelaufen… \nNun möchten wir uns jeden Mittwoch um 19.00 Uhr in Borkenwirthe an der Kirche treffen\, um dann ca. 5 km zu walken. Wer Zeit und Lust dazu hat\, ist herzlich eingeladen. \nInfos bei Ann-Christin Wesseling-Effing unter 0157/38311701 \n 
URL:https://www.burlo-borkenwirthe.de/event/nordic-walking-in-bowi-landfrauen/2028-09-06/
CATEGORIES:Sport,Wanderungen
ATTACH;FMTTYPE=image/png:https://www.burlo-borkenwirthe.de/wp-content/uploads/2023/05/Bild_2023-05-12_170018304.png
END:VEVENT
BEGIN:VEVENT
DTSTART;TZID=Europe/Berlin:20280913T190000
DTEND;TZID=Europe/Berlin:20280913T190000
DTSTAMP:20260420T172420
CREATED:20230614T172553Z
LAST-MODIFIED:20251202T165443Z
UID:10004851-1852484400-1852484400@www.burlo-borkenwirthe.de
SUMMARY:Nordic-Walking in Bowi - Landfrauen
DESCRIPTION:Unsere Walking-Gruppe ist super angelaufen… \nNun möchten wir uns jeden Mittwoch um 19.00 Uhr in Borkenwirthe an der Kirche treffen\, um dann ca. 5 km zu walken. Wer Zeit und Lust dazu hat\, ist herzlich eingeladen. \nInfos bei Ann-Christin Wesseling-Effing unter 0157/38311701 \n 
URL:https://www.burlo-borkenwirthe.de/event/nordic-walking-in-bowi-landfrauen/2028-09-13/
CATEGORIES:Sport,Wanderungen
ATTACH;FMTTYPE=image/png:https://www.burlo-borkenwirthe.de/wp-content/uploads/2023/05/Bild_2023-05-12_170018304.png
END:VEVENT
BEGIN:VEVENT
DTSTART;TZID=Europe/Berlin:20280920T190000
DTEND;TZID=Europe/Berlin:20280920T190000
DTSTAMP:20260420T172420
CREATED:20230614T172553Z
LAST-MODIFIED:20251202T165443Z
UID:10004852-1853089200-1853089200@www.burlo-borkenwirthe.de
SUMMARY:Nordic-Walking in Bowi - Landfrauen
DESCRIPTION:Unsere Walking-Gruppe ist super angelaufen… \nNun möchten wir uns jeden Mittwoch um 19.00 Uhr in Borkenwirthe an der Kirche treffen\, um dann ca. 5 km zu walken. Wer Zeit und Lust dazu hat\, ist herzlich eingeladen. \nInfos bei Ann-Christin Wesseling-Effing unter 0157/38311701 \n 
URL:https://www.burlo-borkenwirthe.de/event/nordic-walking-in-bowi-landfrauen/2028-09-20/
CATEGORIES:Sport,Wanderungen
ATTACH;FMTTYPE=image/png:https://www.burlo-borkenwirthe.de/wp-content/uploads/2023/05/Bild_2023-05-12_170018304.png
END:VEVENT
BEGIN:VEVENT
DTSTART;TZID=Europe/Berlin:20280927T190000
DTEND;TZID=Europe/Berlin:20280927T190000
DTSTAMP:20260420T172420
CREATED:20230614T172553Z
LAST-MODIFIED:20251202T165443Z
UID:10004853-1853694000-1853694000@www.burlo-borkenwirthe.de
SUMMARY:Nordic-Walking in Bowi - Landfrauen
DESCRIPTION:Unsere Walking-Gruppe ist super angelaufen… \nNun möchten wir uns jeden Mittwoch um 19.00 Uhr in Borkenwirthe an der Kirche treffen\, um dann ca. 5 km zu walken. Wer Zeit und Lust dazu hat\, ist herzlich eingeladen. \nInfos bei Ann-Christin Wesseling-Effing unter 0157/38311701 \n 
URL:https://www.burlo-borkenwirthe.de/event/nordic-walking-in-bowi-landfrauen/2028-09-27/
CATEGORIES:Sport,Wanderungen
ATTACH;FMTTYPE=image/png:https://www.burlo-borkenwirthe.de/wp-content/uploads/2023/05/Bild_2023-05-12_170018304.png
END:VEVENT
BEGIN:VEVENT
DTSTART;TZID=Europe/Berlin:20281004T190000
DTEND;TZID=Europe/Berlin:20281004T190000
DTSTAMP:20260420T172420
CREATED:20230614T172553Z
LAST-MODIFIED:20251202T165443Z
UID:10004854-1854298800-1854298800@www.burlo-borkenwirthe.de
SUMMARY:Nordic-Walking in Bowi - Landfrauen
DESCRIPTION:Unsere Walking-Gruppe ist super angelaufen… \nNun möchten wir uns jeden Mittwoch um 19.00 Uhr in Borkenwirthe an der Kirche treffen\, um dann ca. 5 km zu walken. Wer Zeit und Lust dazu hat\, ist herzlich eingeladen. \nInfos bei Ann-Christin Wesseling-Effing unter 0157/38311701 \n 
URL:https://www.burlo-borkenwirthe.de/event/nordic-walking-in-bowi-landfrauen/2028-10-04/
CATEGORIES:Sport,Wanderungen
ATTACH;FMTTYPE=image/png:https://www.burlo-borkenwirthe.de/wp-content/uploads/2023/05/Bild_2023-05-12_170018304.png
END:VEVENT
BEGIN:VEVENT
DTSTART;TZID=Europe/Berlin:20281011T190000
DTEND;TZID=Europe/Berlin:20281011T190000
DTSTAMP:20260420T172420
CREATED:20230614T172553Z
LAST-MODIFIED:20251202T165443Z
UID:10004855-1854903600-1854903600@www.burlo-borkenwirthe.de
SUMMARY:Nordic-Walking in Bowi - Landfrauen
DESCRIPTION:Unsere Walking-Gruppe ist super angelaufen… \nNun möchten wir uns jeden Mittwoch um 19.00 Uhr in Borkenwirthe an der Kirche treffen\, um dann ca. 5 km zu walken. Wer Zeit und Lust dazu hat\, ist herzlich eingeladen. \nInfos bei Ann-Christin Wesseling-Effing unter 0157/38311701 \n 
URL:https://www.burlo-borkenwirthe.de/event/nordic-walking-in-bowi-landfrauen/2028-10-11/
CATEGORIES:Sport,Wanderungen
ATTACH;FMTTYPE=image/png:https://www.burlo-borkenwirthe.de/wp-content/uploads/2023/05/Bild_2023-05-12_170018304.png
END:VEVENT
BEGIN:VEVENT
DTSTART;TZID=Europe/Berlin:20281018T190000
DTEND;TZID=Europe/Berlin:20281018T190000
DTSTAMP:20260420T172420
CREATED:20230614T172553Z
LAST-MODIFIED:20251202T165443Z
UID:10004856-1855508400-1855508400@www.burlo-borkenwirthe.de
SUMMARY:Nordic-Walking in Bowi - Landfrauen
DESCRIPTION:Unsere Walking-Gruppe ist super angelaufen… \nNun möchten wir uns jeden Mittwoch um 19.00 Uhr in Borkenwirthe an der Kirche treffen\, um dann ca. 5 km zu walken. Wer Zeit und Lust dazu hat\, ist herzlich eingeladen. \nInfos bei Ann-Christin Wesseling-Effing unter 0157/38311701 \n 
URL:https://www.burlo-borkenwirthe.de/event/nordic-walking-in-bowi-landfrauen/2028-10-18/
CATEGORIES:Sport,Wanderungen
ATTACH;FMTTYPE=image/png:https://www.burlo-borkenwirthe.de/wp-content/uploads/2023/05/Bild_2023-05-12_170018304.png
END:VEVENT
BEGIN:VEVENT
DTSTART;TZID=Europe/Berlin:20281025T190000
DTEND;TZID=Europe/Berlin:20281025T190000
DTSTAMP:20260420T172420
CREATED:20230614T172553Z
LAST-MODIFIED:20251202T165443Z
UID:10004857-1856113200-1856113200@www.burlo-borkenwirthe.de
SUMMARY:Nordic-Walking in Bowi - Landfrauen
DESCRIPTION:Unsere Walking-Gruppe ist super angelaufen… \nNun möchten wir uns jeden Mittwoch um 19.00 Uhr in Borkenwirthe an der Kirche treffen\, um dann ca. 5 km zu walken. Wer Zeit und Lust dazu hat\, ist herzlich eingeladen. \nInfos bei Ann-Christin Wesseling-Effing unter 0157/38311701 \n 
URL:https://www.burlo-borkenwirthe.de/event/nordic-walking-in-bowi-landfrauen/2028-10-25/
CATEGORIES:Sport,Wanderungen
ATTACH;FMTTYPE=image/png:https://www.burlo-borkenwirthe.de/wp-content/uploads/2023/05/Bild_2023-05-12_170018304.png
END:VEVENT
BEGIN:VEVENT
DTSTART;TZID=Europe/Berlin:20281101T190000
DTEND;TZID=Europe/Berlin:20281101T190000
DTSTAMP:20260420T172420
CREATED:20230614T172553Z
LAST-MODIFIED:20251202T165443Z
UID:10004858-1856718000-1856718000@www.burlo-borkenwirthe.de
SUMMARY:Nordic-Walking in Bowi - Landfrauen
DESCRIPTION:Unsere Walking-Gruppe ist super angelaufen… \nNun möchten wir uns jeden Mittwoch um 19.00 Uhr in Borkenwirthe an der Kirche treffen\, um dann ca. 5 km zu walken. Wer Zeit und Lust dazu hat\, ist herzlich eingeladen. \nInfos bei Ann-Christin Wesseling-Effing unter 0157/38311701 \n 
URL:https://www.burlo-borkenwirthe.de/event/nordic-walking-in-bowi-landfrauen/2028-11-01/
CATEGORIES:Sport,Wanderungen
ATTACH;FMTTYPE=image/png:https://www.burlo-borkenwirthe.de/wp-content/uploads/2023/05/Bild_2023-05-12_170018304.png
END:VEVENT
BEGIN:VEVENT
DTSTART;TZID=Europe/Berlin:20281108T190000
DTEND;TZID=Europe/Berlin:20281108T190000
DTSTAMP:20260420T172420
CREATED:20230614T172553Z
LAST-MODIFIED:20251202T165443Z
UID:10004859-1857322800-1857322800@www.burlo-borkenwirthe.de
SUMMARY:Nordic-Walking in Bowi - Landfrauen
DESCRIPTION:Unsere Walking-Gruppe ist super angelaufen… \nNun möchten wir uns jeden Mittwoch um 19.00 Uhr in Borkenwirthe an der Kirche treffen\, um dann ca. 5 km zu walken. Wer Zeit und Lust dazu hat\, ist herzlich eingeladen. \nInfos bei Ann-Christin Wesseling-Effing unter 0157/38311701 \n 
URL:https://www.burlo-borkenwirthe.de/event/nordic-walking-in-bowi-landfrauen/2028-11-08/
CATEGORIES:Sport,Wanderungen
ATTACH;FMTTYPE=image/png:https://www.burlo-borkenwirthe.de/wp-content/uploads/2023/05/Bild_2023-05-12_170018304.png
END:VEVENT
BEGIN:VEVENT
DTSTART;TZID=Europe/Berlin:20281115T190000
DTEND;TZID=Europe/Berlin:20281115T190000
DTSTAMP:20260420T172420
CREATED:20230614T172553Z
LAST-MODIFIED:20251202T165443Z
UID:10004860-1857927600-1857927600@www.burlo-borkenwirthe.de
SUMMARY:Nordic-Walking in Bowi - Landfrauen
DESCRIPTION:Unsere Walking-Gruppe ist super angelaufen… \nNun möchten wir uns jeden Mittwoch um 19.00 Uhr in Borkenwirthe an der Kirche treffen\, um dann ca. 5 km zu walken. Wer Zeit und Lust dazu hat\, ist herzlich eingeladen. \nInfos bei Ann-Christin Wesseling-Effing unter 0157/38311701 \n 
URL:https://www.burlo-borkenwirthe.de/event/nordic-walking-in-bowi-landfrauen/2028-11-15/
CATEGORIES:Sport,Wanderungen
ATTACH;FMTTYPE=image/png:https://www.burlo-borkenwirthe.de/wp-content/uploads/2023/05/Bild_2023-05-12_170018304.png
END:VEVENT
BEGIN:VEVENT
DTSTART;TZID=Europe/Berlin:20281122T190000
DTEND;TZID=Europe/Berlin:20281122T190000
DTSTAMP:20260420T172420
CREATED:20230614T172553Z
LAST-MODIFIED:20251202T165443Z
UID:10004861-1858532400-1858532400@www.burlo-borkenwirthe.de
SUMMARY:Nordic-Walking in Bowi - Landfrauen
DESCRIPTION:Unsere Walking-Gruppe ist super angelaufen… \nNun möchten wir uns jeden Mittwoch um 19.00 Uhr in Borkenwirthe an der Kirche treffen\, um dann ca. 5 km zu walken. Wer Zeit und Lust dazu hat\, ist herzlich eingeladen. \nInfos bei Ann-Christin Wesseling-Effing unter 0157/38311701 \n 
URL:https://www.burlo-borkenwirthe.de/event/nordic-walking-in-bowi-landfrauen/2028-11-22/
CATEGORIES:Sport,Wanderungen
ATTACH;FMTTYPE=image/png:https://www.burlo-borkenwirthe.de/wp-content/uploads/2023/05/Bild_2023-05-12_170018304.png
END:VEVENT
BEGIN:VEVENT
DTSTART;TZID=Europe/Berlin:20281129T190000
DTEND;TZID=Europe/Berlin:20281129T190000
DTSTAMP:20260420T172420
CREATED:20230614T172553Z
LAST-MODIFIED:20251202T165443Z
UID:10004862-1859137200-1859137200@www.burlo-borkenwirthe.de
SUMMARY:Nordic-Walking in Bowi - Landfrauen
DESCRIPTION:Unsere Walking-Gruppe ist super angelaufen… \nNun möchten wir uns jeden Mittwoch um 19.00 Uhr in Borkenwirthe an der Kirche treffen\, um dann ca. 5 km zu walken. Wer Zeit und Lust dazu hat\, ist herzlich eingeladen. \nInfos bei Ann-Christin Wesseling-Effing unter 0157/38311701 \n 
URL:https://www.burlo-borkenwirthe.de/event/nordic-walking-in-bowi-landfrauen/2028-11-29/
CATEGORIES:Sport,Wanderungen
ATTACH;FMTTYPE=image/png:https://www.burlo-borkenwirthe.de/wp-content/uploads/2023/05/Bild_2023-05-12_170018304.png
END:VEVENT
END:VCALENDAR